BEGIN:VCALENDAR
VERSION:2.0
PRODID:-//Der Maulbär - ECPv6.15.17.1//NONSGML v1.0//EN
CALSCALE:GREGORIAN
METHOD:PUBLISH
X-WR-CALNAME:Der Maulbär
X-ORIGINAL-URL:https://maulbeerblatt.com
X-WR-CALDESC:Veranstaltungen für Der Maulbär
REFRESH-INTERVAL;VALUE=DURATION:PT1H
X-Robots-Tag:noindex
X-PUBLISHED-TTL:PT1H
BEGIN:VTIMEZONE
TZID:Europe/Berlin
BEGIN:DAYLIGHT
TZOFFSETFROM:+0100
TZOFFSETTO:+0200
TZNAME:CEST
DTSTART:20250330T010000
END:DAYLIGHT
BEGIN:STANDARD
TZOFFSETFROM:+0200
TZOFFSETTO:+0100
TZNAME:CET
DTSTART:20251026T010000
END:STANDARD
BEGIN:DAYLIGHT
TZOFFSETFROM:+0100
TZOFFSETTO:+0200
TZNAME:CEST
DTSTART:20260329T010000
END:DAYLIGHT
BEGIN:STANDARD
TZOFFSETFROM:+0200
TZOFFSETTO:+0100
TZNAME:CET
DTSTART:20261025T010000
END:STANDARD
BEGIN:DAYLIGHT
TZOFFSETFROM:+0100
TZOFFSETTO:+0200
TZNAME:CEST
DTSTART:20270328T010000
END:DAYLIGHT
BEGIN:STANDARD
TZOFFSETFROM:+0200
TZOFFSETTO:+0100
TZNAME:CET
DTSTART:20271031T010000
END:STANDARD
END:VTIMEZONE
BEGIN:VEVENT
DTSTART;TZID=Europe/Berlin:20260519T130000
DTEND;TZID=Europe/Berlin:20260519T190000
DTSTAMP:20260419T201247
CREATED:20260414T125134Z
LAST-MODIFIED:20260414T125134Z
UID:10094039-1779195600-1779217200@maulbeerblatt.com
SUMMARY:Er-Leben
DESCRIPTION:Arbeiten von TeilnehmerInnen der Mal- und Zeichengruppe der KBS Treptow/Adlershof (ajb gmbh)
URL:https://maulbeerblatt.com/termin/er-leben-5/2026-05-19/
LOCATION:Galerie Grünstraße\, Grünstraße 22 (Eingang Böttcherstraße)\, Berlin Köpenick\, Berlin\, 12587\, Deutschland
CATEGORIES:Ausstellung
GEO:52.44492;13.5751
X-APPLE-STRUCTURED-LOCATION;VALUE=URI;X-ADDRESS=Galerie Grünstraße Grünstraße 22 (Eingang Böttcherstraße) Berlin Köpenick Berlin 12587 Deutschland;X-APPLE-RADIUS=500;X-TITLE=Grünstraße 22 (Eingang Böttcherstraße):geo:13.5751,52.44492
END:VEVENT
BEGIN:VEVENT
DTSTART;TZID=Europe/Berlin:20260520T130000
DTEND;TZID=Europe/Berlin:20260520T190000
DTSTAMP:20260419T201247
CREATED:20260414T125134Z
LAST-MODIFIED:20260414T125134Z
UID:10094040-1779282000-1779303600@maulbeerblatt.com
SUMMARY:Er-Leben
DESCRIPTION:Arbeiten von TeilnehmerInnen der Mal- und Zeichengruppe der KBS Treptow/Adlershof (ajb gmbh)
URL:https://maulbeerblatt.com/termin/er-leben-5/2026-05-20/
LOCATION:Galerie Grünstraße\, Grünstraße 22 (Eingang Böttcherstraße)\, Berlin Köpenick\, Berlin\, 12587\, Deutschland
CATEGORIES:Ausstellung
GEO:52.44492;13.5751
X-APPLE-STRUCTURED-LOCATION;VALUE=URI;X-ADDRESS=Galerie Grünstraße Grünstraße 22 (Eingang Böttcherstraße) Berlin Köpenick Berlin 12587 Deutschland;X-APPLE-RADIUS=500;X-TITLE=Grünstraße 22 (Eingang Böttcherstraße):geo:13.5751,52.44492
END:VEVENT
BEGIN:VEVENT
DTSTART;TZID=Europe/Berlin:20260526T130000
DTEND;TZID=Europe/Berlin:20260526T190000
DTSTAMP:20260419T201247
CREATED:20260414T125134Z
LAST-MODIFIED:20260414T125134Z
UID:10094041-1779800400-1779822000@maulbeerblatt.com
SUMMARY:Er-Leben
DESCRIPTION:Arbeiten von TeilnehmerInnen der Mal- und Zeichengruppe der KBS Treptow/Adlershof (ajb gmbh)
URL:https://maulbeerblatt.com/termin/er-leben-5/2026-05-26/
LOCATION:Galerie Grünstraße\, Grünstraße 22 (Eingang Böttcherstraße)\, Berlin Köpenick\, Berlin\, 12587\, Deutschland
CATEGORIES:Ausstellung
GEO:52.44492;13.5751
X-APPLE-STRUCTURED-LOCATION;VALUE=URI;X-ADDRESS=Galerie Grünstraße Grünstraße 22 (Eingang Böttcherstraße) Berlin Köpenick Berlin 12587 Deutschland;X-APPLE-RADIUS=500;X-TITLE=Grünstraße 22 (Eingang Böttcherstraße):geo:13.5751,52.44492
END:VEVENT
BEGIN:VEVENT
DTSTART;TZID=Europe/Berlin:20260527T130000
DTEND;TZID=Europe/Berlin:20260527T190000
DTSTAMP:20260419T201247
CREATED:20260414T125134Z
LAST-MODIFIED:20260414T125134Z
UID:10094042-1779886800-1779908400@maulbeerblatt.com
SUMMARY:Er-Leben
DESCRIPTION:Arbeiten von TeilnehmerInnen der Mal- und Zeichengruppe der KBS Treptow/Adlershof (ajb gmbh)
URL:https://maulbeerblatt.com/termin/er-leben-5/2026-05-27/
LOCATION:Galerie Grünstraße\, Grünstraße 22 (Eingang Böttcherstraße)\, Berlin Köpenick\, Berlin\, 12587\, Deutschland
CATEGORIES:Ausstellung
GEO:52.44492;13.5751
X-APPLE-STRUCTURED-LOCATION;VALUE=URI;X-ADDRESS=Galerie Grünstraße Grünstraße 22 (Eingang Böttcherstraße) Berlin Köpenick Berlin 12587 Deutschland;X-APPLE-RADIUS=500;X-TITLE=Grünstraße 22 (Eingang Böttcherstraße):geo:13.5751,52.44492
END:VEVENT
BEGIN:VEVENT
DTSTART;TZID=Europe/Berlin:20260602T130000
DTEND;TZID=Europe/Berlin:20260602T190000
DTSTAMP:20260419T201247
CREATED:20260414T125134Z
LAST-MODIFIED:20260414T125134Z
UID:10094043-1780405200-1780426800@maulbeerblatt.com
SUMMARY:Er-Leben
DESCRIPTION:Arbeiten von TeilnehmerInnen der Mal- und Zeichengruppe der KBS Treptow/Adlershof (ajb gmbh)
URL:https://maulbeerblatt.com/termin/er-leben-5/2026-06-02/
LOCATION:Galerie Grünstraße\, Grünstraße 22 (Eingang Böttcherstraße)\, Berlin Köpenick\, Berlin\, 12587\, Deutschland
CATEGORIES:Ausstellung
GEO:52.44492;13.5751
X-APPLE-STRUCTURED-LOCATION;VALUE=URI;X-ADDRESS=Galerie Grünstraße Grünstraße 22 (Eingang Böttcherstraße) Berlin Köpenick Berlin 12587 Deutschland;X-APPLE-RADIUS=500;X-TITLE=Grünstraße 22 (Eingang Böttcherstraße):geo:13.5751,52.44492
END:VEVENT
BEGIN:VEVENT
DTSTART;TZID=Europe/Berlin:20260603T130000
DTEND;TZID=Europe/Berlin:20260603T190000
DTSTAMP:20260419T201247
CREATED:20260414T125134Z
LAST-MODIFIED:20260414T125134Z
UID:10094044-1780491600-1780513200@maulbeerblatt.com
SUMMARY:Er-Leben
DESCRIPTION:Arbeiten von TeilnehmerInnen der Mal- und Zeichengruppe der KBS Treptow/Adlershof (ajb gmbh)
URL:https://maulbeerblatt.com/termin/er-leben-5/2026-06-03/
LOCATION:Galerie Grünstraße\, Grünstraße 22 (Eingang Böttcherstraße)\, Berlin Köpenick\, Berlin\, 12587\, Deutschland
CATEGORIES:Ausstellung
GEO:52.44492;13.5751
X-APPLE-STRUCTURED-LOCATION;VALUE=URI;X-ADDRESS=Galerie Grünstraße Grünstraße 22 (Eingang Böttcherstraße) Berlin Köpenick Berlin 12587 Deutschland;X-APPLE-RADIUS=500;X-TITLE=Grünstraße 22 (Eingang Böttcherstraße):geo:13.5751,52.44492
END:VEVENT
BEGIN:VEVENT
DTSTART;TZID=Europe/Berlin:20260609T130000
DTEND;TZID=Europe/Berlin:20260609T190000
DTSTAMP:20260419T201247
CREATED:20260414T125134Z
LAST-MODIFIED:20260414T125134Z
UID:10094045-1781010000-1781031600@maulbeerblatt.com
SUMMARY:Er-Leben
DESCRIPTION:Arbeiten von TeilnehmerInnen der Mal- und Zeichengruppe der KBS Treptow/Adlershof (ajb gmbh)
URL:https://maulbeerblatt.com/termin/er-leben-5/2026-06-09/
LOCATION:Galerie Grünstraße\, Grünstraße 22 (Eingang Böttcherstraße)\, Berlin Köpenick\, Berlin\, 12587\, Deutschland
CATEGORIES:Ausstellung
GEO:52.44492;13.5751
X-APPLE-STRUCTURED-LOCATION;VALUE=URI;X-ADDRESS=Galerie Grünstraße Grünstraße 22 (Eingang Böttcherstraße) Berlin Köpenick Berlin 12587 Deutschland;X-APPLE-RADIUS=500;X-TITLE=Grünstraße 22 (Eingang Böttcherstraße):geo:13.5751,52.44492
END:VEVENT
BEGIN:VEVENT
DTSTART;TZID=Europe/Berlin:20260610T130000
DTEND;TZID=Europe/Berlin:20260610T190000
DTSTAMP:20260419T201247
CREATED:20260414T125134Z
LAST-MODIFIED:20260414T125134Z
UID:10094046-1781096400-1781118000@maulbeerblatt.com
SUMMARY:Er-Leben
DESCRIPTION:Arbeiten von TeilnehmerInnen der Mal- und Zeichengruppe der KBS Treptow/Adlershof (ajb gmbh)
URL:https://maulbeerblatt.com/termin/er-leben-5/2026-06-10/
LOCATION:Galerie Grünstraße\, Grünstraße 22 (Eingang Böttcherstraße)\, Berlin Köpenick\, Berlin\, 12587\, Deutschland
CATEGORIES:Ausstellung
GEO:52.44492;13.5751
X-APPLE-STRUCTURED-LOCATION;VALUE=URI;X-ADDRESS=Galerie Grünstraße Grünstraße 22 (Eingang Böttcherstraße) Berlin Köpenick Berlin 12587 Deutschland;X-APPLE-RADIUS=500;X-TITLE=Grünstraße 22 (Eingang Böttcherstraße):geo:13.5751,52.44492
END:VEVENT
END:VCALENDAR