BEGIN:VCALENDAR
VERSION:2.0
PRODID:-//Der Maulbär - ECPv6.15.17.1//NONSGML v1.0//EN
CALSCALE:GREGORIAN
METHOD:PUBLISH
X-WR-CALNAME:Der Maulbär
X-ORIGINAL-URL:https://maulbeerblatt.com
X-WR-CALDESC:Veranstaltungen für Der Maulbär
REFRESH-INTERVAL;VALUE=DURATION:PT1H
X-Robots-Tag:noindex
X-PUBLISHED-TTL:PT1H
BEGIN:VTIMEZONE
TZID:Europe/Berlin
BEGIN:DAYLIGHT
TZOFFSETFROM:+0100
TZOFFSETTO:+0200
TZNAME:CEST
DTSTART:20250330T010000
END:DAYLIGHT
BEGIN:STANDARD
TZOFFSETFROM:+0200
TZOFFSETTO:+0100
TZNAME:CET
DTSTART:20251026T010000
END:STANDARD
BEGIN:DAYLIGHT
TZOFFSETFROM:+0100
TZOFFSETTO:+0200
TZNAME:CEST
DTSTART:20260329T010000
END:DAYLIGHT
BEGIN:STANDARD
TZOFFSETFROM:+0200
TZOFFSETTO:+0100
TZNAME:CET
DTSTART:20261025T010000
END:STANDARD
BEGIN:DAYLIGHT
TZOFFSETFROM:+0100
TZOFFSETTO:+0200
TZNAME:CEST
DTSTART:20270328T010000
END:DAYLIGHT
BEGIN:STANDARD
TZOFFSETFROM:+0200
TZOFFSETTO:+0100
TZNAME:CET
DTSTART:20271031T010000
END:STANDARD
END:VTIMEZONE
BEGIN:VEVENT
DTSTART;TZID=Europe/Berlin:20260522T180000
DTEND;TZID=Europe/Berlin:20260522T220000
DTSTAMP:20260421T070824
CREATED:20260417T102239Z
LAST-MODIFIED:20260417T102239Z
UID:10094116-1779472800-1779487200@maulbeerblatt.com
SUMMARY:Taktloser Freitag: Baume
DESCRIPTION:Rockmusik tief aus der Seele des Kult-Kiez Baumschulenweg\, Deutsch-Rock-Pop und eigene Songs\nEintritt frei
URL:https://maulbeerblatt.com/termin/taktloser-freitag-baume/2026-05-22/
LOCATION:Späth’sche Baumschulen\, Späthstraße 80/81\, Berlin\, 12437\, Deutschland
CATEGORIES:Konzert
GEO:52.4543296;13.4737215
X-APPLE-STRUCTURED-LOCATION;VALUE=URI;X-ADDRESS=Späth’sche Baumschulen Späthstraße 80/81 Berlin 12437 Deutschland;X-APPLE-RADIUS=500;X-TITLE=Späthstraße 80/81:geo:13.4737215,52.4543296
END:VEVENT
BEGIN:VEVENT
DTSTART;TZID=Europe/Berlin:20260828T180000
DTEND;TZID=Europe/Berlin:20260828T220000
DTSTAMP:20260421T070824
CREATED:20260417T102239Z
LAST-MODIFIED:20260417T102239Z
UID:10094117-1787940000-1787954400@maulbeerblatt.com
SUMMARY:Taktloser Freitag: Baume
DESCRIPTION:Rockmusik tief aus der Seele des Kult-Kiez Baumschulenweg\, Deutsch-Rock-Pop und eigene Songs\nEintritt frei
URL:https://maulbeerblatt.com/termin/taktloser-freitag-baume/2026-08-28/
LOCATION:Späth’sche Baumschulen\, Späthstraße 80/81\, Berlin\, 12437\, Deutschland
CATEGORIES:Konzert
GEO:52.4543296;13.4737215
X-APPLE-STRUCTURED-LOCATION;VALUE=URI;X-ADDRESS=Späth’sche Baumschulen Späthstraße 80/81 Berlin 12437 Deutschland;X-APPLE-RADIUS=500;X-TITLE=Späthstraße 80/81:geo:13.4737215,52.4543296
END:VEVENT
END:VCALENDAR