BEGIN:VCALENDAR
VERSION:2.0
PRODID:-//Der Maulbär - ECPv6.15.17.1//NONSGML v1.0//EN
CALSCALE:GREGORIAN
METHOD:PUBLISH
X-ORIGINAL-URL:https://maulbeerblatt.com
X-WR-CALDESC:Veranstaltungen für Der Maulbär
REFRESH-INTERVAL;VALUE=DURATION:PT1H
X-Robots-Tag:noindex
X-PUBLISHED-TTL:PT1H
BEGIN:VTIMEZONE
TZID:Europe/Berlin
BEGIN:DAYLIGHT
TZOFFSETFROM:+0100
TZOFFSETTO:+0200
TZNAME:CEST
DTSTART:20250330T010000
END:DAYLIGHT
BEGIN:STANDARD
TZOFFSETFROM:+0200
TZOFFSETTO:+0100
TZNAME:CET
DTSTART:20251026T010000
END:STANDARD
BEGIN:DAYLIGHT
TZOFFSETFROM:+0100
TZOFFSETTO:+0200
TZNAME:CEST
DTSTART:20260329T010000
END:DAYLIGHT
BEGIN:STANDARD
TZOFFSETFROM:+0200
TZOFFSETTO:+0100
TZNAME:CET
DTSTART:20261025T010000
END:STANDARD
BEGIN:DAYLIGHT
TZOFFSETFROM:+0100
TZOFFSETTO:+0200
TZNAME:CEST
DTSTART:20270328T010000
END:DAYLIGHT
BEGIN:STANDARD
TZOFFSETFROM:+0200
TZOFFSETTO:+0100
TZNAME:CET
DTSTART:20271031T010000
END:STANDARD
END:VTIMEZONE
BEGIN:VEVENT
DTSTART;TZID=Europe/Berlin:20260510T160000
DTEND;TZID=Europe/Berlin:20260510T170000
DTSTAMP:20260425T131600
CREATED:20260414T095829Z
LAST-MODIFIED:20260414T095829Z
UID:10093693-1778428800-1778432400@maulbeerblatt.com
SUMMARY:Alte Lieder – Traute Weisen
DESCRIPTION:Neu bei uns in der Stube! Wer Spaß hat an Bänkelgesängen wie „Sabinchen war ein Frauenzimmer“ oder „Mariechen saß weinend im Garten“\, an Stimmungs-Volksliedern wie „Es hat ein Bauer ein junges Weib“\, an Sinnsprüchen aus Omas Zeiten wie „Sei wie das Veilchen im Moose\, bescheiden\, sittsam und rein“ und an Dienstmädchen-Dienstherrin-Anekdoten\, der wird sich bei diesem Abend prima amüsieren!\nDie Schauspielerinnen Jutta Kausch und Marion Reck geben in biederer altberliner Küchenkulisse kartoffelschälend und singend mit erfrischender Spielfreude etliches aus der „guten alten Zeit“ zum Besten\, wo voreheliche Liebe oft einen tragischen Ausgang nahm\, am Ast hängend oder mit zerschnittenem Schlund vor des Schusters Füßen. Wo man noch seufzend sich verzehrte und vor Sehnsucht verging. Am Klavier steht ihnen Stefanie Rediske zur Seite. Ein unterhaltsamer Abend\, wo man sich bei einem Glas Wein in die „gute alte Zeit“ zurückversetzen kann\, die so gut vielleicht gar nicht war. \nTriole mit Marion Reck und Jutta Kausch und Stefanie Rediske am Klavier.
URL:https://maulbeerblatt.com/termin/alte-lieder-traute-weisen-2/
LOCATION:Altstadttheater Köpenick (Zilles Stubentheater/Hinterhof)\, Jägerstraße 4\, Berlin\, 12555\, Deutschland
CATEGORIES:Kabarett
GEO:52.4458319;13.5777794
X-APPLE-STRUCTURED-LOCATION;VALUE=URI;X-ADDRESS=Altstadttheater Köpenick (Zilles Stubentheater/Hinterhof) Jägerstraße 4 Berlin 12555 Deutschland;X-APPLE-RADIUS=500;X-TITLE=Jägerstraße 4:geo:13.5777794,52.4458319
END:VEVENT
BEGIN:VEVENT
DTSTART;TZID=Europe/Berlin:20260520T150000
DTEND;TZID=Europe/Berlin:20260520T170000
DTSTAMP:20260425T131600
CREATED:20260414T100021Z
LAST-MODIFIED:20260414T100021Z
UID:10093694-1779289200-1779296400@maulbeerblatt.com
SUMMARY:Zille allein zu Haus
DESCRIPTION:Hier entführt Sie Heinrich Zille\, der bekannte Maler\, Grafiker und Fotograf (1858–1929)\, alias Albrecht Hoffmann\, mit einer musikalisch unterhaltsamen Zeitreise ins Zille Milljöh. Zilles Frau Hulda ist mal wieder mittwochs ausgegangen und Zille allein zu Haus kann unverhofft Besuch empfangen\, Sie!\nDabei gibt’s neben bekannten Gassenhauern und Anekdoten aus den Hinterhöfen Alt-Berlins\, sogar een Schälchen Heeßen und Kuchen. \nEine musikalisch unterhaltsame Zeitreise ins Alt-Berlin des Zille-Milljöhs zu Kaffee und Kuchen und Zille-Darsteller Albrecht Hoffmann mittendrin. Sehenswert und ein Highlight für jeden Altstadt-Besuch.
URL:https://maulbeerblatt.com/termin/zille-allein-zu-haus-2/2026-05-20/
LOCATION:Altstadttheater Köpenick (Zilles Stubentheater/Hinterhof)\, Jägerstraße 4\, Berlin\, 12555\, Deutschland
CATEGORIES:Kabarett
GEO:52.4458319;13.5777794
X-APPLE-STRUCTURED-LOCATION;VALUE=URI;X-ADDRESS=Altstadttheater Köpenick (Zilles Stubentheater/Hinterhof) Jägerstraße 4 Berlin 12555 Deutschland;X-APPLE-RADIUS=500;X-TITLE=Jägerstraße 4:geo:13.5777794,52.4458319
END:VEVENT
BEGIN:VEVENT
DTSTART;TZID=Europe/Berlin:20260520T190000
DTEND;TZID=Europe/Berlin:20260520T200000
DTSTAMP:20260425T131600
CREATED:20260414T104642Z
LAST-MODIFIED:20260414T104642Z
UID:10093697-1779303600-1779307200@maulbeerblatt.com
SUMMARY:… iss doch wurscht!
DESCRIPTION:Eines der beliebten Zille-Programme ist „… iss doch wurscht!“.\nJeden Mittwoch-Abend (mit Ausnahmen) lädt Sie Heinrich Zille\, der bekannte Maler\, Grafiker und Fotograf (1858–1929)\, alias Albrecht Hoffmann\, zu seinem Programm in seine Stube im Gründerzeit-Ambiente ein. Erbswurstsuppe inklusive. Die ist nämlich eine der vielen Alt-Berliner Erfindungen\, die an diesem Abend nicht nur präsentiert\, sondern auch vor Ort gekocht und verkostet wird. Es erwartet Sie eine humorvolle Zeitreise in das Alt-Berlin zur Zille Zeit\, mit Musik\, Wissenswertem und Anekdoten. \nDas Zille-Milljöh präsentiert mit Liedern und Geschichten der Hinterhöfe Alt-Berlins und mit spielerisch gewürzter Erbswurstsuppe serviert. Sehenswert und ein Highlight für jeden Altstadt-Besuch. \nInkl. 1 Erbswurstsuppen-Verköstigung.
URL:https://maulbeerblatt.com/termin/iss-doch-wurscht/2026-05-20/
LOCATION:Altstadttheater Köpenick (Zilles Stubentheater/Hinterhof)\, Jägerstraße 4\, Berlin\, 12555\, Deutschland
CATEGORIES:Kabarett
GEO:52.4458319;13.5777794
X-APPLE-STRUCTURED-LOCATION;VALUE=URI;X-ADDRESS=Altstadttheater Köpenick (Zilles Stubentheater/Hinterhof) Jägerstraße 4 Berlin 12555 Deutschland;X-APPLE-RADIUS=500;X-TITLE=Jägerstraße 4:geo:13.5777794,52.4458319
END:VEVENT
BEGIN:VEVENT
DTSTART;TZID=Europe/Berlin:20260523T190000
DTEND;TZID=Europe/Berlin:20260523T200000
DTSTAMP:20260425T131600
CREATED:20260414T104947Z
LAST-MODIFIED:20260414T104947Z
UID:10093699-1779562800-1779566400@maulbeerblatt.com
SUMMARY:Nachtschattengeflüster
DESCRIPTION:Vom Zuschauer-Traum in den Zuschauerraum … und wieder zurück.\nEin Schicksalsschlag katapultiert die einst so erfolgreiche Schauspielerin Maria von der glanzvollen Bühne mitten hinein in den düsteren Souffleusenkasten. Aus dem nun ungewohnten Blickwinkel\, zieht sie ganz neue Erkenntnisse: niemand hat Ahnung\, aber alle reden mit und außer ihr ist kein Genie da\, der das Chaos beherrscht. Sie muss die Fäden selbst in die Hand nehmen\, ansonsten ist die Künstlerwelt dem Untergang geweiht.\nIhre Methoden untypisch – ihr Wille eisern. Angefangen bei der Unterwäschepflicht für Röcke und Kleider bis zur Talent-vor-Schönheit-Devise erobert sie sich Reihe um Reihe zurück auf die Bühne. \nEine musikalische Komödie mit Dana Bong bei der Sie sicher die ein oder andere Parallele zu sich entdecken und bei der garantiert kein Mundwinkel unten bleibt.
URL:https://maulbeerblatt.com/termin/nachtschattengefluester/2026-05-23/
LOCATION:Altstadttheater Köpenick (Zilles Stubentheater/Hinterhof)\, Jägerstraße 4\, Berlin\, 12555\, Deutschland
CATEGORIES:Comedy
GEO:52.4458319;13.5777794
X-APPLE-STRUCTURED-LOCATION;VALUE=URI;X-ADDRESS=Altstadttheater Köpenick (Zilles Stubentheater/Hinterhof) Jägerstraße 4 Berlin 12555 Deutschland;X-APPLE-RADIUS=500;X-TITLE=Jägerstraße 4:geo:13.5777794,52.4458319
END:VEVENT
BEGIN:VEVENT
DTSTART;TZID=Europe/Berlin:20260524T160000
DTEND;TZID=Europe/Berlin:20260524T170000
DTSTAMP:20260425T131600
CREATED:20260414T104947Z
LAST-MODIFIED:20260414T104947Z
UID:10093700-1779638400-1779642000@maulbeerblatt.com
SUMMARY:Nachtschattengeflüster
DESCRIPTION:Vom Zuschauer-Traum in den Zuschauerraum … und wieder zurück.\nEin Schicksalsschlag katapultiert die einst so erfolgreiche Schauspielerin Maria von der glanzvollen Bühne mitten hinein in den düsteren Souffleusenkasten. Aus dem nun ungewohnten Blickwinkel\, zieht sie ganz neue Erkenntnisse: niemand hat Ahnung\, aber alle reden mit und außer ihr ist kein Genie da\, der das Chaos beherrscht. Sie muss die Fäden selbst in die Hand nehmen\, ansonsten ist die Künstlerwelt dem Untergang geweiht.\nIhre Methoden untypisch – ihr Wille eisern. Angefangen bei der Unterwäschepflicht für Röcke und Kleider bis zur Talent-vor-Schönheit-Devise erobert sie sich Reihe um Reihe zurück auf die Bühne. \nEine musikalische Komödie mit Dana Bong bei der Sie sicher die ein oder andere Parallele zu sich entdecken und bei der garantiert kein Mundwinkel unten bleibt.
URL:https://maulbeerblatt.com/termin/nachtschattengefluester/2026-05-24/
LOCATION:Altstadttheater Köpenick (Zilles Stubentheater/Hinterhof)\, Jägerstraße 4\, Berlin\, 12555\, Deutschland
CATEGORIES:Comedy
GEO:52.4458319;13.5777794
X-APPLE-STRUCTURED-LOCATION;VALUE=URI;X-ADDRESS=Altstadttheater Köpenick (Zilles Stubentheater/Hinterhof) Jägerstraße 4 Berlin 12555 Deutschland;X-APPLE-RADIUS=500;X-TITLE=Jägerstraße 4:geo:13.5777794,52.4458319
END:VEVENT
BEGIN:VEVENT
DTSTART;TZID=Europe/Berlin:20260527T150000
DTEND;TZID=Europe/Berlin:20260527T170000
DTSTAMP:20260425T131600
CREATED:20260414T100021Z
LAST-MODIFIED:20260414T100021Z
UID:10093695-1779894000-1779901200@maulbeerblatt.com
SUMMARY:Zille allein zu Haus
DESCRIPTION:Hier entführt Sie Heinrich Zille\, der bekannte Maler\, Grafiker und Fotograf (1858–1929)\, alias Albrecht Hoffmann\, mit einer musikalisch unterhaltsamen Zeitreise ins Zille Milljöh. Zilles Frau Hulda ist mal wieder mittwochs ausgegangen und Zille allein zu Haus kann unverhofft Besuch empfangen\, Sie!\nDabei gibt’s neben bekannten Gassenhauern und Anekdoten aus den Hinterhöfen Alt-Berlins\, sogar een Schälchen Heeßen und Kuchen. \nEine musikalisch unterhaltsame Zeitreise ins Alt-Berlin des Zille-Milljöhs zu Kaffee und Kuchen und Zille-Darsteller Albrecht Hoffmann mittendrin. Sehenswert und ein Highlight für jeden Altstadt-Besuch.
URL:https://maulbeerblatt.com/termin/zille-allein-zu-haus-2/2026-05-27/
LOCATION:Altstadttheater Köpenick (Zilles Stubentheater/Hinterhof)\, Jägerstraße 4\, Berlin\, 12555\, Deutschland
CATEGORIES:Kabarett
GEO:52.4458319;13.5777794
X-APPLE-STRUCTURED-LOCATION;VALUE=URI;X-ADDRESS=Altstadttheater Köpenick (Zilles Stubentheater/Hinterhof) Jägerstraße 4 Berlin 12555 Deutschland;X-APPLE-RADIUS=500;X-TITLE=Jägerstraße 4:geo:13.5777794,52.4458319
END:VEVENT
BEGIN:VEVENT
DTSTART;TZID=Europe/Berlin:20260527T190000
DTEND;TZID=Europe/Berlin:20260527T200000
DTSTAMP:20260425T131600
CREATED:20260414T104642Z
LAST-MODIFIED:20260414T104642Z
UID:10093698-1779908400-1779912000@maulbeerblatt.com
SUMMARY:… iss doch wurscht!
DESCRIPTION:Eines der beliebten Zille-Programme ist „… iss doch wurscht!“.\nJeden Mittwoch-Abend (mit Ausnahmen) lädt Sie Heinrich Zille\, der bekannte Maler\, Grafiker und Fotograf (1858–1929)\, alias Albrecht Hoffmann\, zu seinem Programm in seine Stube im Gründerzeit-Ambiente ein. Erbswurstsuppe inklusive. Die ist nämlich eine der vielen Alt-Berliner Erfindungen\, die an diesem Abend nicht nur präsentiert\, sondern auch vor Ort gekocht und verkostet wird. Es erwartet Sie eine humorvolle Zeitreise in das Alt-Berlin zur Zille Zeit\, mit Musik\, Wissenswertem und Anekdoten. \nDas Zille-Milljöh präsentiert mit Liedern und Geschichten der Hinterhöfe Alt-Berlins und mit spielerisch gewürzter Erbswurstsuppe serviert. Sehenswert und ein Highlight für jeden Altstadt-Besuch. \nInkl. 1 Erbswurstsuppen-Verköstigung.
URL:https://maulbeerblatt.com/termin/iss-doch-wurscht/2026-05-27/
LOCATION:Altstadttheater Köpenick (Zilles Stubentheater/Hinterhof)\, Jägerstraße 4\, Berlin\, 12555\, Deutschland
CATEGORIES:Kabarett
GEO:52.4458319;13.5777794
X-APPLE-STRUCTURED-LOCATION;VALUE=URI;X-ADDRESS=Altstadttheater Köpenick (Zilles Stubentheater/Hinterhof) Jägerstraße 4 Berlin 12555 Deutschland;X-APPLE-RADIUS=500;X-TITLE=Jägerstraße 4:geo:13.5777794,52.4458319
END:VEVENT
END:VCALENDAR