BEGIN:VCALENDAR
VERSION:2.0
PRODID:-//Der Maulbär - ECPv6.15.17.1//NONSGML v1.0//EN
CALSCALE:GREGORIAN
METHOD:PUBLISH
X-ORIGINAL-URL:https://maulbeerblatt.com
X-WR-CALDESC:Veranstaltungen für Der Maulbär
REFRESH-INTERVAL;VALUE=DURATION:PT1H
X-Robots-Tag:noindex
X-PUBLISHED-TTL:PT1H
BEGIN:VTIMEZONE
TZID:Europe/Berlin
BEGIN:DAYLIGHT
TZOFFSETFROM:+0100
TZOFFSETTO:+0200
TZNAME:CEST
DTSTART:20250330T010000
END:DAYLIGHT
BEGIN:STANDARD
TZOFFSETFROM:+0200
TZOFFSETTO:+0100
TZNAME:CET
DTSTART:20251026T010000
END:STANDARD
BEGIN:DAYLIGHT
TZOFFSETFROM:+0100
TZOFFSETTO:+0200
TZNAME:CEST
DTSTART:20260329T010000
END:DAYLIGHT
BEGIN:STANDARD
TZOFFSETFROM:+0200
TZOFFSETTO:+0100
TZNAME:CET
DTSTART:20261025T010000
END:STANDARD
BEGIN:DAYLIGHT
TZOFFSETFROM:+0100
TZOFFSETTO:+0200
TZNAME:CEST
DTSTART:20270328T010000
END:DAYLIGHT
BEGIN:STANDARD
TZOFFSETFROM:+0200
TZOFFSETTO:+0100
TZNAME:CET
DTSTART:20271031T010000
END:STANDARD
END:VTIMEZONE
BEGIN:VEVENT
DTSTART;TZID=Europe/Berlin:20260329T160000
DTEND;TZID=Europe/Berlin:20260329T163000
DTSTAMP:20260424T171814
CREATED:20260109T170623Z
LAST-MODIFIED:20260219T143347Z
UID:10088668-1774800000-1774801800@maulbeerblatt.com
SUMMARY:Socke\, Mond und Sterne
DESCRIPTION:Esther Nicklas | empfohlen von 2-5 J. \nStudiobühne (Raum 214) \nFantasievolles Materialtheater\nEine Socke\, ein Schirm\, ein Tütengewimmel\, eine Gummileine mit Wäscheklammern\, Strohhalme\, und eine gri-gra-große Tasche laden auf Entdeckungsreise ein. Mit viel Bewegung und wenigen Worten entsteht ein clowneskes Spiel über das Ankommen und Bleiben. Kleine Wortspiele machen Lust auf Sprache. \nEs spielt:\nEsther Nicklas\nDauer: 30 Minuten \nDie Theatertickets berechtigen – wenn nicht anders angegeben* – an Wochenend-\, Feier- und Ferientagen zur Mitnutzung des Hausangebots. Diese Regelung gilt nicht für Kita-\, Hort- und Schulgruppen. \nAchtung!\nAus Sicherheitsgründen sind Jacken und größere Taschen in unseren Theatersälen leider nicht gestattet. Für Gruppen pädagogischer Einrichtungen ist die Abgabe ALLER Taschen verpflichtend. Bitte beachtet weitere Informationen und mögliche Gebühren in unserer Garderobenordung.
URL:https://maulbeerblatt.com/termin/socke-mond-und-sterne-2/2026-03-29/2/
LOCATION:Astrid-Lindgren-Bühne\, Straße zum FEZ 2\, Berlin\, 12459
CATEGORIES:Figurentheater
GEO:52.4609252;13.5481708
X-APPLE-STRUCTURED-LOCATION;VALUE=URI;X-ADDRESS=Astrid-Lindgren-Bühne Straße zum FEZ 2 Berlin 12459;X-APPLE-RADIUS=500;X-TITLE=Straße zum FEZ 2:geo:13.5481708,52.4609252
END:VEVENT
BEGIN:VEVENT
DTSTART;TZID=Europe/Berlin:20260329T140000
DTEND;TZID=Europe/Berlin:20260329T143000
DTSTAMP:20260424T171814
CREATED:20260109T170623Z
LAST-MODIFIED:20260219T143347Z
UID:10088667-1774792800-1774794600@maulbeerblatt.com
SUMMARY:Socke\, Mond und Sterne
DESCRIPTION:Esther Nicklas | empfohlen von 2-5 J. \nStudiobühne (Raum 214) \nFantasievolles Materialtheater\nEine Socke\, ein Schirm\, ein Tütengewimmel\, eine Gummileine mit Wäscheklammern\, Strohhalme\, und eine gri-gra-große Tasche laden auf Entdeckungsreise ein. Mit viel Bewegung und wenigen Worten entsteht ein clowneskes Spiel über das Ankommen und Bleiben. Kleine Wortspiele machen Lust auf Sprache. \nEs spielt:\nEsther Nicklas\nDauer: 30 Minuten \nDie Theatertickets berechtigen – wenn nicht anders angegeben* – an Wochenend-\, Feier- und Ferientagen zur Mitnutzung des Hausangebots. Diese Regelung gilt nicht für Kita-\, Hort- und Schulgruppen. \nAchtung!\nAus Sicherheitsgründen sind Jacken und größere Taschen in unseren Theatersälen leider nicht gestattet. Für Gruppen pädagogischer Einrichtungen ist die Abgabe ALLER Taschen verpflichtend. Bitte beachtet weitere Informationen und mögliche Gebühren in unserer Garderobenordung.
URL:https://maulbeerblatt.com/termin/socke-mond-und-sterne-2/2026-03-29/1/
LOCATION:Astrid-Lindgren-Bühne\, Straße zum FEZ 2\, Berlin\, 12459
CATEGORIES:Figurentheater
GEO:52.4609252;13.5481708
X-APPLE-STRUCTURED-LOCATION;VALUE=URI;X-ADDRESS=Astrid-Lindgren-Bühne Straße zum FEZ 2 Berlin 12459;X-APPLE-RADIUS=500;X-TITLE=Straße zum FEZ 2:geo:13.5481708,52.4609252
END:VEVENT
BEGIN:VEVENT
DTSTART;TZID=Europe/Berlin:20260328T160000
DTEND;TZID=Europe/Berlin:20260328T163000
DTSTAMP:20260424T171814
CREATED:20260109T170623Z
LAST-MODIFIED:20260219T143347Z
UID:10088666-1774713600-1774715400@maulbeerblatt.com
SUMMARY:Socke\, Mond und Sterne
DESCRIPTION:Esther Nicklas | empfohlen von 2-5 J. \nStudiobühne (Raum 214) \nFantasievolles Materialtheater\nEine Socke\, ein Schirm\, ein Tütengewimmel\, eine Gummileine mit Wäscheklammern\, Strohhalme\, und eine gri-gra-große Tasche laden auf Entdeckungsreise ein. Mit viel Bewegung und wenigen Worten entsteht ein clowneskes Spiel über das Ankommen und Bleiben. Kleine Wortspiele machen Lust auf Sprache. \nEs spielt:\nEsther Nicklas\nDauer: 30 Minuten \nDie Theatertickets berechtigen – wenn nicht anders angegeben* – an Wochenend-\, Feier- und Ferientagen zur Mitnutzung des Hausangebots. Diese Regelung gilt nicht für Kita-\, Hort- und Schulgruppen. \nAchtung!\nAus Sicherheitsgründen sind Jacken und größere Taschen in unseren Theatersälen leider nicht gestattet. Für Gruppen pädagogischer Einrichtungen ist die Abgabe ALLER Taschen verpflichtend. Bitte beachtet weitere Informationen und mögliche Gebühren in unserer Garderobenordung.
URL:https://maulbeerblatt.com/termin/socke-mond-und-sterne-2/2026-03-28/2/
LOCATION:Astrid-Lindgren-Bühne\, Straße zum FEZ 2\, Berlin\, 12459
CATEGORIES:Figurentheater
GEO:52.4609252;13.5481708
X-APPLE-STRUCTURED-LOCATION;VALUE=URI;X-ADDRESS=Astrid-Lindgren-Bühne Straße zum FEZ 2 Berlin 12459;X-APPLE-RADIUS=500;X-TITLE=Straße zum FEZ 2:geo:13.5481708,52.4609252
END:VEVENT
BEGIN:VEVENT
DTSTART;TZID=Europe/Berlin:20260328T140000
DTEND;TZID=Europe/Berlin:20260328T143000
DTSTAMP:20260424T171814
CREATED:20260109T170623Z
LAST-MODIFIED:20260219T143347Z
UID:10088665-1774706400-1774708200@maulbeerblatt.com
SUMMARY:Socke\, Mond und Sterne
DESCRIPTION:Esther Nicklas | empfohlen von 2-5 J. \nStudiobühne (Raum 214) \nFantasievolles Materialtheater\nEine Socke\, ein Schirm\, ein Tütengewimmel\, eine Gummileine mit Wäscheklammern\, Strohhalme\, und eine gri-gra-große Tasche laden auf Entdeckungsreise ein. Mit viel Bewegung und wenigen Worten entsteht ein clowneskes Spiel über das Ankommen und Bleiben. Kleine Wortspiele machen Lust auf Sprache. \nEs spielt:\nEsther Nicklas\nDauer: 30 Minuten \nDie Theatertickets berechtigen – wenn nicht anders angegeben* – an Wochenend-\, Feier- und Ferientagen zur Mitnutzung des Hausangebots. Diese Regelung gilt nicht für Kita-\, Hort- und Schulgruppen. \nAchtung!\nAus Sicherheitsgründen sind Jacken und größere Taschen in unseren Theatersälen leider nicht gestattet. Für Gruppen pädagogischer Einrichtungen ist die Abgabe ALLER Taschen verpflichtend. Bitte beachtet weitere Informationen und mögliche Gebühren in unserer Garderobenordung.
URL:https://maulbeerblatt.com/termin/socke-mond-und-sterne-2/2026-03-28/1/
LOCATION:Astrid-Lindgren-Bühne\, Straße zum FEZ 2\, Berlin\, 12459
CATEGORIES:Figurentheater
GEO:52.4609252;13.5481708
X-APPLE-STRUCTURED-LOCATION;VALUE=URI;X-ADDRESS=Astrid-Lindgren-Bühne Straße zum FEZ 2 Berlin 12459;X-APPLE-RADIUS=500;X-TITLE=Straße zum FEZ 2:geo:13.5481708,52.4609252
END:VEVENT
BEGIN:VEVENT
DTSTART;TZID=Europe/Berlin:20260326T100000
DTEND;TZID=Europe/Berlin:20260326T103000
DTSTAMP:20260424T171814
CREATED:20260109T170623Z
LAST-MODIFIED:20260219T143347Z
UID:10088664-1774519200-1774521000@maulbeerblatt.com
SUMMARY:Socke\, Mond und Sterne
DESCRIPTION:Esther Nicklas | empfohlen von 2-5 J. \nStudiobühne (Raum 214) \nFantasievolles Materialtheater\nEine Socke\, ein Schirm\, ein Tütengewimmel\, eine Gummileine mit Wäscheklammern\, Strohhalme\, und eine gri-gra-große Tasche laden auf Entdeckungsreise ein. Mit viel Bewegung und wenigen Worten entsteht ein clowneskes Spiel über das Ankommen und Bleiben. Kleine Wortspiele machen Lust auf Sprache. \nEs spielt:\nEsther Nicklas\nDauer: 30 Minuten \nDie Theatertickets berechtigen – wenn nicht anders angegeben* – an Wochenend-\, Feier- und Ferientagen zur Mitnutzung des Hausangebots. Diese Regelung gilt nicht für Kita-\, Hort- und Schulgruppen. \nAchtung!\nAus Sicherheitsgründen sind Jacken und größere Taschen in unseren Theatersälen leider nicht gestattet. Für Gruppen pädagogischer Einrichtungen ist die Abgabe ALLER Taschen verpflichtend. Bitte beachtet weitere Informationen und mögliche Gebühren in unserer Garderobenordung.
URL:https://maulbeerblatt.com/termin/socke-mond-und-sterne-2/2026-03-26/
LOCATION:Astrid-Lindgren-Bühne\, Straße zum FEZ 2\, Berlin\, 12459
CATEGORIES:Figurentheater
GEO:52.4609252;13.5481708
X-APPLE-STRUCTURED-LOCATION;VALUE=URI;X-ADDRESS=Astrid-Lindgren-Bühne Straße zum FEZ 2 Berlin 12459;X-APPLE-RADIUS=500;X-TITLE=Straße zum FEZ 2:geo:13.5481708,52.4609252
END:VEVENT
BEGIN:VEVENT
DTSTART;TZID=Europe/Berlin:20260325T100000
DTEND;TZID=Europe/Berlin:20260325T103000
DTSTAMP:20260424T171814
CREATED:20260109T170623Z
LAST-MODIFIED:20260219T143347Z
UID:10088663-1774432800-1774434600@maulbeerblatt.com
SUMMARY:Socke\, Mond und Sterne
DESCRIPTION:Esther Nicklas | empfohlen von 2-5 J. \nStudiobühne (Raum 214) \nFantasievolles Materialtheater\nEine Socke\, ein Schirm\, ein Tütengewimmel\, eine Gummileine mit Wäscheklammern\, Strohhalme\, und eine gri-gra-große Tasche laden auf Entdeckungsreise ein. Mit viel Bewegung und wenigen Worten entsteht ein clowneskes Spiel über das Ankommen und Bleiben. Kleine Wortspiele machen Lust auf Sprache. \nEs spielt:\nEsther Nicklas\nDauer: 30 Minuten \nDie Theatertickets berechtigen – wenn nicht anders angegeben* – an Wochenend-\, Feier- und Ferientagen zur Mitnutzung des Hausangebots. Diese Regelung gilt nicht für Kita-\, Hort- und Schulgruppen. \nAchtung!\nAus Sicherheitsgründen sind Jacken und größere Taschen in unseren Theatersälen leider nicht gestattet. Für Gruppen pädagogischer Einrichtungen ist die Abgabe ALLER Taschen verpflichtend. Bitte beachtet weitere Informationen und mögliche Gebühren in unserer Garderobenordung.
URL:https://maulbeerblatt.com/termin/socke-mond-und-sterne-2/2026-03-25/
LOCATION:Astrid-Lindgren-Bühne\, Straße zum FEZ 2\, Berlin\, 12459
CATEGORIES:Figurentheater
GEO:52.4609252;13.5481708
X-APPLE-STRUCTURED-LOCATION;VALUE=URI;X-ADDRESS=Astrid-Lindgren-Bühne Straße zum FEZ 2 Berlin 12459;X-APPLE-RADIUS=500;X-TITLE=Straße zum FEZ 2:geo:13.5481708,52.4609252
END:VEVENT
END:VCALENDAR