BEGIN:VCALENDAR
VERSION:2.0
PRODID:-//Der Maulbär - ECPv6.15.17.1//NONSGML v1.0//EN
CALSCALE:GREGORIAN
METHOD:PUBLISH
X-WR-CALNAME:Der Maulbär
X-ORIGINAL-URL:https://maulbeerblatt.com
X-WR-CALDESC:Veranstaltungen für Der Maulbär
REFRESH-INTERVAL;VALUE=DURATION:PT1H
X-Robots-Tag:noindex
X-PUBLISHED-TTL:PT1H
BEGIN:VTIMEZONE
TZID:Europe/Berlin
BEGIN:DAYLIGHT
TZOFFSETFROM:+0100
TZOFFSETTO:+0200
TZNAME:CEST
DTSTART:20250330T010000
END:DAYLIGHT
BEGIN:STANDARD
TZOFFSETFROM:+0200
TZOFFSETTO:+0100
TZNAME:CET
DTSTART:20251026T010000
END:STANDARD
BEGIN:DAYLIGHT
TZOFFSETFROM:+0100
TZOFFSETTO:+0200
TZNAME:CEST
DTSTART:20260329T010000
END:DAYLIGHT
BEGIN:STANDARD
TZOFFSETFROM:+0200
TZOFFSETTO:+0100
TZNAME:CET
DTSTART:20261025T010000
END:STANDARD
BEGIN:DAYLIGHT
TZOFFSETFROM:+0100
TZOFFSETTO:+0200
TZNAME:CEST
DTSTART:20270328T010000
END:DAYLIGHT
BEGIN:STANDARD
TZOFFSETFROM:+0200
TZOFFSETTO:+0100
TZNAME:CET
DTSTART:20271031T010000
END:STANDARD
END:VTIMEZONE
BEGIN:VEVENT
DTSTART;TZID=Europe/Berlin:20260404T180000
DTEND;TZID=Europe/Berlin:20260404T220000
DTSTAMP:20260419T163711
CREATED:20260323T144303Z
LAST-MODIFIED:20260323T144303Z
UID:10092955-1775325600-1775340000@maulbeerblatt.com
SUMMARY:Facetten nicht-realistischer Kunst
DESCRIPTION:Die Ausstellung präsentiert die Arbeiten von sieben Berliner Fotograf*innen\, die sich auf unterschiedliche Weise mit nicht-realistischer Fotografie auseinandersetzen und diese künstlerisch weiterentwickeln. \nDer Wunsch\, den eigenen Blick von der sogenannten „Realität“ zu lösen\,  die bekanntlich für jede*n eine andere ist\, kann viele Gründe haben: etwa das Bedürfnis\, eine persönliche Stimmung zu vermitteln\, die ein Motiv ausgelöst hat. Oder den Impuls\, der vorgefundenen Wirklichkeit eine eigene Vision entgegenzusetzen. Vielleicht ist es auch die Suche nach Abwechslung jenseits des Gewohnten. Oder der Versuch\, verborgene\, dunklere Ebenen sichtbar zu machen\, die hinter einer scheinbar harmlosen Oberfläche liegen. \nAuch die Kamera ist dabei keineswegs an das Abbild des Vorgefundenen gebunden. Vielfältige Techniken der Verfremdung stehen sowohl während der Aufnahme als auch in der Nachbearbeitung zur Verfügung. Sie reichen von Belichtung und Filtern bis hin zu Montageverfahren – und erzeugen jeweils eigene ästhetische Wirkungen. Die Ausstellung gibt einen Einblick in diese Bandbreite der Möglichkeiten: von Studioarbeiten bis zu Außenaufnahmen\, vom Makro- bis zum Weitwinkelbereich\, von Stillleben über Stadtansichten bis hin zu Straßenszenen. \nFotoSurreal hat sich im Sommer 2025 als Gruppe gegründet und widmet sich der nicht-realistischen Fotografie. Mitglieder sind Astrid Jasse\, Markus Rhode\, Karl Gerdom\, Andrea Utrecht-Gralka\, Monika Milczewski\, Frank Schmoller und Ronzhas (Roland Bauch).
URL:https://maulbeerblatt.com/termin/facetten-nicht-realistischer-kunst/
LOCATION:Galerie Kungerkiez\, Karl-Kunger-Str. 15\, Berlin\, 12435\, Deutschland
CATEGORIES:Ausstellung,Galerie,Vernissage
GEO:52.4909204;13.4474735
X-APPLE-STRUCTURED-LOCATION;VALUE=URI;X-ADDRESS=Galerie Kungerkiez Karl-Kunger-Str. 15 Berlin 12435 Deutschland;X-APPLE-RADIUS=500;X-TITLE=Karl-Kunger-Str. 15:geo:13.4474735,52.4909204
END:VEVENT
BEGIN:VEVENT
DTSTART;TZID=Europe/Berlin:20260327T193000
DTEND;TZID=Europe/Berlin:20260327T220000
DTSTAMP:20260419T163711
CREATED:20260323T143615Z
LAST-MODIFIED:20260323T143615Z
UID:10092954-1774639800-1774648800@maulbeerblatt.com
SUMMARY:Auf Wiederlesen #52 // Holger Franke liest Anna Seghers - Ausflug der toten Mädchen
DESCRIPTION:Holger Franke liest aus der im Jahr 1946 erschienenen Erzählung\, die von den Erinnerungen der im mexikanischen Exil lebenden Erzählerin “Netty” an einen Schulausflug vor dem Ersten Weltkrieg und an die Schicksale der Mädchen bis zum Ende des Zweiten Weltkrieges\, erzählt.  \nEintritt frei\, Spenden willkommen!
URL:https://maulbeerblatt.com/termin/auf-wiederlesen-52-holger-franke-liest-anna-seghers-ausflug-der-toten-maedchen/
LOCATION:Galerie Kungerkiez\, Karl-Kunger-Str. 15\, Berlin\, 12435\, Deutschland
CATEGORIES:Galerie,Lesung
GEO:52.4909204;13.4474735
X-APPLE-STRUCTURED-LOCATION;VALUE=URI;X-ADDRESS=Galerie Kungerkiez Karl-Kunger-Str. 15 Berlin 12435 Deutschland;X-APPLE-RADIUS=500;X-TITLE=Karl-Kunger-Str. 15:geo:13.4474735,52.4909204
END:VEVENT
BEGIN:VEVENT
DTSTART;TZID=Europe/Berlin:20260326T193000
DTEND;TZID=Europe/Berlin:20260326T220000
DTSTAMP:20260419T163711
CREATED:20260225T103352Z
LAST-MODIFIED:20260225T105521Z
UID:10090962-1774553400-1774562400@maulbeerblatt.com
SUMMARY:Meine Frau und Ich & Alice Hills
DESCRIPTION:Gemeinschaft statt Kommerz\nIn Kooperation mit Support Local Music Berlin lädt die Galerie KungerKiez monatlich zu einem akustischen Abend mit talentierten Singer-/Songwriter*innen aus der Nachbarschaft und Berlin ein. \n19:30 Uhr: Einlass & Öffnung der Bar\n20 Uhr: “Meine Frau und Ich”\n21 Uhr: Alice Hills \nDer Eintritt ist frei. Spenden für die Musiker*innen sind herzlich willkommen. \nAlice Hills ist in eine in Berlin geborene Künstlerin und fasziniert seit ihrem 16. Lebensjahr Publikum weltweit. Als Vollzeitmusikerin und Headlinerin sammelt sie seit über 16 Jahren umfassende Bühnenerfahrung und verfeinert ihr Handwerk durch Street-Performance – Demut\, Publikumskontakt und mitreißendes Engagement prägen ihre Live-Shows. Mit ihrer Erfahrung hat sie die dynamische Straßenmusik-Szene Berlins maßgeblich mitgeprägt. Ihre Musik verbindet prägnanten Pop\, Rock und Folk\, veredelt durch Soul- und Jazz-Einflüsse. Die einzigartige Stimme von Alice sorgt dafür\, dass Songs tief berühren und authentisch klingen – sie schafft eindrucksvolle Momente\, die das Publikum nachhaltig bewegen. \nMeine Frau und Ich ist ein Duo bestehend aus dem Musiker-Ehepaar Marion und Jens-Olaf. Beide treten mit Gitarre und Gesang auf\, wobei Marion zudem auf der Violine begleitet und Jens-Olaf mit seiner Ukulele. Die beiden genießen ihr Hobby zum gemeinsamen Musizieren schon viele Jahre. Angefangen haben sie mit kleinen Auftritten und musikalischen Umrahmungen bei Familienfeiern. Darauf folgen Konzerte bei Dorffesten und Betriebsfeiern\, die ihr Repertoire deutlich vergrößerten. Ihre Songauswahl ist ein bunter Covermix aus allem\, was ihnen gefällt. Dabei bewegen sie sich zwischen Rock\, Pop\, Blues und Country sowohl in englischer als auch in deutscher Sprache. \nDie Konzertreihe findet monatlich mit wechselnden Musiker*innen statt. Die nächsten Termine sind:\nDonnerstag\, 23. April\nDonnerstag\, 21. Mai\nSonntag\, 21. Juni (Fete de la musique)
URL:https://maulbeerblatt.com/termin/meine-frau-und-ich-alice-hills/
LOCATION:Galerie Kungerkiez\, Karl-Kunger-Str. 15\, Berlin\, 12435\, Deutschland
CATEGORIES:Konzert
GEO:52.4909204;13.4474735
X-APPLE-STRUCTURED-LOCATION;VALUE=URI;X-ADDRESS=Galerie Kungerkiez Karl-Kunger-Str. 15 Berlin 12435 Deutschland;X-APPLE-RADIUS=500;X-TITLE=Karl-Kunger-Str. 15:geo:13.4474735,52.4909204
END:VEVENT
END:VCALENDAR