BEGIN:VCALENDAR
VERSION:2.0
PRODID:-//Der Maulbär - ECPv6.15.17.1//NONSGML v1.0//EN
CALSCALE:GREGORIAN
METHOD:PUBLISH
X-ORIGINAL-URL:https://maulbeerblatt.com
X-WR-CALDESC:Veranstaltungen für Der Maulbär
REFRESH-INTERVAL;VALUE=DURATION:PT1H
X-Robots-Tag:noindex
X-PUBLISHED-TTL:PT1H
BEGIN:VTIMEZONE
TZID:Europe/Berlin
BEGIN:DAYLIGHT
TZOFFSETFROM:+0100
TZOFFSETTO:+0200
TZNAME:CEST
DTSTART:20250330T010000
END:DAYLIGHT
BEGIN:STANDARD
TZOFFSETFROM:+0200
TZOFFSETTO:+0100
TZNAME:CET
DTSTART:20251026T010000
END:STANDARD
BEGIN:DAYLIGHT
TZOFFSETFROM:+0100
TZOFFSETTO:+0200
TZNAME:CEST
DTSTART:20260329T010000
END:DAYLIGHT
BEGIN:STANDARD
TZOFFSETFROM:+0200
TZOFFSETTO:+0100
TZNAME:CET
DTSTART:20261025T010000
END:STANDARD
BEGIN:DAYLIGHT
TZOFFSETFROM:+0100
TZOFFSETTO:+0200
TZNAME:CEST
DTSTART:20270328T010000
END:DAYLIGHT
BEGIN:STANDARD
TZOFFSETFROM:+0200
TZOFFSETTO:+0100
TZNAME:CET
DTSTART:20271031T010000
END:STANDARD
END:VTIMEZONE
BEGIN:VEVENT
DTSTART;TZID=Europe/Berlin:20260424T180000
DTEND;TZID=Europe/Berlin:20260424T190000
DTSTAMP:20260423T082545
CREATED:20260226T182735Z
LAST-MODIFIED:20260226T182735Z
UID:10091225-1777053600-1777057200@maulbeerblatt.com
SUMMARY:Von Luft und Liebe - Instrument des Jahres: Das Akkordeon im Konzert
DESCRIPTION:Jedes Jahr ruft der Landesmusikrat ein INSTRUMENT DES JAHRES aus. 2026 ist das Akkordeon an der Reihe.\nEs bedurfte aber nicht dieser Nominierung – schon seit geraumer Zeit findet an der Joseph-Schmidt-Musikschule alljährlich das Konzert “Von Luft und Liebe” statt\, in dem das Akkordeon als universelles und höchst spannendes Instrument in all seinen Facetten präsentiert wird. Neben solistischen und kammermusikalischen Beiträgen wird das Akkordeonorchester “D’Akkord” sein aktuelles Programm präsentieren.\nDer Eintritt ist frei!
URL:https://maulbeerblatt.com/termin/von-luft-und-liebe-instrument-des-jahres-das-akkordeon-im-konzert/
LOCATION:Joseph-Schmidt-Musikschule\, Freiheit 15\, Freiheit 15\, Berlin\, 12555\, Deutschland
CATEGORIES:Konzert
GEO:52.4475965;13.5767111
X-APPLE-STRUCTURED-LOCATION;VALUE=URI;X-ADDRESS=Joseph-Schmidt-Musikschule Freiheit 15 Freiheit 15 Berlin 12555 Deutschland;X-APPLE-RADIUS=500;X-TITLE=Freiheit 15:geo:13.5767111,52.4475965
END:VEVENT
BEGIN:VEVENT
DTSTART;TZID=Europe/Berlin:20260510T170000
DTEND;TZID=Europe/Berlin:20260510T183000
DTSTAMP:20260423T082545
CREATED:20260409T102624Z
LAST-MODIFIED:20260409T102624Z
UID:10093264-1778432400-1778437800@maulbeerblatt.com
SUMMARY:Anderswo
DESCRIPTION:Chorkonzert der Fachgruppe Gesang & Chor – Klassische und populäre Vokalmusik von 1285 bis in die Gegenwart\nManfred-Schmitz-Saal
URL:https://maulbeerblatt.com/termin/anderswo/
LOCATION:Joseph-Schmidt-Musikschule\, Freiheit 15\, Freiheit 15\, Berlin\, 12555\, Deutschland
CATEGORIES:Konzert
GEO:52.4475965;13.5767111
X-APPLE-STRUCTURED-LOCATION;VALUE=URI;X-ADDRESS=Joseph-Schmidt-Musikschule Freiheit 15 Freiheit 15 Berlin 12555 Deutschland;X-APPLE-RADIUS=500;X-TITLE=Freiheit 15:geo:13.5767111,52.4475965
END:VEVENT
BEGIN:VEVENT
DTSTART;TZID=Europe/Berlin:20260530T160000
DTEND;TZID=Europe/Berlin:20260530T173000
DTSTAMP:20260423T082545
CREATED:20260409T102712Z
LAST-MODIFIED:20260409T102712Z
UID:10093263-1780156800-1780162200@maulbeerblatt.com
SUMMARY:Urwald-Kantate
DESCRIPTION:Konzert im Manfred-Schmitz-Saal.
URL:https://maulbeerblatt.com/termin/urwald-kantate/
LOCATION:Joseph-Schmidt-Musikschule\, Freiheit 15\, Freiheit 15\, Berlin\, 12555\, Deutschland
CATEGORIES:Konzert
GEO:52.4475965;13.5767111
X-APPLE-STRUCTURED-LOCATION;VALUE=URI;X-ADDRESS=Joseph-Schmidt-Musikschule Freiheit 15 Freiheit 15 Berlin 12555 Deutschland;X-APPLE-RADIUS=500;X-TITLE=Freiheit 15:geo:13.5767111,52.4475965
END:VEVENT
END:VCALENDAR