BEGIN:VCALENDAR
VERSION:2.0
PRODID:-//Der Maulbär - ECPv6.15.17.1//NONSGML v1.0//EN
CALSCALE:GREGORIAN
METHOD:PUBLISH
X-ORIGINAL-URL:https://maulbeerblatt.com
X-WR-CALDESC:Veranstaltungen für Der Maulbär
REFRESH-INTERVAL;VALUE=DURATION:PT1H
X-Robots-Tag:noindex
X-PUBLISHED-TTL:PT1H
BEGIN:VTIMEZONE
TZID:Europe/Berlin
BEGIN:DAYLIGHT
TZOFFSETFROM:+0100
TZOFFSETTO:+0200
TZNAME:CEST
DTSTART:20250330T010000
END:DAYLIGHT
BEGIN:STANDARD
TZOFFSETFROM:+0200
TZOFFSETTO:+0100
TZNAME:CET
DTSTART:20251026T010000
END:STANDARD
BEGIN:DAYLIGHT
TZOFFSETFROM:+0100
TZOFFSETTO:+0200
TZNAME:CEST
DTSTART:20260329T010000
END:DAYLIGHT
BEGIN:STANDARD
TZOFFSETFROM:+0200
TZOFFSETTO:+0100
TZNAME:CET
DTSTART:20261025T010000
END:STANDARD
BEGIN:DAYLIGHT
TZOFFSETFROM:+0100
TZOFFSETTO:+0200
TZNAME:CEST
DTSTART:20270328T010000
END:DAYLIGHT
BEGIN:STANDARD
TZOFFSETFROM:+0200
TZOFFSETTO:+0100
TZNAME:CET
DTSTART:20271031T010000
END:STANDARD
END:VTIMEZONE
BEGIN:VEVENT
DTSTART;TZID=Europe/Berlin:20260423T160000
DTEND;TZID=Europe/Berlin:20260423T170000
DTSTAMP:20260423T195421
CREATED:20260303T151253Z
LAST-MODIFIED:20260303T151253Z
UID:10091671-1776960000-1776963600@maulbeerblatt.com
SUMMARY:Ingrid Weng: Natur wie ich sie sehe (Teil 2)
DESCRIPTION:Ingrid Weng ( geb. 1937) ist Hobbyfotografin\, eine Grünauerin in ihrem Kiez unterwegs. Ihre Eindrücke und Beobachtungen zeigt diese Ausstellung.\nDie Ausstellung ist bis zum 28.05.2026 zu sehen. \nEintritt frei
URL:https://maulbeerblatt.com/termin/ingrid-weng-natur-wie-ich-sie-sehe-teil-2/2026-04-23/
LOCATION:KulturTribüne vom Ortsverein Grünau e.V.\, KulturTribüne Grünau\, Regattastraße 191\, 12527 Berlin\, Berlin\, Berlin\, 12527\, Deutschland
CATEGORIES:Ausstellung
END:VEVENT
BEGIN:VEVENT
DTSTART;TZID=Europe/Berlin:20260423T150000
DTEND;TZID=Europe/Berlin:20260423T180000
DTSTAMP:20260423T195421
CREATED:20260115T113811Z
LAST-MODIFIED:20260115T113811Z
UID:10089436-1776956400-1776967200@maulbeerblatt.com
SUMMARY:Kunstgespür
DESCRIPTION:Wöchentlicher Kunstkurs für Kinder und Jugendliche. \nInfos & Anmeldung: https://kunstgespür.de
URL:https://maulbeerblatt.com/termin/kunstgespuer/2026-04-23/
LOCATION:KulturTribüne vom Ortsverein Grünau e.V.\, KulturTribüne Grünau\, Regattastraße 191\, 12527 Berlin\, Berlin\, Berlin\, 12527\, Deutschland
CATEGORIES:Workshop
END:VEVENT
BEGIN:VEVENT
DTSTART;TZID=Europe/Berlin:20260422T180000
DTEND;TZID=Europe/Berlin:20260422T220000
DTSTAMP:20260423T195421
CREATED:20260115T113952Z
LAST-MODIFIED:20260115T113952Z
UID:10089392-1776880800-1776895200@maulbeerblatt.com
SUMMARY:GRANDiose Grünauer Skatfreunde
DESCRIPTION:Wettkampfskat in angenehmer Atmosphäre \nAlle sind herzlich willkommen!
URL:https://maulbeerblatt.com/termin/grandiose-gruenauer-skatfreunde/2026-04-22/
LOCATION:KulturTribüne vom Ortsverein Grünau e.V.\, KulturTribüne Grünau\, Regattastraße 191\, 12527 Berlin\, Berlin\, Berlin\, 12527\, Deutschland
CATEGORIES:Spiel & Spaß
END:VEVENT
BEGIN:VEVENT
DTSTART;TZID=Europe/Berlin:20260422T160000
DTEND;TZID=Europe/Berlin:20260422T183000
DTSTAMP:20260423T195421
CREATED:20260115T113915Z
LAST-MODIFIED:20260203T111508Z
UID:10089414-1776873600-1776882600@maulbeerblatt.com
SUMMARY:Nähen lernen in der KunstWerkstatt der KulturTribüne
DESCRIPTION:Wegwerfen war gestern.\nReparieren\, Nähen ist heute. \nUnter der Anleitung von Damenmaßschneiderin Bianca könnt ihr das Nähen lernen\, auch mit der Nähmaschine.\nBianca bietet ihren Nähkurs am Mittwoch 16:00 – 18:30 Uhr an.\nAnfänger sind herzlich willkommen\, eine Anmeldung ist erforderlich. Ihr könnt euch auch für einzelne Termine anmelden.\nAnmeldung bitte per E-Mail oder direkt im Kurs.\nNaeh-ich-mir@gmx.de\n(Kosten: 7 €)
URL:https://maulbeerblatt.com/termin/naehen-lernen-in-der-kunstwerkstatt-der-kulturtribuene/2026-04-22/
LOCATION:KulturTribüne vom Ortsverein Grünau e.V.\, KulturTribüne Grünau\, Regattastraße 191\, 12527 Berlin\, Berlin\, Berlin\, 12527\, Deutschland
CATEGORIES:Workshop
END:VEVENT
BEGIN:VEVENT
DTSTART;TZID=Europe/Berlin:20260422T160000
DTEND;TZID=Europe/Berlin:20260422T170000
DTSTAMP:20260423T195421
CREATED:20260303T151253Z
LAST-MODIFIED:20260303T151253Z
UID:10091670-1776873600-1776877200@maulbeerblatt.com
SUMMARY:Ingrid Weng: Natur wie ich sie sehe (Teil 2)
DESCRIPTION:Ingrid Weng ( geb. 1937) ist Hobbyfotografin\, eine Grünauerin in ihrem Kiez unterwegs. Ihre Eindrücke und Beobachtungen zeigt diese Ausstellung.\nDie Ausstellung ist bis zum 28.05.2026 zu sehen. \nEintritt frei
URL:https://maulbeerblatt.com/termin/ingrid-weng-natur-wie-ich-sie-sehe-teil-2/2026-04-22/
LOCATION:KulturTribüne vom Ortsverein Grünau e.V.\, KulturTribüne Grünau\, Regattastraße 191\, 12527 Berlin\, Berlin\, Berlin\, 12527\, Deutschland
CATEGORIES:Ausstellung
END:VEVENT
BEGIN:VEVENT
DTSTART;TZID=Europe/Berlin:20260422T140000
DTEND;TZID=Europe/Berlin:20260422T160000
DTSTAMP:20260423T195421
CREATED:20260115T101559Z
LAST-MODIFIED:20260115T101559Z
UID:10089370-1776866400-1776873600@maulbeerblatt.com
SUMMARY:SpieleNachmittag: Skat-\, Brett-\, Kartenspiele
DESCRIPTION:Spielbegeisterte Erwachsene sind herzlich eingeladen\, Spiele sind vorhanden.
URL:https://maulbeerblatt.com/termin/spielenachmittag-skat-brett-kartenspiele/2026-04-22/
LOCATION:KulturTribüne vom Ortsverein Grünau e.V.\, KulturTribüne Grünau\, Regattastraße 191\, 12527 Berlin\, Berlin\, Berlin\, 12527\, Deutschland
CATEGORIES:Spiel & Spaß
END:VEVENT
BEGIN:VEVENT
DTSTART;TZID=Europe/Berlin:20260421T160000
DTEND;TZID=Europe/Berlin:20260421T170000
DTSTAMP:20260423T195421
CREATED:20260303T151253Z
LAST-MODIFIED:20260303T151253Z
UID:10091669-1776787200-1776790800@maulbeerblatt.com
SUMMARY:Ingrid Weng: Natur wie ich sie sehe (Teil 2)
DESCRIPTION:Ingrid Weng ( geb. 1937) ist Hobbyfotografin\, eine Grünauerin in ihrem Kiez unterwegs. Ihre Eindrücke und Beobachtungen zeigt diese Ausstellung.\nDie Ausstellung ist bis zum 28.05.2026 zu sehen. \nEintritt frei
URL:https://maulbeerblatt.com/termin/ingrid-weng-natur-wie-ich-sie-sehe-teil-2/2026-04-21/
LOCATION:KulturTribüne vom Ortsverein Grünau e.V.\, KulturTribüne Grünau\, Regattastraße 191\, 12527 Berlin\, Berlin\, Berlin\, 12527\, Deutschland
CATEGORIES:Ausstellung
END:VEVENT
BEGIN:VEVENT
DTSTART;TZID=Europe/Berlin:20260420T190000
DTEND;TZID=Europe/Berlin:20260420T210000
DTSTAMP:20260423T195421
CREATED:20260115T101635Z
LAST-MODIFIED:20260115T114044Z
UID:10089348-1776711600-1776718800@maulbeerblatt.com
SUMMARY:Alles ist Rhythmus
DESCRIPTION:Spaß und Gemeinschaft beim Spielen von Rhythmen aus Afrika\, Kuba\, Brasilien und eigenen Grooves.\nMit Cajon + Boomwhacker + Djembe + Shaker + Bodypercussion\nAnmeldung unter: info@ortsverein-gruenau.de\nBeitrag: 8€
URL:https://maulbeerblatt.com/termin/alles-ist-rhythmus/2026-04-20/
LOCATION:KulturTribüne vom Ortsverein Grünau e.V.\, KulturTribüne Grünau\, Regattastraße 191\, 12527 Berlin\, Berlin\, Berlin\, 12527\, Deutschland
CATEGORIES:Musik -Theater
END:VEVENT
BEGIN:VEVENT
DTSTART;TZID=Europe/Berlin:20260420T160000
DTEND;TZID=Europe/Berlin:20260420T170000
DTSTAMP:20260423T195421
CREATED:20260303T151253Z
LAST-MODIFIED:20260303T151253Z
UID:10091668-1776700800-1776704400@maulbeerblatt.com
SUMMARY:Ingrid Weng: Natur wie ich sie sehe (Teil 2)
DESCRIPTION:Ingrid Weng ( geb. 1937) ist Hobbyfotografin\, eine Grünauerin in ihrem Kiez unterwegs. Ihre Eindrücke und Beobachtungen zeigt diese Ausstellung.\nDie Ausstellung ist bis zum 28.05.2026 zu sehen. \nEintritt frei
URL:https://maulbeerblatt.com/termin/ingrid-weng-natur-wie-ich-sie-sehe-teil-2/2026-04-20/
LOCATION:KulturTribüne vom Ortsverein Grünau e.V.\, KulturTribüne Grünau\, Regattastraße 191\, 12527 Berlin\, Berlin\, Berlin\, 12527\, Deutschland
CATEGORIES:Ausstellung
END:VEVENT
BEGIN:VEVENT
DTSTART;TZID=Europe/Berlin:20260419T160000
DTEND;TZID=Europe/Berlin:20260419T170000
DTSTAMP:20260423T195421
CREATED:20260303T151253Z
LAST-MODIFIED:20260303T151253Z
UID:10091544-1776614400-1776618000@maulbeerblatt.com
SUMMARY:Ingrid Weng: Natur wie ich sie sehe (Teil 2)
DESCRIPTION:Ingrid Weng ( geb. 1937) ist Hobbyfotografin\, eine Grünauerin in ihrem Kiez unterwegs. Ihre Eindrücke und Beobachtungen zeigt diese Ausstellung.\nDie Ausstellung ist bis zum 28.05.2026 zu sehen. \nEintritt frei
URL:https://maulbeerblatt.com/termin/ingrid-weng-natur-wie-ich-sie-sehe-teil-2/2026-04-19/
LOCATION:KulturTribüne vom Ortsverein Grünau e.V.\, KulturTribüne Grünau\, Regattastraße 191\, 12527 Berlin\, Berlin\, Berlin\, 12527\, Deutschland
CATEGORIES:Ausstellung
END:VEVENT
BEGIN:VEVENT
DTSTART;TZID=Europe/Berlin:20260418T160000
DTEND;TZID=Europe/Berlin:20260418T180000
DTSTAMP:20260423T195421
CREATED:20260303T105533Z
LAST-MODIFIED:20260303T105533Z
UID:10091543-1776528000-1776535200@maulbeerblatt.com
SUMMARY:Klassik in Grünau: Duo Accellorandom
DESCRIPTION:Das Duo Accellorandom\, Neža Torkar – Akkordeon und Romana Simbera – Violoncello\, gründete sich schon im Jahr 2003 an der Musikschule Jesenice in Slowenien. Schon als Schülerinnen an der Musikschule haben beide Musikerinnen zusammen an einem Wettbewerb in Kroatien teilgenommen und damals den 2. Preis gewonnen. Später haben sich ihre Wege wegen des Studiums getrennt: Romana studierte in Kroatien an der Hochschule für Musik in Zagreb und Neža an der Hochschule für Musik in Weimar. Beide haben solistisch an den größten Wettbewerben\, national wie international\, teilgenommen und viele Preise gewonnen.\nIm Jahr 2014 haben sich die Musikerinnen wieder getroffen\, um gemeinsam zu musizieren. Im Jahre 2016 gewann das Duo den 2. Preis in der Kategorie für kammermusikalische Besetzungen ohne Altersbegrenzung beim Wettbewerb in Pula/Kroatien\, 2018 folgten zwei erste Plätze sowie Sonderpreise bei Wettbewerben in Pula und in Castelfidardo.\nDas Duo nimmt an verschiedenen Meisterklassen teil und arbeitet mit anerkannten Professoren und Komponisten wie z.B. Ivan Koval\, Tomaz Lorenz\, Olaf Reimers\, Karmen Pecar-Koritnik\, Pavle Zajcev\, Monika Leskovar und anderen zusammen.\nRegelmäßig konzertiert das Duo in Slowenien\, Kroatien\, Italien und Deutschland. Es verfügt über ein vielfältiges klassisches Programm. Darüber hinaus spielt es Tango\, Musette\, Bossa Nova\, Filmmusik und virtuose Unterhaltungsmusik.\nEintritt: 15\,-€ (Karten nur vor Ort; Einlass ab 15.00 Uhr)
URL:https://maulbeerblatt.com/termin/klassik-in-gruenau-duo-accellorandom/
LOCATION:KulturTribüne vom Ortsverein Grünau e.V.\, KulturTribüne Grünau\, Regattastraße 191\, 12527 Berlin\, Berlin\, Berlin\, 12527\, Deutschland
CATEGORIES:Konzert
END:VEVENT
BEGIN:VEVENT
DTSTART;TZID=Europe/Berlin:20260417T190000
DTEND;TZID=Europe/Berlin:20260417T210000
DTSTAMP:20260423T195421
CREATED:20260309T163147Z
LAST-MODIFIED:20260309T163147Z
UID:10092249-1776452400-1776459600@maulbeerblatt.com
SUMMARY:DahmeSounds #6: Ein Winterprojekt
DESCRIPTION:Gegründet an einem Wintertag in der Coronazeit\, deshalb: „Winterprojekt“\nWir\, dass sind 8 Sänger und Sängerinnen aus dem Köpenicker Chor „Jazz’n’Oldies“ inklusive instrumentaler Begleitung.\nAltbekannte Lieder neu verpackt und begleitet mit: Cajon\, Perkussion\, Bass + Akustikgitarren\, Ukulele\, Saxophon\, Flöte\, Violine … also ein kleines Überraschungspaket.\nWas braucht man mehr für einen gelungenen Abend im Cafè ? \nDahmeSounds ist eine neue Reihe im Cafè des Ortsvereins\, einen Abend im Monat. Der Musikstil ist nicht festgelegt\, es kann Funk\, Pop\, Rock\, Klassik usw. sein – lasst euch überraschen. Wir möchten gemeinsam einen herrlichen Abend voller Musik und guter Stimmung genießen\, umrundet von einer Reiher guter Getränke und Brezeln von unserer Bar.\nMusikbegeisterte unter euch können sich gern für einen Auftritt bewerben.\nDahme.sounds@gmail.com\nWir freuen uns auf euch!\nMatthias\, Gilbert und Sigrun\nEintritt frei – Spende willkommen
URL:https://maulbeerblatt.com/termin/dahmesounds-6-ein-winterprojekt/
LOCATION:KulturTribüne vom Ortsverein Grünau e.V.\, KulturTribüne Grünau\, Regattastraße 191\, 12527 Berlin\, Berlin\, Berlin\, 12527\, Deutschland
CATEGORIES:Musikalisches Programm
END:VEVENT
BEGIN:VEVENT
DTSTART;TZID=Europe/Berlin:20260417T100000
DTEND;TZID=Europe/Berlin:20260417T110000
DTSTAMP:20260423T195421
CREATED:20260303T105452Z
LAST-MODIFIED:20260303T105452Z
UID:10091542-1776420000-1776423600@maulbeerblatt.com
SUMMARY:Puppentheater: Hans im Glück
DESCRIPTION:nach Grimm\nHans hat seine sieben Lehrjahre absolviert! Er ist glücklich! Heute zieht er los\, sein Glück zu finden. Auf seiner Reise tauscht er seinen Lohn – einen Klumpen Gold – gegen ein Pferd. Jetzt geht es schneller voran – was ein Glück! Leider ist es unbeherrschbar\, dieses Pferd und wird kurzerhand gegen eine Milchkuh eingetauscht – Milch satt! Was ein Glück! Nur – die Kuh ist zu alt… aber da kann er sie auch schon gegen ein Schwein tauschen – dicke fette Steaks und Speck! Das Glück schlechthin! … unbeirrt ist Hans auf dem Weg in Richtung Glück.\nDas Glück liegt nicht im Gold\, im Schwein\, im Stein – das Glück liegt in uns! Vielen Dank für die Reise\, Hans – und: Viel Glück!\nSpiel/Bühne: Christiane Klatt\n45 min. 4-12 Jahre\nEintritt: 5\,-€
URL:https://maulbeerblatt.com/termin/puppentheater-hans-im-glueck/
LOCATION:KulturTribüne vom Ortsverein Grünau e.V.\, KulturTribüne Grünau\, Regattastraße 191\, 12527 Berlin\, Berlin\, Berlin\, 12527\, Deutschland
CATEGORIES:Figurentheater
END:VEVENT
BEGIN:VEVENT
DTSTART;TZID=Europe/Berlin:20260416T150000
DTEND;TZID=Europe/Berlin:20260416T180000
DTSTAMP:20260423T195421
CREATED:20260115T113811Z
LAST-MODIFIED:20260115T113811Z
UID:10089435-1776351600-1776362400@maulbeerblatt.com
SUMMARY:Kunstgespür
DESCRIPTION:Wöchentlicher Kunstkurs für Kinder und Jugendliche. \nInfos & Anmeldung: https://kunstgespür.de
URL:https://maulbeerblatt.com/termin/kunstgespuer/2026-04-16/
LOCATION:KulturTribüne vom Ortsverein Grünau e.V.\, KulturTribüne Grünau\, Regattastraße 191\, 12527 Berlin\, Berlin\, Berlin\, 12527\, Deutschland
CATEGORIES:Workshop
END:VEVENT
BEGIN:VEVENT
DTSTART;TZID=Europe/Berlin:20260415T180000
DTEND;TZID=Europe/Berlin:20260415T220000
DTSTAMP:20260423T195421
CREATED:20260115T113952Z
LAST-MODIFIED:20260115T113952Z
UID:10089391-1776276000-1776290400@maulbeerblatt.com
SUMMARY:GRANDiose Grünauer Skatfreunde
DESCRIPTION:Wettkampfskat in angenehmer Atmosphäre \nAlle sind herzlich willkommen!
URL:https://maulbeerblatt.com/termin/grandiose-gruenauer-skatfreunde/2026-04-15/
LOCATION:KulturTribüne vom Ortsverein Grünau e.V.\, KulturTribüne Grünau\, Regattastraße 191\, 12527 Berlin\, Berlin\, Berlin\, 12527\, Deutschland
CATEGORIES:Spiel & Spaß
END:VEVENT
BEGIN:VEVENT
DTSTART;TZID=Europe/Berlin:20260415T160000
DTEND;TZID=Europe/Berlin:20260415T183000
DTSTAMP:20260423T195421
CREATED:20260115T113915Z
LAST-MODIFIED:20260203T111508Z
UID:10089413-1776268800-1776277800@maulbeerblatt.com
SUMMARY:Nähen lernen in der KunstWerkstatt der KulturTribüne
DESCRIPTION:Wegwerfen war gestern.\nReparieren\, Nähen ist heute. \nUnter der Anleitung von Damenmaßschneiderin Bianca könnt ihr das Nähen lernen\, auch mit der Nähmaschine.\nBianca bietet ihren Nähkurs am Mittwoch 16:00 – 18:30 Uhr an.\nAnfänger sind herzlich willkommen\, eine Anmeldung ist erforderlich. Ihr könnt euch auch für einzelne Termine anmelden.\nAnmeldung bitte per E-Mail oder direkt im Kurs.\nNaeh-ich-mir@gmx.de\n(Kosten: 7 €)
URL:https://maulbeerblatt.com/termin/naehen-lernen-in-der-kunstwerkstatt-der-kulturtribuene/2026-04-15/
LOCATION:KulturTribüne vom Ortsverein Grünau e.V.\, KulturTribüne Grünau\, Regattastraße 191\, 12527 Berlin\, Berlin\, Berlin\, 12527\, Deutschland
CATEGORIES:Workshop
END:VEVENT
BEGIN:VEVENT
DTSTART;TZID=Europe/Berlin:20260415T140000
DTEND;TZID=Europe/Berlin:20260415T160000
DTSTAMP:20260423T195421
CREATED:20260115T101559Z
LAST-MODIFIED:20260115T101559Z
UID:10089369-1776261600-1776268800@maulbeerblatt.com
SUMMARY:SpieleNachmittag: Skat-\, Brett-\, Kartenspiele
DESCRIPTION:Spielbegeisterte Erwachsene sind herzlich eingeladen\, Spiele sind vorhanden.
URL:https://maulbeerblatt.com/termin/spielenachmittag-skat-brett-kartenspiele/2026-04-15/
LOCATION:KulturTribüne vom Ortsverein Grünau e.V.\, KulturTribüne Grünau\, Regattastraße 191\, 12527 Berlin\, Berlin\, Berlin\, 12527\, Deutschland
CATEGORIES:Spiel & Spaß
END:VEVENT
BEGIN:VEVENT
DTSTART;TZID=Europe/Berlin:20260413T190000
DTEND;TZID=Europe/Berlin:20260413T210000
DTSTAMP:20260423T195421
CREATED:20260115T101635Z
LAST-MODIFIED:20260115T114044Z
UID:10089347-1776106800-1776114000@maulbeerblatt.com
SUMMARY:Alles ist Rhythmus
DESCRIPTION:Spaß und Gemeinschaft beim Spielen von Rhythmen aus Afrika\, Kuba\, Brasilien und eigenen Grooves.\nMit Cajon + Boomwhacker + Djembe + Shaker + Bodypercussion\nAnmeldung unter: info@ortsverein-gruenau.de\nBeitrag: 8€
URL:https://maulbeerblatt.com/termin/alles-ist-rhythmus/2026-04-13/
LOCATION:KulturTribüne vom Ortsverein Grünau e.V.\, KulturTribüne Grünau\, Regattastraße 191\, 12527 Berlin\, Berlin\, Berlin\, 12527\, Deutschland
CATEGORIES:Musik -Theater
END:VEVENT
BEGIN:VEVENT
DTSTART;TZID=Europe/Berlin:20260411T190000
DTEND;TZID=Europe/Berlin:20260411T220000
DTSTAMP:20260423T195421
CREATED:20260303T105431Z
LAST-MODIFIED:20260303T105431Z
UID:10091541-1775934000-1775944800@maulbeerblatt.com
SUMMARY:Tanzen\, Tanzen\, Tanzen - „Swing in Spring“ mit den Hot Swingers
DESCRIPTION:Tanzabende oder -nächte mit Swingmusik der 1920er\, 30er und 40er Jahre erfreuen sich zunehmender Beliebtheit. Deshalb macht der Ortsverein Grünau – wenn die Frühlings-Knospen sprießen – die KulturTribüne zur Tanzhalle.\nDafür eingeladen haben wir The Hot Swingers!\nIm Zentrum der Band steht ein Gesangsquartett\, bestehend aus 3 singenden Swing-Ladies\, denen der tiefe Bass des Sängers ein bequemes Klangbett bereitstellt. Umspielt wird das Gesangsquartett von einer 6-köpfigen Swing-Band\, die kein Bein stillstehen lässt.\nGespielt werden bekannte Evergreens\, amerikanische Swing-Standards und Raritäten – frisch entstaubt und mit Spielwitz vorgetragen.\nAufpoliert werden Ohrwürmer der Andrew Sisters wie „Bei mir bist du scheen“ oder „Rum and Coca Cola“ ebenso wie andere „antike“ Hits á la „In the mood“ oder „Chattanooga choo choo“.\nThe Hot Swingers nehmen Beziehung auf zu den swingenden Magiern der ersten Hälfte des vergangenen Jahrhunderts wie Glenn Miller\, Duke Ellington und Benny Goodman\, lauschen ihnen Klänge und Vibrationen ab und hauchen diesen ein Stück eigener Seele ein – frech\, charmant und unverwechselbar.\nLet’s swing! Tanzen Sie jetzt!  \nSusanne Siedel – Gesang (Sopran)\nSilke Bohrisch – Gesang (Sopran)\nHeike Kruse – Gesang (Alt)\nBert Dadaczynski – Gesang (Bass) \nRobert Tholl – Piano\nRainer Hanke – Saxofon\, Klarinette\nJohannes Siedel – Posaune\,\nRobert Göber – Bass\nJürgen Gasde – Schlagzeug\nEintritt: 15\,-€ (Karten nur an der Abendkasse; Einlass ab 18.00 Uhr)
URL:https://maulbeerblatt.com/termin/tanzen-tanzen-tanzen-swing-in-spring-mit-den-hot-swingers/
LOCATION:KulturTribüne vom Ortsverein Grünau e.V.\, KulturTribüne Grünau\, Regattastraße 191\, 12527 Berlin\, Berlin\, Berlin\, 12527\, Deutschland
CATEGORIES:Tanz
END:VEVENT
BEGIN:VEVENT
DTSTART;TZID=Europe/Berlin:20260409T190000
DTEND;TZID=Europe/Berlin:20260409T210000
DTSTAMP:20260423T195421
CREATED:20260303T105409Z
LAST-MODIFIED:20260303T105409Z
UID:10091540-1775761200-1775768400@maulbeerblatt.com
SUMMARY:Grünauer Jazz-Bar #17
DESCRIPTION:Am 2. Donnerstag des Monats wird das Café der KulturTribüne zur Grünauer Jazz-Bar mit speziellen Drinks\, Gesprächen und Musik auf Vinyl.\nSie möchten sich nach Feierabend mit Freunden auf ein Glas Wein oder einen Longdrink treffen? Dann sind Sie in der Grünauer Jazz-Bar genau richtig!\nHeute ohne Live-Musik!\nBringen Sie doch mal eine für Sie ganz besondere Schallplatte aus Ihrer Privat-Sammlung mit.\nWir hören sie gemeinsam und tauschen vielleicht Erinnerungen aus\, die wir mit der Musik verbinden.\nEintritt frei
URL:https://maulbeerblatt.com/termin/gruenauer-jazz-bar-17/
LOCATION:KulturTribüne vom Ortsverein Grünau e.V.\, KulturTribüne Grünau\, Regattastraße 191\, 12527 Berlin\, Berlin\, Berlin\, 12527\, Deutschland
CATEGORIES:Jazz
END:VEVENT
BEGIN:VEVENT
DTSTART;TZID=Europe/Berlin:20260409T150000
DTEND;TZID=Europe/Berlin:20260409T180000
DTSTAMP:20260423T195421
CREATED:20260115T113811Z
LAST-MODIFIED:20260115T113811Z
UID:10089434-1775746800-1775757600@maulbeerblatt.com
SUMMARY:Kunstgespür
DESCRIPTION:Wöchentlicher Kunstkurs für Kinder und Jugendliche. \nInfos & Anmeldung: https://kunstgespür.de
URL:https://maulbeerblatt.com/termin/kunstgespuer/2026-04-09/
LOCATION:KulturTribüne vom Ortsverein Grünau e.V.\, KulturTribüne Grünau\, Regattastraße 191\, 12527 Berlin\, Berlin\, Berlin\, 12527\, Deutschland
CATEGORIES:Workshop
END:VEVENT
BEGIN:VEVENT
DTSTART;TZID=Europe/Berlin:20260408T180000
DTEND;TZID=Europe/Berlin:20260408T220000
DTSTAMP:20260423T195421
CREATED:20260115T113952Z
LAST-MODIFIED:20260115T113952Z
UID:10089390-1775671200-1775685600@maulbeerblatt.com
SUMMARY:GRANDiose Grünauer Skatfreunde
DESCRIPTION:Wettkampfskat in angenehmer Atmosphäre \nAlle sind herzlich willkommen!
URL:https://maulbeerblatt.com/termin/grandiose-gruenauer-skatfreunde/2026-04-08/
LOCATION:KulturTribüne vom Ortsverein Grünau e.V.\, KulturTribüne Grünau\, Regattastraße 191\, 12527 Berlin\, Berlin\, Berlin\, 12527\, Deutschland
CATEGORIES:Spiel & Spaß
END:VEVENT
BEGIN:VEVENT
DTSTART;TZID=Europe/Berlin:20260408T160000
DTEND;TZID=Europe/Berlin:20260408T183000
DTSTAMP:20260423T195421
CREATED:20260115T113915Z
LAST-MODIFIED:20260203T111508Z
UID:10089412-1775664000-1775673000@maulbeerblatt.com
SUMMARY:Nähen lernen in der KunstWerkstatt der KulturTribüne
DESCRIPTION:Wegwerfen war gestern.\nReparieren\, Nähen ist heute. \nUnter der Anleitung von Damenmaßschneiderin Bianca könnt ihr das Nähen lernen\, auch mit der Nähmaschine.\nBianca bietet ihren Nähkurs am Mittwoch 16:00 – 18:30 Uhr an.\nAnfänger sind herzlich willkommen\, eine Anmeldung ist erforderlich. Ihr könnt euch auch für einzelne Termine anmelden.\nAnmeldung bitte per E-Mail oder direkt im Kurs.\nNaeh-ich-mir@gmx.de\n(Kosten: 7 €)
URL:https://maulbeerblatt.com/termin/naehen-lernen-in-der-kunstwerkstatt-der-kulturtribuene/2026-04-08/
LOCATION:KulturTribüne vom Ortsverein Grünau e.V.\, KulturTribüne Grünau\, Regattastraße 191\, 12527 Berlin\, Berlin\, Berlin\, 12527\, Deutschland
CATEGORIES:Workshop
END:VEVENT
BEGIN:VEVENT
DTSTART;TZID=Europe/Berlin:20260408T140000
DTEND;TZID=Europe/Berlin:20260408T160000
DTSTAMP:20260423T195421
CREATED:20260115T101559Z
LAST-MODIFIED:20260115T101559Z
UID:10089368-1775656800-1775664000@maulbeerblatt.com
SUMMARY:SpieleNachmittag: Skat-\, Brett-\, Kartenspiele
DESCRIPTION:Spielbegeisterte Erwachsene sind herzlich eingeladen\, Spiele sind vorhanden.
URL:https://maulbeerblatt.com/termin/spielenachmittag-skat-brett-kartenspiele/2026-04-08/
LOCATION:KulturTribüne vom Ortsverein Grünau e.V.\, KulturTribüne Grünau\, Regattastraße 191\, 12527 Berlin\, Berlin\, Berlin\, 12527\, Deutschland
CATEGORIES:Spiel & Spaß
END:VEVENT
BEGIN:VEVENT
DTSTART;TZID=Europe/Berlin:20260406T190000
DTEND;TZID=Europe/Berlin:20260406T210000
DTSTAMP:20260423T195421
CREATED:20260115T101635Z
LAST-MODIFIED:20260115T114044Z
UID:10089346-1775502000-1775509200@maulbeerblatt.com
SUMMARY:Alles ist Rhythmus
DESCRIPTION:Spaß und Gemeinschaft beim Spielen von Rhythmen aus Afrika\, Kuba\, Brasilien und eigenen Grooves.\nMit Cajon + Boomwhacker + Djembe + Shaker + Bodypercussion\nAnmeldung unter: info@ortsverein-gruenau.de\nBeitrag: 8€
URL:https://maulbeerblatt.com/termin/alles-ist-rhythmus/2026-04-06/
LOCATION:KulturTribüne vom Ortsverein Grünau e.V.\, KulturTribüne Grünau\, Regattastraße 191\, 12527 Berlin\, Berlin\, Berlin\, 12527\, Deutschland
CATEGORIES:Musik -Theater
END:VEVENT
BEGIN:VEVENT
DTSTART;TZID=Europe/Berlin:20260404T180000
DTEND;TZID=Europe/Berlin:20260404T220000
DTSTAMP:20260423T195421
CREATED:20260303T105346Z
LAST-MODIFIED:20260303T105346Z
UID:10091539-1775325600-1775340000@maulbeerblatt.com
SUMMARY:Grünauer Spieleabend - Werwölfe von Düsterwald
DESCRIPTION:In dem Gesellschaftsspiel geht es darum\, dass das kleine Dörfchen Düsterwald von Werwölfen heimgesucht wird. Die Gruppe der Dorfbewohner versucht\, die Wölfe\, die sich als Dorfbewohner getarnt haben\, zu entlarven. Dagegen versuchen die Wölfe\, als einzige zu überleben und Widersacher auszuschalten. Darüber hinaus gibt es Charaktere mit eigenen Zielen.\nJeder ist herzlich willkommen! \nNachfragen und Anmeldung unter: Berlinsdavid@gmx.de
URL:https://maulbeerblatt.com/termin/gruenauer-spieleabend-werwoelfe-von-duesterwald/
LOCATION:KulturTribüne vom Ortsverein Grünau e.V.\, KulturTribüne Grünau\, Regattastraße 191\, 12527 Berlin\, Berlin\, Berlin\, 12527\, Deutschland
CATEGORIES:Spiel & Spaß
END:VEVENT
BEGIN:VEVENT
DTSTART;TZID=Europe/Berlin:20260402T150000
DTEND;TZID=Europe/Berlin:20260402T180000
DTSTAMP:20260423T195421
CREATED:20260115T113811Z
LAST-MODIFIED:20260115T113811Z
UID:10089433-1775142000-1775152800@maulbeerblatt.com
SUMMARY:Kunstgespür
DESCRIPTION:Wöchentlicher Kunstkurs für Kinder und Jugendliche. \nInfos & Anmeldung: https://kunstgespür.de
URL:https://maulbeerblatt.com/termin/kunstgespuer/2026-04-02/
LOCATION:KulturTribüne vom Ortsverein Grünau e.V.\, KulturTribüne Grünau\, Regattastraße 191\, 12527 Berlin\, Berlin\, Berlin\, 12527\, Deutschland
CATEGORIES:Workshop
END:VEVENT
BEGIN:VEVENT
DTSTART;TZID=Europe/Berlin:20260401T180000
DTEND;TZID=Europe/Berlin:20260401T220000
DTSTAMP:20260423T195421
CREATED:20260115T113952Z
LAST-MODIFIED:20260115T113952Z
UID:10089389-1775066400-1775080800@maulbeerblatt.com
SUMMARY:GRANDiose Grünauer Skatfreunde
DESCRIPTION:Wettkampfskat in angenehmer Atmosphäre \nAlle sind herzlich willkommen!
URL:https://maulbeerblatt.com/termin/grandiose-gruenauer-skatfreunde/2026-04-01/
LOCATION:KulturTribüne vom Ortsverein Grünau e.V.\, KulturTribüne Grünau\, Regattastraße 191\, 12527 Berlin\, Berlin\, Berlin\, 12527\, Deutschland
CATEGORIES:Spiel & Spaß
END:VEVENT
BEGIN:VEVENT
DTSTART;TZID=Europe/Berlin:20260401T160000
DTEND;TZID=Europe/Berlin:20260401T183000
DTSTAMP:20260423T195421
CREATED:20260115T113915Z
LAST-MODIFIED:20260203T111508Z
UID:10089411-1775059200-1775068200@maulbeerblatt.com
SUMMARY:Nähen lernen in der KunstWerkstatt der KulturTribüne
DESCRIPTION:Wegwerfen war gestern.\nReparieren\, Nähen ist heute. \nUnter der Anleitung von Damenmaßschneiderin Bianca könnt ihr das Nähen lernen\, auch mit der Nähmaschine.\nBianca bietet ihren Nähkurs am Mittwoch 16:00 – 18:30 Uhr an.\nAnfänger sind herzlich willkommen\, eine Anmeldung ist erforderlich. Ihr könnt euch auch für einzelne Termine anmelden.\nAnmeldung bitte per E-Mail oder direkt im Kurs.\nNaeh-ich-mir@gmx.de\n(Kosten: 7 €)
URL:https://maulbeerblatt.com/termin/naehen-lernen-in-der-kunstwerkstatt-der-kulturtribuene/2026-04-01/
LOCATION:KulturTribüne vom Ortsverein Grünau e.V.\, KulturTribüne Grünau\, Regattastraße 191\, 12527 Berlin\, Berlin\, Berlin\, 12527\, Deutschland
CATEGORIES:Workshop
END:VEVENT
BEGIN:VEVENT
DTSTART;TZID=Europe/Berlin:20260401T140000
DTEND;TZID=Europe/Berlin:20260401T160000
DTSTAMP:20260423T195421
CREATED:20260115T101559Z
LAST-MODIFIED:20260115T101559Z
UID:10089367-1775052000-1775059200@maulbeerblatt.com
SUMMARY:SpieleNachmittag: Skat-\, Brett-\, Kartenspiele
DESCRIPTION:Spielbegeisterte Erwachsene sind herzlich eingeladen\, Spiele sind vorhanden.
URL:https://maulbeerblatt.com/termin/spielenachmittag-skat-brett-kartenspiele/2026-04-01/
LOCATION:KulturTribüne vom Ortsverein Grünau e.V.\, KulturTribüne Grünau\, Regattastraße 191\, 12527 Berlin\, Berlin\, Berlin\, 12527\, Deutschland
CATEGORIES:Spiel & Spaß
END:VEVENT
END:VCALENDAR