BEGIN:VCALENDAR
VERSION:2.0
PRODID:-//Der Maulbär - ECPv6.15.17.1//NONSGML v1.0//EN
CALSCALE:GREGORIAN
METHOD:PUBLISH
X-ORIGINAL-URL:https://maulbeerblatt.com
X-WR-CALDESC:Veranstaltungen für Der Maulbär
REFRESH-INTERVAL;VALUE=DURATION:PT1H
X-Robots-Tag:noindex
X-PUBLISHED-TTL:PT1H
BEGIN:VTIMEZONE
TZID:Europe/Berlin
BEGIN:DAYLIGHT
TZOFFSETFROM:+0100
TZOFFSETTO:+0200
TZNAME:CEST
DTSTART:20250330T010000
END:DAYLIGHT
BEGIN:STANDARD
TZOFFSETFROM:+0200
TZOFFSETTO:+0100
TZNAME:CET
DTSTART:20251026T010000
END:STANDARD
BEGIN:DAYLIGHT
TZOFFSETFROM:+0100
TZOFFSETTO:+0200
TZNAME:CEST
DTSTART:20260329T010000
END:DAYLIGHT
BEGIN:STANDARD
TZOFFSETFROM:+0200
TZOFFSETTO:+0100
TZNAME:CET
DTSTART:20261025T010000
END:STANDARD
BEGIN:DAYLIGHT
TZOFFSETFROM:+0100
TZOFFSETTO:+0200
TZNAME:CEST
DTSTART:20270328T010000
END:DAYLIGHT
BEGIN:STANDARD
TZOFFSETFROM:+0200
TZOFFSETTO:+0100
TZNAME:CET
DTSTART:20271031T010000
END:STANDARD
END:VTIMEZONE
BEGIN:VEVENT
DTSTART;TZID=Europe/Berlin:20260929T160000
DTEND;TZID=Europe/Berlin:20260929T170000
DTSTAMP:20260424T225824
CREATED:20260303T151253Z
LAST-MODIFIED:20260303T151253Z
UID:10091830-1790697600-1790701200@maulbeerblatt.com
SUMMARY:Ingrid Weng: Natur wie ich sie sehe (Teil 2)
DESCRIPTION:Ingrid Weng ( geb. 1937) ist Hobbyfotografin\, eine Grünauerin in ihrem Kiez unterwegs. Ihre Eindrücke und Beobachtungen zeigt diese Ausstellung.\nDie Ausstellung ist bis zum 28.05.2026 zu sehen. \nEintritt frei
URL:https://maulbeerblatt.com/termin/ingrid-weng-natur-wie-ich-sie-sehe-teil-2/2026-09-29/
LOCATION:KulturTribüne vom Ortsverein Grünau e.V.\, KulturTribüne Grünau\, Regattastraße 191\, 12527 Berlin\, Berlin\, Berlin\, 12527\, Deutschland
CATEGORIES:Ausstellung
END:VEVENT
BEGIN:VEVENT
DTSTART;TZID=Europe/Berlin:20260930T160000
DTEND;TZID=Europe/Berlin:20260930T170000
DTSTAMP:20260424T225824
CREATED:20260303T151253Z
LAST-MODIFIED:20260303T151253Z
UID:10091831-1790784000-1790787600@maulbeerblatt.com
SUMMARY:Ingrid Weng: Natur wie ich sie sehe (Teil 2)
DESCRIPTION:Ingrid Weng ( geb. 1937) ist Hobbyfotografin\, eine Grünauerin in ihrem Kiez unterwegs. Ihre Eindrücke und Beobachtungen zeigt diese Ausstellung.\nDie Ausstellung ist bis zum 28.05.2026 zu sehen. \nEintritt frei
URL:https://maulbeerblatt.com/termin/ingrid-weng-natur-wie-ich-sie-sehe-teil-2/2026-09-30/
LOCATION:KulturTribüne vom Ortsverein Grünau e.V.\, KulturTribüne Grünau\, Regattastraße 191\, 12527 Berlin\, Berlin\, Berlin\, 12527\, Deutschland
CATEGORIES:Ausstellung
END:VEVENT
BEGIN:VEVENT
DTSTART;TZID=Europe/Berlin:20261001T160000
DTEND;TZID=Europe/Berlin:20261001T170000
DTSTAMP:20260424T225824
CREATED:20260303T151253Z
LAST-MODIFIED:20260303T151253Z
UID:10091832-1790870400-1790874000@maulbeerblatt.com
SUMMARY:Ingrid Weng: Natur wie ich sie sehe (Teil 2)
DESCRIPTION:Ingrid Weng ( geb. 1937) ist Hobbyfotografin\, eine Grünauerin in ihrem Kiez unterwegs. Ihre Eindrücke und Beobachtungen zeigt diese Ausstellung.\nDie Ausstellung ist bis zum 28.05.2026 zu sehen. \nEintritt frei
URL:https://maulbeerblatt.com/termin/ingrid-weng-natur-wie-ich-sie-sehe-teil-2/2026-10-01/
LOCATION:KulturTribüne vom Ortsverein Grünau e.V.\, KulturTribüne Grünau\, Regattastraße 191\, 12527 Berlin\, Berlin\, Berlin\, 12527\, Deutschland
CATEGORIES:Ausstellung
END:VEVENT
BEGIN:VEVENT
DTSTART;TZID=Europe/Berlin:20261002T160000
DTEND;TZID=Europe/Berlin:20261002T170000
DTSTAMP:20260424T225824
CREATED:20260303T151253Z
LAST-MODIFIED:20260303T151253Z
UID:10091833-1790956800-1790960400@maulbeerblatt.com
SUMMARY:Ingrid Weng: Natur wie ich sie sehe (Teil 2)
DESCRIPTION:Ingrid Weng ( geb. 1937) ist Hobbyfotografin\, eine Grünauerin in ihrem Kiez unterwegs. Ihre Eindrücke und Beobachtungen zeigt diese Ausstellung.\nDie Ausstellung ist bis zum 28.05.2026 zu sehen. \nEintritt frei
URL:https://maulbeerblatt.com/termin/ingrid-weng-natur-wie-ich-sie-sehe-teil-2/2026-10-02/
LOCATION:KulturTribüne vom Ortsverein Grünau e.V.\, KulturTribüne Grünau\, Regattastraße 191\, 12527 Berlin\, Berlin\, Berlin\, 12527\, Deutschland
CATEGORIES:Ausstellung
END:VEVENT
BEGIN:VEVENT
DTSTART;TZID=Europe/Berlin:20261003T160000
DTEND;TZID=Europe/Berlin:20261003T170000
DTSTAMP:20260424T225824
CREATED:20260303T151253Z
LAST-MODIFIED:20260303T151253Z
UID:10091834-1791043200-1791046800@maulbeerblatt.com
SUMMARY:Ingrid Weng: Natur wie ich sie sehe (Teil 2)
DESCRIPTION:Ingrid Weng ( geb. 1937) ist Hobbyfotografin\, eine Grünauerin in ihrem Kiez unterwegs. Ihre Eindrücke und Beobachtungen zeigt diese Ausstellung.\nDie Ausstellung ist bis zum 28.05.2026 zu sehen. \nEintritt frei
URL:https://maulbeerblatt.com/termin/ingrid-weng-natur-wie-ich-sie-sehe-teil-2/2026-10-03/
LOCATION:KulturTribüne vom Ortsverein Grünau e.V.\, KulturTribüne Grünau\, Regattastraße 191\, 12527 Berlin\, Berlin\, Berlin\, 12527\, Deutschland
CATEGORIES:Ausstellung
END:VEVENT
BEGIN:VEVENT
DTSTART;TZID=Europe/Berlin:20261004T160000
DTEND;TZID=Europe/Berlin:20261004T170000
DTSTAMP:20260424T225824
CREATED:20260303T151253Z
LAST-MODIFIED:20260303T151253Z
UID:10091835-1791129600-1791133200@maulbeerblatt.com
SUMMARY:Ingrid Weng: Natur wie ich sie sehe (Teil 2)
DESCRIPTION:Ingrid Weng ( geb. 1937) ist Hobbyfotografin\, eine Grünauerin in ihrem Kiez unterwegs. Ihre Eindrücke und Beobachtungen zeigt diese Ausstellung.\nDie Ausstellung ist bis zum 28.05.2026 zu sehen. \nEintritt frei
URL:https://maulbeerblatt.com/termin/ingrid-weng-natur-wie-ich-sie-sehe-teil-2/2026-10-04/
LOCATION:KulturTribüne vom Ortsverein Grünau e.V.\, KulturTribüne Grünau\, Regattastraße 191\, 12527 Berlin\, Berlin\, Berlin\, 12527\, Deutschland
CATEGORIES:Ausstellung
END:VEVENT
BEGIN:VEVENT
DTSTART;TZID=Europe/Berlin:20261005T160000
DTEND;TZID=Europe/Berlin:20261005T170000
DTSTAMP:20260424T225824
CREATED:20260303T151253Z
LAST-MODIFIED:20260303T151253Z
UID:10091836-1791216000-1791219600@maulbeerblatt.com
SUMMARY:Ingrid Weng: Natur wie ich sie sehe (Teil 2)
DESCRIPTION:Ingrid Weng ( geb. 1937) ist Hobbyfotografin\, eine Grünauerin in ihrem Kiez unterwegs. Ihre Eindrücke und Beobachtungen zeigt diese Ausstellung.\nDie Ausstellung ist bis zum 28.05.2026 zu sehen. \nEintritt frei
URL:https://maulbeerblatt.com/termin/ingrid-weng-natur-wie-ich-sie-sehe-teil-2/2026-10-05/
LOCATION:KulturTribüne vom Ortsverein Grünau e.V.\, KulturTribüne Grünau\, Regattastraße 191\, 12527 Berlin\, Berlin\, Berlin\, 12527\, Deutschland
CATEGORIES:Ausstellung
END:VEVENT
BEGIN:VEVENT
DTSTART;TZID=Europe/Berlin:20261006T160000
DTEND;TZID=Europe/Berlin:20261006T170000
DTSTAMP:20260424T225824
CREATED:20260303T151253Z
LAST-MODIFIED:20260303T151253Z
UID:10091837-1791302400-1791306000@maulbeerblatt.com
SUMMARY:Ingrid Weng: Natur wie ich sie sehe (Teil 2)
DESCRIPTION:Ingrid Weng ( geb. 1937) ist Hobbyfotografin\, eine Grünauerin in ihrem Kiez unterwegs. Ihre Eindrücke und Beobachtungen zeigt diese Ausstellung.\nDie Ausstellung ist bis zum 28.05.2026 zu sehen. \nEintritt frei
URL:https://maulbeerblatt.com/termin/ingrid-weng-natur-wie-ich-sie-sehe-teil-2/2026-10-06/
LOCATION:KulturTribüne vom Ortsverein Grünau e.V.\, KulturTribüne Grünau\, Regattastraße 191\, 12527 Berlin\, Berlin\, Berlin\, 12527\, Deutschland
CATEGORIES:Ausstellung
END:VEVENT
BEGIN:VEVENT
DTSTART;TZID=Europe/Berlin:20261007T160000
DTEND;TZID=Europe/Berlin:20261007T170000
DTSTAMP:20260424T225824
CREATED:20260303T151253Z
LAST-MODIFIED:20260303T151253Z
UID:10091838-1791388800-1791392400@maulbeerblatt.com
SUMMARY:Ingrid Weng: Natur wie ich sie sehe (Teil 2)
DESCRIPTION:Ingrid Weng ( geb. 1937) ist Hobbyfotografin\, eine Grünauerin in ihrem Kiez unterwegs. Ihre Eindrücke und Beobachtungen zeigt diese Ausstellung.\nDie Ausstellung ist bis zum 28.05.2026 zu sehen. \nEintritt frei
URL:https://maulbeerblatt.com/termin/ingrid-weng-natur-wie-ich-sie-sehe-teil-2/2026-10-07/
LOCATION:KulturTribüne vom Ortsverein Grünau e.V.\, KulturTribüne Grünau\, Regattastraße 191\, 12527 Berlin\, Berlin\, Berlin\, 12527\, Deutschland
CATEGORIES:Ausstellung
END:VEVENT
BEGIN:VEVENT
DTSTART;TZID=Europe/Berlin:20261008T160000
DTEND;TZID=Europe/Berlin:20261008T170000
DTSTAMP:20260424T225824
CREATED:20260303T151253Z
LAST-MODIFIED:20260303T151253Z
UID:10091839-1791475200-1791478800@maulbeerblatt.com
SUMMARY:Ingrid Weng: Natur wie ich sie sehe (Teil 2)
DESCRIPTION:Ingrid Weng ( geb. 1937) ist Hobbyfotografin\, eine Grünauerin in ihrem Kiez unterwegs. Ihre Eindrücke und Beobachtungen zeigt diese Ausstellung.\nDie Ausstellung ist bis zum 28.05.2026 zu sehen. \nEintritt frei
URL:https://maulbeerblatt.com/termin/ingrid-weng-natur-wie-ich-sie-sehe-teil-2/2026-10-08/
LOCATION:KulturTribüne vom Ortsverein Grünau e.V.\, KulturTribüne Grünau\, Regattastraße 191\, 12527 Berlin\, Berlin\, Berlin\, 12527\, Deutschland
CATEGORIES:Ausstellung
END:VEVENT
BEGIN:VEVENT
DTSTART;TZID=Europe/Berlin:20261009T160000
DTEND;TZID=Europe/Berlin:20261009T170000
DTSTAMP:20260424T225824
CREATED:20260303T151253Z
LAST-MODIFIED:20260303T151253Z
UID:10091840-1791561600-1791565200@maulbeerblatt.com
SUMMARY:Ingrid Weng: Natur wie ich sie sehe (Teil 2)
DESCRIPTION:Ingrid Weng ( geb. 1937) ist Hobbyfotografin\, eine Grünauerin in ihrem Kiez unterwegs. Ihre Eindrücke und Beobachtungen zeigt diese Ausstellung.\nDie Ausstellung ist bis zum 28.05.2026 zu sehen. \nEintritt frei
URL:https://maulbeerblatt.com/termin/ingrid-weng-natur-wie-ich-sie-sehe-teil-2/2026-10-09/
LOCATION:KulturTribüne vom Ortsverein Grünau e.V.\, KulturTribüne Grünau\, Regattastraße 191\, 12527 Berlin\, Berlin\, Berlin\, 12527\, Deutschland
CATEGORIES:Ausstellung
END:VEVENT
BEGIN:VEVENT
DTSTART;TZID=Europe/Berlin:20261010T160000
DTEND;TZID=Europe/Berlin:20261010T170000
DTSTAMP:20260424T225824
CREATED:20260303T151253Z
LAST-MODIFIED:20260303T151253Z
UID:10091841-1791648000-1791651600@maulbeerblatt.com
SUMMARY:Ingrid Weng: Natur wie ich sie sehe (Teil 2)
DESCRIPTION:Ingrid Weng ( geb. 1937) ist Hobbyfotografin\, eine Grünauerin in ihrem Kiez unterwegs. Ihre Eindrücke und Beobachtungen zeigt diese Ausstellung.\nDie Ausstellung ist bis zum 28.05.2026 zu sehen. \nEintritt frei
URL:https://maulbeerblatt.com/termin/ingrid-weng-natur-wie-ich-sie-sehe-teil-2/2026-10-10/
LOCATION:KulturTribüne vom Ortsverein Grünau e.V.\, KulturTribüne Grünau\, Regattastraße 191\, 12527 Berlin\, Berlin\, Berlin\, 12527\, Deutschland
CATEGORIES:Ausstellung
END:VEVENT
BEGIN:VEVENT
DTSTART;TZID=Europe/Berlin:20261011T160000
DTEND;TZID=Europe/Berlin:20261011T170000
DTSTAMP:20260424T225824
CREATED:20260303T151253Z
LAST-MODIFIED:20260303T151253Z
UID:10091842-1791734400-1791738000@maulbeerblatt.com
SUMMARY:Ingrid Weng: Natur wie ich sie sehe (Teil 2)
DESCRIPTION:Ingrid Weng ( geb. 1937) ist Hobbyfotografin\, eine Grünauerin in ihrem Kiez unterwegs. Ihre Eindrücke und Beobachtungen zeigt diese Ausstellung.\nDie Ausstellung ist bis zum 28.05.2026 zu sehen. \nEintritt frei
URL:https://maulbeerblatt.com/termin/ingrid-weng-natur-wie-ich-sie-sehe-teil-2/2026-10-11/
LOCATION:KulturTribüne vom Ortsverein Grünau e.V.\, KulturTribüne Grünau\, Regattastraße 191\, 12527 Berlin\, Berlin\, Berlin\, 12527\, Deutschland
CATEGORIES:Ausstellung
END:VEVENT
BEGIN:VEVENT
DTSTART;TZID=Europe/Berlin:20261012T160000
DTEND;TZID=Europe/Berlin:20261012T170000
DTSTAMP:20260424T225824
CREATED:20260303T151253Z
LAST-MODIFIED:20260303T151253Z
UID:10091843-1791820800-1791824400@maulbeerblatt.com
SUMMARY:Ingrid Weng: Natur wie ich sie sehe (Teil 2)
DESCRIPTION:Ingrid Weng ( geb. 1937) ist Hobbyfotografin\, eine Grünauerin in ihrem Kiez unterwegs. Ihre Eindrücke und Beobachtungen zeigt diese Ausstellung.\nDie Ausstellung ist bis zum 28.05.2026 zu sehen. \nEintritt frei
URL:https://maulbeerblatt.com/termin/ingrid-weng-natur-wie-ich-sie-sehe-teil-2/2026-10-12/
LOCATION:KulturTribüne vom Ortsverein Grünau e.V.\, KulturTribüne Grünau\, Regattastraße 191\, 12527 Berlin\, Berlin\, Berlin\, 12527\, Deutschland
CATEGORIES:Ausstellung
END:VEVENT
BEGIN:VEVENT
DTSTART;TZID=Europe/Berlin:20261013T160000
DTEND;TZID=Europe/Berlin:20261013T170000
DTSTAMP:20260424T225824
CREATED:20260303T151253Z
LAST-MODIFIED:20260303T151253Z
UID:10091844-1791907200-1791910800@maulbeerblatt.com
SUMMARY:Ingrid Weng: Natur wie ich sie sehe (Teil 2)
DESCRIPTION:Ingrid Weng ( geb. 1937) ist Hobbyfotografin\, eine Grünauerin in ihrem Kiez unterwegs. Ihre Eindrücke und Beobachtungen zeigt diese Ausstellung.\nDie Ausstellung ist bis zum 28.05.2026 zu sehen. \nEintritt frei
URL:https://maulbeerblatt.com/termin/ingrid-weng-natur-wie-ich-sie-sehe-teil-2/2026-10-13/
LOCATION:KulturTribüne vom Ortsverein Grünau e.V.\, KulturTribüne Grünau\, Regattastraße 191\, 12527 Berlin\, Berlin\, Berlin\, 12527\, Deutschland
CATEGORIES:Ausstellung
END:VEVENT
BEGIN:VEVENT
DTSTART;TZID=Europe/Berlin:20261014T160000
DTEND;TZID=Europe/Berlin:20261014T170000
DTSTAMP:20260424T225824
CREATED:20260303T151253Z
LAST-MODIFIED:20260303T151253Z
UID:10091845-1791993600-1791997200@maulbeerblatt.com
SUMMARY:Ingrid Weng: Natur wie ich sie sehe (Teil 2)
DESCRIPTION:Ingrid Weng ( geb. 1937) ist Hobbyfotografin\, eine Grünauerin in ihrem Kiez unterwegs. Ihre Eindrücke und Beobachtungen zeigt diese Ausstellung.\nDie Ausstellung ist bis zum 28.05.2026 zu sehen. \nEintritt frei
URL:https://maulbeerblatt.com/termin/ingrid-weng-natur-wie-ich-sie-sehe-teil-2/2026-10-14/
LOCATION:KulturTribüne vom Ortsverein Grünau e.V.\, KulturTribüne Grünau\, Regattastraße 191\, 12527 Berlin\, Berlin\, Berlin\, 12527\, Deutschland
CATEGORIES:Ausstellung
END:VEVENT
BEGIN:VEVENT
DTSTART;TZID=Europe/Berlin:20261015T160000
DTEND;TZID=Europe/Berlin:20261015T170000
DTSTAMP:20260424T225824
CREATED:20260303T151253Z
LAST-MODIFIED:20260303T151253Z
UID:10091846-1792080000-1792083600@maulbeerblatt.com
SUMMARY:Ingrid Weng: Natur wie ich sie sehe (Teil 2)
DESCRIPTION:Ingrid Weng ( geb. 1937) ist Hobbyfotografin\, eine Grünauerin in ihrem Kiez unterwegs. Ihre Eindrücke und Beobachtungen zeigt diese Ausstellung.\nDie Ausstellung ist bis zum 28.05.2026 zu sehen. \nEintritt frei
URL:https://maulbeerblatt.com/termin/ingrid-weng-natur-wie-ich-sie-sehe-teil-2/2026-10-15/
LOCATION:KulturTribüne vom Ortsverein Grünau e.V.\, KulturTribüne Grünau\, Regattastraße 191\, 12527 Berlin\, Berlin\, Berlin\, 12527\, Deutschland
CATEGORIES:Ausstellung
END:VEVENT
BEGIN:VEVENT
DTSTART;TZID=Europe/Berlin:20261016T160000
DTEND;TZID=Europe/Berlin:20261016T170000
DTSTAMP:20260424T225824
CREATED:20260303T151253Z
LAST-MODIFIED:20260303T151253Z
UID:10091847-1792166400-1792170000@maulbeerblatt.com
SUMMARY:Ingrid Weng: Natur wie ich sie sehe (Teil 2)
DESCRIPTION:Ingrid Weng ( geb. 1937) ist Hobbyfotografin\, eine Grünauerin in ihrem Kiez unterwegs. Ihre Eindrücke und Beobachtungen zeigt diese Ausstellung.\nDie Ausstellung ist bis zum 28.05.2026 zu sehen. \nEintritt frei
URL:https://maulbeerblatt.com/termin/ingrid-weng-natur-wie-ich-sie-sehe-teil-2/2026-10-16/
LOCATION:KulturTribüne vom Ortsverein Grünau e.V.\, KulturTribüne Grünau\, Regattastraße 191\, 12527 Berlin\, Berlin\, Berlin\, 12527\, Deutschland
CATEGORIES:Ausstellung
END:VEVENT
BEGIN:VEVENT
DTSTART;TZID=Europe/Berlin:20261017T160000
DTEND;TZID=Europe/Berlin:20261017T170000
DTSTAMP:20260424T225824
CREATED:20260303T151253Z
LAST-MODIFIED:20260303T151253Z
UID:10091848-1792252800-1792256400@maulbeerblatt.com
SUMMARY:Ingrid Weng: Natur wie ich sie sehe (Teil 2)
DESCRIPTION:Ingrid Weng ( geb. 1937) ist Hobbyfotografin\, eine Grünauerin in ihrem Kiez unterwegs. Ihre Eindrücke und Beobachtungen zeigt diese Ausstellung.\nDie Ausstellung ist bis zum 28.05.2026 zu sehen. \nEintritt frei
URL:https://maulbeerblatt.com/termin/ingrid-weng-natur-wie-ich-sie-sehe-teil-2/2026-10-17/
LOCATION:KulturTribüne vom Ortsverein Grünau e.V.\, KulturTribüne Grünau\, Regattastraße 191\, 12527 Berlin\, Berlin\, Berlin\, 12527\, Deutschland
CATEGORIES:Ausstellung
END:VEVENT
BEGIN:VEVENT
DTSTART;TZID=Europe/Berlin:20261018T160000
DTEND;TZID=Europe/Berlin:20261018T170000
DTSTAMP:20260424T225824
CREATED:20260303T151253Z
LAST-MODIFIED:20260303T151253Z
UID:10091849-1792339200-1792342800@maulbeerblatt.com
SUMMARY:Ingrid Weng: Natur wie ich sie sehe (Teil 2)
DESCRIPTION:Ingrid Weng ( geb. 1937) ist Hobbyfotografin\, eine Grünauerin in ihrem Kiez unterwegs. Ihre Eindrücke und Beobachtungen zeigt diese Ausstellung.\nDie Ausstellung ist bis zum 28.05.2026 zu sehen. \nEintritt frei
URL:https://maulbeerblatt.com/termin/ingrid-weng-natur-wie-ich-sie-sehe-teil-2/2026-10-18/
LOCATION:KulturTribüne vom Ortsverein Grünau e.V.\, KulturTribüne Grünau\, Regattastraße 191\, 12527 Berlin\, Berlin\, Berlin\, 12527\, Deutschland
CATEGORIES:Ausstellung
END:VEVENT
BEGIN:VEVENT
DTSTART;TZID=Europe/Berlin:20261019T160000
DTEND;TZID=Europe/Berlin:20261019T170000
DTSTAMP:20260424T225824
CREATED:20260303T151253Z
LAST-MODIFIED:20260303T151253Z
UID:10091850-1792425600-1792429200@maulbeerblatt.com
SUMMARY:Ingrid Weng: Natur wie ich sie sehe (Teil 2)
DESCRIPTION:Ingrid Weng ( geb. 1937) ist Hobbyfotografin\, eine Grünauerin in ihrem Kiez unterwegs. Ihre Eindrücke und Beobachtungen zeigt diese Ausstellung.\nDie Ausstellung ist bis zum 28.05.2026 zu sehen. \nEintritt frei
URL:https://maulbeerblatt.com/termin/ingrid-weng-natur-wie-ich-sie-sehe-teil-2/2026-10-19/
LOCATION:KulturTribüne vom Ortsverein Grünau e.V.\, KulturTribüne Grünau\, Regattastraße 191\, 12527 Berlin\, Berlin\, Berlin\, 12527\, Deutschland
CATEGORIES:Ausstellung
END:VEVENT
BEGIN:VEVENT
DTSTART;TZID=Europe/Berlin:20261020T160000
DTEND;TZID=Europe/Berlin:20261020T170000
DTSTAMP:20260424T225824
CREATED:20260303T151253Z
LAST-MODIFIED:20260303T151253Z
UID:10091851-1792512000-1792515600@maulbeerblatt.com
SUMMARY:Ingrid Weng: Natur wie ich sie sehe (Teil 2)
DESCRIPTION:Ingrid Weng ( geb. 1937) ist Hobbyfotografin\, eine Grünauerin in ihrem Kiez unterwegs. Ihre Eindrücke und Beobachtungen zeigt diese Ausstellung.\nDie Ausstellung ist bis zum 28.05.2026 zu sehen. \nEintritt frei
URL:https://maulbeerblatt.com/termin/ingrid-weng-natur-wie-ich-sie-sehe-teil-2/2026-10-20/
LOCATION:KulturTribüne vom Ortsverein Grünau e.V.\, KulturTribüne Grünau\, Regattastraße 191\, 12527 Berlin\, Berlin\, Berlin\, 12527\, Deutschland
CATEGORIES:Ausstellung
END:VEVENT
BEGIN:VEVENT
DTSTART;TZID=Europe/Berlin:20261021T160000
DTEND;TZID=Europe/Berlin:20261021T170000
DTSTAMP:20260424T225824
CREATED:20260303T151253Z
LAST-MODIFIED:20260303T151253Z
UID:10091852-1792598400-1792602000@maulbeerblatt.com
SUMMARY:Ingrid Weng: Natur wie ich sie sehe (Teil 2)
DESCRIPTION:Ingrid Weng ( geb. 1937) ist Hobbyfotografin\, eine Grünauerin in ihrem Kiez unterwegs. Ihre Eindrücke und Beobachtungen zeigt diese Ausstellung.\nDie Ausstellung ist bis zum 28.05.2026 zu sehen. \nEintritt frei
URL:https://maulbeerblatt.com/termin/ingrid-weng-natur-wie-ich-sie-sehe-teil-2/2026-10-21/
LOCATION:KulturTribüne vom Ortsverein Grünau e.V.\, KulturTribüne Grünau\, Regattastraße 191\, 12527 Berlin\, Berlin\, Berlin\, 12527\, Deutschland
CATEGORIES:Ausstellung
END:VEVENT
BEGIN:VEVENT
DTSTART;TZID=Europe/Berlin:20261022T160000
DTEND;TZID=Europe/Berlin:20261022T170000
DTSTAMP:20260424T225824
CREATED:20260303T151253Z
LAST-MODIFIED:20260303T151253Z
UID:10091853-1792684800-1792688400@maulbeerblatt.com
SUMMARY:Ingrid Weng: Natur wie ich sie sehe (Teil 2)
DESCRIPTION:Ingrid Weng ( geb. 1937) ist Hobbyfotografin\, eine Grünauerin in ihrem Kiez unterwegs. Ihre Eindrücke und Beobachtungen zeigt diese Ausstellung.\nDie Ausstellung ist bis zum 28.05.2026 zu sehen. \nEintritt frei
URL:https://maulbeerblatt.com/termin/ingrid-weng-natur-wie-ich-sie-sehe-teil-2/2026-10-22/
LOCATION:KulturTribüne vom Ortsverein Grünau e.V.\, KulturTribüne Grünau\, Regattastraße 191\, 12527 Berlin\, Berlin\, Berlin\, 12527\, Deutschland
CATEGORIES:Ausstellung
END:VEVENT
BEGIN:VEVENT
DTSTART;TZID=Europe/Berlin:20261023T160000
DTEND;TZID=Europe/Berlin:20261023T170000
DTSTAMP:20260424T225824
CREATED:20260303T151253Z
LAST-MODIFIED:20260303T151253Z
UID:10091854-1792771200-1792774800@maulbeerblatt.com
SUMMARY:Ingrid Weng: Natur wie ich sie sehe (Teil 2)
DESCRIPTION:Ingrid Weng ( geb. 1937) ist Hobbyfotografin\, eine Grünauerin in ihrem Kiez unterwegs. Ihre Eindrücke und Beobachtungen zeigt diese Ausstellung.\nDie Ausstellung ist bis zum 28.05.2026 zu sehen. \nEintritt frei
URL:https://maulbeerblatt.com/termin/ingrid-weng-natur-wie-ich-sie-sehe-teil-2/2026-10-23/
LOCATION:KulturTribüne vom Ortsverein Grünau e.V.\, KulturTribüne Grünau\, Regattastraße 191\, 12527 Berlin\, Berlin\, Berlin\, 12527\, Deutschland
CATEGORIES:Ausstellung
END:VEVENT
BEGIN:VEVENT
DTSTART;TZID=Europe/Berlin:20261024T160000
DTEND;TZID=Europe/Berlin:20261024T170000
DTSTAMP:20260424T225824
CREATED:20260303T151253Z
LAST-MODIFIED:20260303T151253Z
UID:10091855-1792857600-1792861200@maulbeerblatt.com
SUMMARY:Ingrid Weng: Natur wie ich sie sehe (Teil 2)
DESCRIPTION:Ingrid Weng ( geb. 1937) ist Hobbyfotografin\, eine Grünauerin in ihrem Kiez unterwegs. Ihre Eindrücke und Beobachtungen zeigt diese Ausstellung.\nDie Ausstellung ist bis zum 28.05.2026 zu sehen. \nEintritt frei
URL:https://maulbeerblatt.com/termin/ingrid-weng-natur-wie-ich-sie-sehe-teil-2/2026-10-24/
LOCATION:KulturTribüne vom Ortsverein Grünau e.V.\, KulturTribüne Grünau\, Regattastraße 191\, 12527 Berlin\, Berlin\, Berlin\, 12527\, Deutschland
CATEGORIES:Ausstellung
END:VEVENT
BEGIN:VEVENT
DTSTART;TZID=Europe/Berlin:20261025T160000
DTEND;TZID=Europe/Berlin:20261025T170000
DTSTAMP:20260424T225824
CREATED:20260303T151253Z
LAST-MODIFIED:20260303T151253Z
UID:10091856-1792944000-1792947600@maulbeerblatt.com
SUMMARY:Ingrid Weng: Natur wie ich sie sehe (Teil 2)
DESCRIPTION:Ingrid Weng ( geb. 1937) ist Hobbyfotografin\, eine Grünauerin in ihrem Kiez unterwegs. Ihre Eindrücke und Beobachtungen zeigt diese Ausstellung.\nDie Ausstellung ist bis zum 28.05.2026 zu sehen. \nEintritt frei
URL:https://maulbeerblatt.com/termin/ingrid-weng-natur-wie-ich-sie-sehe-teil-2/2026-10-25/
LOCATION:KulturTribüne vom Ortsverein Grünau e.V.\, KulturTribüne Grünau\, Regattastraße 191\, 12527 Berlin\, Berlin\, Berlin\, 12527\, Deutschland
CATEGORIES:Ausstellung
END:VEVENT
BEGIN:VEVENT
DTSTART;TZID=Europe/Berlin:20261026T160000
DTEND;TZID=Europe/Berlin:20261026T170000
DTSTAMP:20260424T225824
CREATED:20260303T151253Z
LAST-MODIFIED:20260303T151253Z
UID:10091857-1793030400-1793034000@maulbeerblatt.com
SUMMARY:Ingrid Weng: Natur wie ich sie sehe (Teil 2)
DESCRIPTION:Ingrid Weng ( geb. 1937) ist Hobbyfotografin\, eine Grünauerin in ihrem Kiez unterwegs. Ihre Eindrücke und Beobachtungen zeigt diese Ausstellung.\nDie Ausstellung ist bis zum 28.05.2026 zu sehen. \nEintritt frei
URL:https://maulbeerblatt.com/termin/ingrid-weng-natur-wie-ich-sie-sehe-teil-2/2026-10-26/
LOCATION:KulturTribüne vom Ortsverein Grünau e.V.\, KulturTribüne Grünau\, Regattastraße 191\, 12527 Berlin\, Berlin\, Berlin\, 12527\, Deutschland
CATEGORIES:Ausstellung
END:VEVENT
BEGIN:VEVENT
DTSTART;TZID=Europe/Berlin:20261027T160000
DTEND;TZID=Europe/Berlin:20261027T170000
DTSTAMP:20260424T225824
CREATED:20260303T151253Z
LAST-MODIFIED:20260303T151253Z
UID:10091858-1793116800-1793120400@maulbeerblatt.com
SUMMARY:Ingrid Weng: Natur wie ich sie sehe (Teil 2)
DESCRIPTION:Ingrid Weng ( geb. 1937) ist Hobbyfotografin\, eine Grünauerin in ihrem Kiez unterwegs. Ihre Eindrücke und Beobachtungen zeigt diese Ausstellung.\nDie Ausstellung ist bis zum 28.05.2026 zu sehen. \nEintritt frei
URL:https://maulbeerblatt.com/termin/ingrid-weng-natur-wie-ich-sie-sehe-teil-2/2026-10-27/
LOCATION:KulturTribüne vom Ortsverein Grünau e.V.\, KulturTribüne Grünau\, Regattastraße 191\, 12527 Berlin\, Berlin\, Berlin\, 12527\, Deutschland
CATEGORIES:Ausstellung
END:VEVENT
BEGIN:VEVENT
DTSTART;TZID=Europe/Berlin:20261028T160000
DTEND;TZID=Europe/Berlin:20261028T170000
DTSTAMP:20260424T225824
CREATED:20260303T151253Z
LAST-MODIFIED:20260303T151253Z
UID:10091859-1793203200-1793206800@maulbeerblatt.com
SUMMARY:Ingrid Weng: Natur wie ich sie sehe (Teil 2)
DESCRIPTION:Ingrid Weng ( geb. 1937) ist Hobbyfotografin\, eine Grünauerin in ihrem Kiez unterwegs. Ihre Eindrücke und Beobachtungen zeigt diese Ausstellung.\nDie Ausstellung ist bis zum 28.05.2026 zu sehen. \nEintritt frei
URL:https://maulbeerblatt.com/termin/ingrid-weng-natur-wie-ich-sie-sehe-teil-2/2026-10-28/
LOCATION:KulturTribüne vom Ortsverein Grünau e.V.\, KulturTribüne Grünau\, Regattastraße 191\, 12527 Berlin\, Berlin\, Berlin\, 12527\, Deutschland
CATEGORIES:Ausstellung
END:VEVENT
END:VCALENDAR