BEGIN:VCALENDAR
VERSION:2.0
PRODID:-//Der Maulbär - ECPv6.15.17.1//NONSGML v1.0//EN
CALSCALE:GREGORIAN
METHOD:PUBLISH
X-ORIGINAL-URL:https://maulbeerblatt.com
X-WR-CALDESC:Veranstaltungen für Der Maulbär
REFRESH-INTERVAL;VALUE=DURATION:PT1H
X-Robots-Tag:noindex
X-PUBLISHED-TTL:PT1H
BEGIN:VTIMEZONE
TZID:Europe/Berlin
BEGIN:DAYLIGHT
TZOFFSETFROM:+0100
TZOFFSETTO:+0200
TZNAME:CEST
DTSTART:20250330T010000
END:DAYLIGHT
BEGIN:STANDARD
TZOFFSETFROM:+0200
TZOFFSETTO:+0100
TZNAME:CET
DTSTART:20251026T010000
END:STANDARD
BEGIN:DAYLIGHT
TZOFFSETFROM:+0100
TZOFFSETTO:+0200
TZNAME:CEST
DTSTART:20260329T010000
END:DAYLIGHT
BEGIN:STANDARD
TZOFFSETFROM:+0200
TZOFFSETTO:+0100
TZNAME:CET
DTSTART:20261025T010000
END:STANDARD
BEGIN:DAYLIGHT
TZOFFSETFROM:+0100
TZOFFSETTO:+0200
TZNAME:CEST
DTSTART:20270328T010000
END:DAYLIGHT
BEGIN:STANDARD
TZOFFSETFROM:+0200
TZOFFSETTO:+0100
TZNAME:CET
DTSTART:20271031T010000
END:STANDARD
END:VTIMEZONE
BEGIN:VEVENT
DTSTART;TZID=Europe/Berlin:20261023T160000
DTEND;TZID=Europe/Berlin:20261023T170000
DTSTAMP:20260425T013649
CREATED:20260303T151253Z
LAST-MODIFIED:20260303T151253Z
UID:10091854-1792771200-1792774800@maulbeerblatt.com
SUMMARY:Ingrid Weng: Natur wie ich sie sehe (Teil 2)
DESCRIPTION:Ingrid Weng ( geb. 1937) ist Hobbyfotografin\, eine Grünauerin in ihrem Kiez unterwegs. Ihre Eindrücke und Beobachtungen zeigt diese Ausstellung.\nDie Ausstellung ist bis zum 28.05.2026 zu sehen. \nEintritt frei
URL:https://maulbeerblatt.com/termin/ingrid-weng-natur-wie-ich-sie-sehe-teil-2/2026-10-23/
LOCATION:KulturTribüne vom Ortsverein Grünau e.V.\, KulturTribüne Grünau\, Regattastraße 191\, 12527 Berlin\, Berlin\, Berlin\, 12527\, Deutschland
CATEGORIES:Ausstellung
END:VEVENT
BEGIN:VEVENT
DTSTART;TZID=Europe/Berlin:20261024T160000
DTEND;TZID=Europe/Berlin:20261024T170000
DTSTAMP:20260425T013649
CREATED:20260303T151253Z
LAST-MODIFIED:20260303T151253Z
UID:10091855-1792857600-1792861200@maulbeerblatt.com
SUMMARY:Ingrid Weng: Natur wie ich sie sehe (Teil 2)
DESCRIPTION:Ingrid Weng ( geb. 1937) ist Hobbyfotografin\, eine Grünauerin in ihrem Kiez unterwegs. Ihre Eindrücke und Beobachtungen zeigt diese Ausstellung.\nDie Ausstellung ist bis zum 28.05.2026 zu sehen. \nEintritt frei
URL:https://maulbeerblatt.com/termin/ingrid-weng-natur-wie-ich-sie-sehe-teil-2/2026-10-24/
LOCATION:KulturTribüne vom Ortsverein Grünau e.V.\, KulturTribüne Grünau\, Regattastraße 191\, 12527 Berlin\, Berlin\, Berlin\, 12527\, Deutschland
CATEGORIES:Ausstellung
END:VEVENT
BEGIN:VEVENT
DTSTART;TZID=Europe/Berlin:20261025T160000
DTEND;TZID=Europe/Berlin:20261025T170000
DTSTAMP:20260425T013649
CREATED:20260303T151253Z
LAST-MODIFIED:20260303T151253Z
UID:10091856-1792944000-1792947600@maulbeerblatt.com
SUMMARY:Ingrid Weng: Natur wie ich sie sehe (Teil 2)
DESCRIPTION:Ingrid Weng ( geb. 1937) ist Hobbyfotografin\, eine Grünauerin in ihrem Kiez unterwegs. Ihre Eindrücke und Beobachtungen zeigt diese Ausstellung.\nDie Ausstellung ist bis zum 28.05.2026 zu sehen. \nEintritt frei
URL:https://maulbeerblatt.com/termin/ingrid-weng-natur-wie-ich-sie-sehe-teil-2/2026-10-25/
LOCATION:KulturTribüne vom Ortsverein Grünau e.V.\, KulturTribüne Grünau\, Regattastraße 191\, 12527 Berlin\, Berlin\, Berlin\, 12527\, Deutschland
CATEGORIES:Ausstellung
END:VEVENT
BEGIN:VEVENT
DTSTART;TZID=Europe/Berlin:20261026T160000
DTEND;TZID=Europe/Berlin:20261026T170000
DTSTAMP:20260425T013649
CREATED:20260303T151253Z
LAST-MODIFIED:20260303T151253Z
UID:10091857-1793030400-1793034000@maulbeerblatt.com
SUMMARY:Ingrid Weng: Natur wie ich sie sehe (Teil 2)
DESCRIPTION:Ingrid Weng ( geb. 1937) ist Hobbyfotografin\, eine Grünauerin in ihrem Kiez unterwegs. Ihre Eindrücke und Beobachtungen zeigt diese Ausstellung.\nDie Ausstellung ist bis zum 28.05.2026 zu sehen. \nEintritt frei
URL:https://maulbeerblatt.com/termin/ingrid-weng-natur-wie-ich-sie-sehe-teil-2/2026-10-26/
LOCATION:KulturTribüne vom Ortsverein Grünau e.V.\, KulturTribüne Grünau\, Regattastraße 191\, 12527 Berlin\, Berlin\, Berlin\, 12527\, Deutschland
CATEGORIES:Ausstellung
END:VEVENT
BEGIN:VEVENT
DTSTART;TZID=Europe/Berlin:20261027T160000
DTEND;TZID=Europe/Berlin:20261027T170000
DTSTAMP:20260425T013649
CREATED:20260303T151253Z
LAST-MODIFIED:20260303T151253Z
UID:10091858-1793116800-1793120400@maulbeerblatt.com
SUMMARY:Ingrid Weng: Natur wie ich sie sehe (Teil 2)
DESCRIPTION:Ingrid Weng ( geb. 1937) ist Hobbyfotografin\, eine Grünauerin in ihrem Kiez unterwegs. Ihre Eindrücke und Beobachtungen zeigt diese Ausstellung.\nDie Ausstellung ist bis zum 28.05.2026 zu sehen. \nEintritt frei
URL:https://maulbeerblatt.com/termin/ingrid-weng-natur-wie-ich-sie-sehe-teil-2/2026-10-27/
LOCATION:KulturTribüne vom Ortsverein Grünau e.V.\, KulturTribüne Grünau\, Regattastraße 191\, 12527 Berlin\, Berlin\, Berlin\, 12527\, Deutschland
CATEGORIES:Ausstellung
END:VEVENT
BEGIN:VEVENT
DTSTART;TZID=Europe/Berlin:20261028T160000
DTEND;TZID=Europe/Berlin:20261028T170000
DTSTAMP:20260425T013649
CREATED:20260303T151253Z
LAST-MODIFIED:20260303T151253Z
UID:10091859-1793203200-1793206800@maulbeerblatt.com
SUMMARY:Ingrid Weng: Natur wie ich sie sehe (Teil 2)
DESCRIPTION:Ingrid Weng ( geb. 1937) ist Hobbyfotografin\, eine Grünauerin in ihrem Kiez unterwegs. Ihre Eindrücke und Beobachtungen zeigt diese Ausstellung.\nDie Ausstellung ist bis zum 28.05.2026 zu sehen. \nEintritt frei
URL:https://maulbeerblatt.com/termin/ingrid-weng-natur-wie-ich-sie-sehe-teil-2/2026-10-28/
LOCATION:KulturTribüne vom Ortsverein Grünau e.V.\, KulturTribüne Grünau\, Regattastraße 191\, 12527 Berlin\, Berlin\, Berlin\, 12527\, Deutschland
CATEGORIES:Ausstellung
END:VEVENT
BEGIN:VEVENT
DTSTART;TZID=Europe/Berlin:20261029T160000
DTEND;TZID=Europe/Berlin:20261029T170000
DTSTAMP:20260425T013649
CREATED:20260303T151253Z
LAST-MODIFIED:20260303T151253Z
UID:10091860-1793289600-1793293200@maulbeerblatt.com
SUMMARY:Ingrid Weng: Natur wie ich sie sehe (Teil 2)
DESCRIPTION:Ingrid Weng ( geb. 1937) ist Hobbyfotografin\, eine Grünauerin in ihrem Kiez unterwegs. Ihre Eindrücke und Beobachtungen zeigt diese Ausstellung.\nDie Ausstellung ist bis zum 28.05.2026 zu sehen. \nEintritt frei
URL:https://maulbeerblatt.com/termin/ingrid-weng-natur-wie-ich-sie-sehe-teil-2/2026-10-29/
LOCATION:KulturTribüne vom Ortsverein Grünau e.V.\, KulturTribüne Grünau\, Regattastraße 191\, 12527 Berlin\, Berlin\, Berlin\, 12527\, Deutschland
CATEGORIES:Ausstellung
END:VEVENT
BEGIN:VEVENT
DTSTART;TZID=Europe/Berlin:20261030T160000
DTEND;TZID=Europe/Berlin:20261030T170000
DTSTAMP:20260425T013649
CREATED:20260303T151253Z
LAST-MODIFIED:20260303T151253Z
UID:10091861-1793376000-1793379600@maulbeerblatt.com
SUMMARY:Ingrid Weng: Natur wie ich sie sehe (Teil 2)
DESCRIPTION:Ingrid Weng ( geb. 1937) ist Hobbyfotografin\, eine Grünauerin in ihrem Kiez unterwegs. Ihre Eindrücke und Beobachtungen zeigt diese Ausstellung.\nDie Ausstellung ist bis zum 28.05.2026 zu sehen. \nEintritt frei
URL:https://maulbeerblatt.com/termin/ingrid-weng-natur-wie-ich-sie-sehe-teil-2/2026-10-30/
LOCATION:KulturTribüne vom Ortsverein Grünau e.V.\, KulturTribüne Grünau\, Regattastraße 191\, 12527 Berlin\, Berlin\, Berlin\, 12527\, Deutschland
CATEGORIES:Ausstellung
END:VEVENT
BEGIN:VEVENT
DTSTART;TZID=Europe/Berlin:20261031T160000
DTEND;TZID=Europe/Berlin:20261031T170000
DTSTAMP:20260425T013649
CREATED:20260303T151253Z
LAST-MODIFIED:20260303T151253Z
UID:10091862-1793462400-1793466000@maulbeerblatt.com
SUMMARY:Ingrid Weng: Natur wie ich sie sehe (Teil 2)
DESCRIPTION:Ingrid Weng ( geb. 1937) ist Hobbyfotografin\, eine Grünauerin in ihrem Kiez unterwegs. Ihre Eindrücke und Beobachtungen zeigt diese Ausstellung.\nDie Ausstellung ist bis zum 28.05.2026 zu sehen. \nEintritt frei
URL:https://maulbeerblatt.com/termin/ingrid-weng-natur-wie-ich-sie-sehe-teil-2/2026-10-31/
LOCATION:KulturTribüne vom Ortsverein Grünau e.V.\, KulturTribüne Grünau\, Regattastraße 191\, 12527 Berlin\, Berlin\, Berlin\, 12527\, Deutschland
CATEGORIES:Ausstellung
END:VEVENT
BEGIN:VEVENT
DTSTART;TZID=Europe/Berlin:20261101T160000
DTEND;TZID=Europe/Berlin:20261101T170000
DTSTAMP:20260425T013649
CREATED:20260303T151253Z
LAST-MODIFIED:20260303T151253Z
UID:10091863-1793548800-1793552400@maulbeerblatt.com
SUMMARY:Ingrid Weng: Natur wie ich sie sehe (Teil 2)
DESCRIPTION:Ingrid Weng ( geb. 1937) ist Hobbyfotografin\, eine Grünauerin in ihrem Kiez unterwegs. Ihre Eindrücke und Beobachtungen zeigt diese Ausstellung.\nDie Ausstellung ist bis zum 28.05.2026 zu sehen. \nEintritt frei
URL:https://maulbeerblatt.com/termin/ingrid-weng-natur-wie-ich-sie-sehe-teil-2/2026-11-01/
LOCATION:KulturTribüne vom Ortsverein Grünau e.V.\, KulturTribüne Grünau\, Regattastraße 191\, 12527 Berlin\, Berlin\, Berlin\, 12527\, Deutschland
CATEGORIES:Ausstellung
END:VEVENT
BEGIN:VEVENT
DTSTART;TZID=Europe/Berlin:20261102T160000
DTEND;TZID=Europe/Berlin:20261102T170000
DTSTAMP:20260425T013649
CREATED:20260303T151253Z
LAST-MODIFIED:20260303T151253Z
UID:10091864-1793635200-1793638800@maulbeerblatt.com
SUMMARY:Ingrid Weng: Natur wie ich sie sehe (Teil 2)
DESCRIPTION:Ingrid Weng ( geb. 1937) ist Hobbyfotografin\, eine Grünauerin in ihrem Kiez unterwegs. Ihre Eindrücke und Beobachtungen zeigt diese Ausstellung.\nDie Ausstellung ist bis zum 28.05.2026 zu sehen. \nEintritt frei
URL:https://maulbeerblatt.com/termin/ingrid-weng-natur-wie-ich-sie-sehe-teil-2/2026-11-02/
LOCATION:KulturTribüne vom Ortsverein Grünau e.V.\, KulturTribüne Grünau\, Regattastraße 191\, 12527 Berlin\, Berlin\, Berlin\, 12527\, Deutschland
CATEGORIES:Ausstellung
END:VEVENT
BEGIN:VEVENT
DTSTART;TZID=Europe/Berlin:20261103T160000
DTEND;TZID=Europe/Berlin:20261103T170000
DTSTAMP:20260425T013649
CREATED:20260303T151253Z
LAST-MODIFIED:20260303T151253Z
UID:10091865-1793721600-1793725200@maulbeerblatt.com
SUMMARY:Ingrid Weng: Natur wie ich sie sehe (Teil 2)
DESCRIPTION:Ingrid Weng ( geb. 1937) ist Hobbyfotografin\, eine Grünauerin in ihrem Kiez unterwegs. Ihre Eindrücke und Beobachtungen zeigt diese Ausstellung.\nDie Ausstellung ist bis zum 28.05.2026 zu sehen. \nEintritt frei
URL:https://maulbeerblatt.com/termin/ingrid-weng-natur-wie-ich-sie-sehe-teil-2/2026-11-03/
LOCATION:KulturTribüne vom Ortsverein Grünau e.V.\, KulturTribüne Grünau\, Regattastraße 191\, 12527 Berlin\, Berlin\, Berlin\, 12527\, Deutschland
CATEGORIES:Ausstellung
END:VEVENT
BEGIN:VEVENT
DTSTART;TZID=Europe/Berlin:20261104T160000
DTEND;TZID=Europe/Berlin:20261104T170000
DTSTAMP:20260425T013649
CREATED:20260303T151253Z
LAST-MODIFIED:20260303T151253Z
UID:10091866-1793808000-1793811600@maulbeerblatt.com
SUMMARY:Ingrid Weng: Natur wie ich sie sehe (Teil 2)
DESCRIPTION:Ingrid Weng ( geb. 1937) ist Hobbyfotografin\, eine Grünauerin in ihrem Kiez unterwegs. Ihre Eindrücke und Beobachtungen zeigt diese Ausstellung.\nDie Ausstellung ist bis zum 28.05.2026 zu sehen. \nEintritt frei
URL:https://maulbeerblatt.com/termin/ingrid-weng-natur-wie-ich-sie-sehe-teil-2/2026-11-04/
LOCATION:KulturTribüne vom Ortsverein Grünau e.V.\, KulturTribüne Grünau\, Regattastraße 191\, 12527 Berlin\, Berlin\, Berlin\, 12527\, Deutschland
CATEGORIES:Ausstellung
END:VEVENT
BEGIN:VEVENT
DTSTART;TZID=Europe/Berlin:20261105T160000
DTEND;TZID=Europe/Berlin:20261105T170000
DTSTAMP:20260425T013649
CREATED:20260303T151253Z
LAST-MODIFIED:20260303T151253Z
UID:10091867-1793894400-1793898000@maulbeerblatt.com
SUMMARY:Ingrid Weng: Natur wie ich sie sehe (Teil 2)
DESCRIPTION:Ingrid Weng ( geb. 1937) ist Hobbyfotografin\, eine Grünauerin in ihrem Kiez unterwegs. Ihre Eindrücke und Beobachtungen zeigt diese Ausstellung.\nDie Ausstellung ist bis zum 28.05.2026 zu sehen. \nEintritt frei
URL:https://maulbeerblatt.com/termin/ingrid-weng-natur-wie-ich-sie-sehe-teil-2/2026-11-05/
LOCATION:KulturTribüne vom Ortsverein Grünau e.V.\, KulturTribüne Grünau\, Regattastraße 191\, 12527 Berlin\, Berlin\, Berlin\, 12527\, Deutschland
CATEGORIES:Ausstellung
END:VEVENT
BEGIN:VEVENT
DTSTART;TZID=Europe/Berlin:20261106T160000
DTEND;TZID=Europe/Berlin:20261106T170000
DTSTAMP:20260425T013649
CREATED:20260303T151253Z
LAST-MODIFIED:20260303T151253Z
UID:10091868-1793980800-1793984400@maulbeerblatt.com
SUMMARY:Ingrid Weng: Natur wie ich sie sehe (Teil 2)
DESCRIPTION:Ingrid Weng ( geb. 1937) ist Hobbyfotografin\, eine Grünauerin in ihrem Kiez unterwegs. Ihre Eindrücke und Beobachtungen zeigt diese Ausstellung.\nDie Ausstellung ist bis zum 28.05.2026 zu sehen. \nEintritt frei
URL:https://maulbeerblatt.com/termin/ingrid-weng-natur-wie-ich-sie-sehe-teil-2/2026-11-06/
LOCATION:KulturTribüne vom Ortsverein Grünau e.V.\, KulturTribüne Grünau\, Regattastraße 191\, 12527 Berlin\, Berlin\, Berlin\, 12527\, Deutschland
CATEGORIES:Ausstellung
END:VEVENT
BEGIN:VEVENT
DTSTART;TZID=Europe/Berlin:20261107T160000
DTEND;TZID=Europe/Berlin:20261107T170000
DTSTAMP:20260425T013649
CREATED:20260303T151253Z
LAST-MODIFIED:20260303T151253Z
UID:10091869-1794067200-1794070800@maulbeerblatt.com
SUMMARY:Ingrid Weng: Natur wie ich sie sehe (Teil 2)
DESCRIPTION:Ingrid Weng ( geb. 1937) ist Hobbyfotografin\, eine Grünauerin in ihrem Kiez unterwegs. Ihre Eindrücke und Beobachtungen zeigt diese Ausstellung.\nDie Ausstellung ist bis zum 28.05.2026 zu sehen. \nEintritt frei
URL:https://maulbeerblatt.com/termin/ingrid-weng-natur-wie-ich-sie-sehe-teil-2/2026-11-07/
LOCATION:KulturTribüne vom Ortsverein Grünau e.V.\, KulturTribüne Grünau\, Regattastraße 191\, 12527 Berlin\, Berlin\, Berlin\, 12527\, Deutschland
CATEGORIES:Ausstellung
END:VEVENT
BEGIN:VEVENT
DTSTART;TZID=Europe/Berlin:20261108T160000
DTEND;TZID=Europe/Berlin:20261108T170000
DTSTAMP:20260425T013649
CREATED:20260303T151253Z
LAST-MODIFIED:20260303T151253Z
UID:10091870-1794153600-1794157200@maulbeerblatt.com
SUMMARY:Ingrid Weng: Natur wie ich sie sehe (Teil 2)
DESCRIPTION:Ingrid Weng ( geb. 1937) ist Hobbyfotografin\, eine Grünauerin in ihrem Kiez unterwegs. Ihre Eindrücke und Beobachtungen zeigt diese Ausstellung.\nDie Ausstellung ist bis zum 28.05.2026 zu sehen. \nEintritt frei
URL:https://maulbeerblatt.com/termin/ingrid-weng-natur-wie-ich-sie-sehe-teil-2/2026-11-08/
LOCATION:KulturTribüne vom Ortsverein Grünau e.V.\, KulturTribüne Grünau\, Regattastraße 191\, 12527 Berlin\, Berlin\, Berlin\, 12527\, Deutschland
CATEGORIES:Ausstellung
END:VEVENT
BEGIN:VEVENT
DTSTART;TZID=Europe/Berlin:20261109T160000
DTEND;TZID=Europe/Berlin:20261109T170000
DTSTAMP:20260425T013649
CREATED:20260303T151253Z
LAST-MODIFIED:20260303T151253Z
UID:10091871-1794240000-1794243600@maulbeerblatt.com
SUMMARY:Ingrid Weng: Natur wie ich sie sehe (Teil 2)
DESCRIPTION:Ingrid Weng ( geb. 1937) ist Hobbyfotografin\, eine Grünauerin in ihrem Kiez unterwegs. Ihre Eindrücke und Beobachtungen zeigt diese Ausstellung.\nDie Ausstellung ist bis zum 28.05.2026 zu sehen. \nEintritt frei
URL:https://maulbeerblatt.com/termin/ingrid-weng-natur-wie-ich-sie-sehe-teil-2/2026-11-09/
LOCATION:KulturTribüne vom Ortsverein Grünau e.V.\, KulturTribüne Grünau\, Regattastraße 191\, 12527 Berlin\, Berlin\, Berlin\, 12527\, Deutschland
CATEGORIES:Ausstellung
END:VEVENT
BEGIN:VEVENT
DTSTART;TZID=Europe/Berlin:20261110T160000
DTEND;TZID=Europe/Berlin:20261110T170000
DTSTAMP:20260425T013649
CREATED:20260303T151253Z
LAST-MODIFIED:20260303T151253Z
UID:10091872-1794326400-1794330000@maulbeerblatt.com
SUMMARY:Ingrid Weng: Natur wie ich sie sehe (Teil 2)
DESCRIPTION:Ingrid Weng ( geb. 1937) ist Hobbyfotografin\, eine Grünauerin in ihrem Kiez unterwegs. Ihre Eindrücke und Beobachtungen zeigt diese Ausstellung.\nDie Ausstellung ist bis zum 28.05.2026 zu sehen. \nEintritt frei
URL:https://maulbeerblatt.com/termin/ingrid-weng-natur-wie-ich-sie-sehe-teil-2/2026-11-10/
LOCATION:KulturTribüne vom Ortsverein Grünau e.V.\, KulturTribüne Grünau\, Regattastraße 191\, 12527 Berlin\, Berlin\, Berlin\, 12527\, Deutschland
CATEGORIES:Ausstellung
END:VEVENT
BEGIN:VEVENT
DTSTART;TZID=Europe/Berlin:20261111T160000
DTEND;TZID=Europe/Berlin:20261111T170000
DTSTAMP:20260425T013649
CREATED:20260303T151253Z
LAST-MODIFIED:20260303T151253Z
UID:10091873-1794412800-1794416400@maulbeerblatt.com
SUMMARY:Ingrid Weng: Natur wie ich sie sehe (Teil 2)
DESCRIPTION:Ingrid Weng ( geb. 1937) ist Hobbyfotografin\, eine Grünauerin in ihrem Kiez unterwegs. Ihre Eindrücke und Beobachtungen zeigt diese Ausstellung.\nDie Ausstellung ist bis zum 28.05.2026 zu sehen. \nEintritt frei
URL:https://maulbeerblatt.com/termin/ingrid-weng-natur-wie-ich-sie-sehe-teil-2/2026-11-11/
LOCATION:KulturTribüne vom Ortsverein Grünau e.V.\, KulturTribüne Grünau\, Regattastraße 191\, 12527 Berlin\, Berlin\, Berlin\, 12527\, Deutschland
CATEGORIES:Ausstellung
END:VEVENT
BEGIN:VEVENT
DTSTART;TZID=Europe/Berlin:20261112T160000
DTEND;TZID=Europe/Berlin:20261112T170000
DTSTAMP:20260425T013649
CREATED:20260303T151253Z
LAST-MODIFIED:20260303T151253Z
UID:10091874-1794499200-1794502800@maulbeerblatt.com
SUMMARY:Ingrid Weng: Natur wie ich sie sehe (Teil 2)
DESCRIPTION:Ingrid Weng ( geb. 1937) ist Hobbyfotografin\, eine Grünauerin in ihrem Kiez unterwegs. Ihre Eindrücke und Beobachtungen zeigt diese Ausstellung.\nDie Ausstellung ist bis zum 28.05.2026 zu sehen. \nEintritt frei
URL:https://maulbeerblatt.com/termin/ingrid-weng-natur-wie-ich-sie-sehe-teil-2/2026-11-12/
LOCATION:KulturTribüne vom Ortsverein Grünau e.V.\, KulturTribüne Grünau\, Regattastraße 191\, 12527 Berlin\, Berlin\, Berlin\, 12527\, Deutschland
CATEGORIES:Ausstellung
END:VEVENT
BEGIN:VEVENT
DTSTART;TZID=Europe/Berlin:20261113T160000
DTEND;TZID=Europe/Berlin:20261113T170000
DTSTAMP:20260425T013649
CREATED:20260303T151253Z
LAST-MODIFIED:20260303T151253Z
UID:10091875-1794585600-1794589200@maulbeerblatt.com
SUMMARY:Ingrid Weng: Natur wie ich sie sehe (Teil 2)
DESCRIPTION:Ingrid Weng ( geb. 1937) ist Hobbyfotografin\, eine Grünauerin in ihrem Kiez unterwegs. Ihre Eindrücke und Beobachtungen zeigt diese Ausstellung.\nDie Ausstellung ist bis zum 28.05.2026 zu sehen. \nEintritt frei
URL:https://maulbeerblatt.com/termin/ingrid-weng-natur-wie-ich-sie-sehe-teil-2/2026-11-13/
LOCATION:KulturTribüne vom Ortsverein Grünau e.V.\, KulturTribüne Grünau\, Regattastraße 191\, 12527 Berlin\, Berlin\, Berlin\, 12527\, Deutschland
CATEGORIES:Ausstellung
END:VEVENT
BEGIN:VEVENT
DTSTART;TZID=Europe/Berlin:20261114T160000
DTEND;TZID=Europe/Berlin:20261114T170000
DTSTAMP:20260425T013649
CREATED:20260303T151253Z
LAST-MODIFIED:20260303T151253Z
UID:10091876-1794672000-1794675600@maulbeerblatt.com
SUMMARY:Ingrid Weng: Natur wie ich sie sehe (Teil 2)
DESCRIPTION:Ingrid Weng ( geb. 1937) ist Hobbyfotografin\, eine Grünauerin in ihrem Kiez unterwegs. Ihre Eindrücke und Beobachtungen zeigt diese Ausstellung.\nDie Ausstellung ist bis zum 28.05.2026 zu sehen. \nEintritt frei
URL:https://maulbeerblatt.com/termin/ingrid-weng-natur-wie-ich-sie-sehe-teil-2/2026-11-14/
LOCATION:KulturTribüne vom Ortsverein Grünau e.V.\, KulturTribüne Grünau\, Regattastraße 191\, 12527 Berlin\, Berlin\, Berlin\, 12527\, Deutschland
CATEGORIES:Ausstellung
END:VEVENT
BEGIN:VEVENT
DTSTART;TZID=Europe/Berlin:20261115T160000
DTEND;TZID=Europe/Berlin:20261115T170000
DTSTAMP:20260425T013649
CREATED:20260303T151253Z
LAST-MODIFIED:20260303T151253Z
UID:10091877-1794758400-1794762000@maulbeerblatt.com
SUMMARY:Ingrid Weng: Natur wie ich sie sehe (Teil 2)
DESCRIPTION:Ingrid Weng ( geb. 1937) ist Hobbyfotografin\, eine Grünauerin in ihrem Kiez unterwegs. Ihre Eindrücke und Beobachtungen zeigt diese Ausstellung.\nDie Ausstellung ist bis zum 28.05.2026 zu sehen. \nEintritt frei
URL:https://maulbeerblatt.com/termin/ingrid-weng-natur-wie-ich-sie-sehe-teil-2/2026-11-15/
LOCATION:KulturTribüne vom Ortsverein Grünau e.V.\, KulturTribüne Grünau\, Regattastraße 191\, 12527 Berlin\, Berlin\, Berlin\, 12527\, Deutschland
CATEGORIES:Ausstellung
END:VEVENT
BEGIN:VEVENT
DTSTART;TZID=Europe/Berlin:20261116T160000
DTEND;TZID=Europe/Berlin:20261116T170000
DTSTAMP:20260425T013649
CREATED:20260303T151253Z
LAST-MODIFIED:20260303T151253Z
UID:10091878-1794844800-1794848400@maulbeerblatt.com
SUMMARY:Ingrid Weng: Natur wie ich sie sehe (Teil 2)
DESCRIPTION:Ingrid Weng ( geb. 1937) ist Hobbyfotografin\, eine Grünauerin in ihrem Kiez unterwegs. Ihre Eindrücke und Beobachtungen zeigt diese Ausstellung.\nDie Ausstellung ist bis zum 28.05.2026 zu sehen. \nEintritt frei
URL:https://maulbeerblatt.com/termin/ingrid-weng-natur-wie-ich-sie-sehe-teil-2/2026-11-16/
LOCATION:KulturTribüne vom Ortsverein Grünau e.V.\, KulturTribüne Grünau\, Regattastraße 191\, 12527 Berlin\, Berlin\, Berlin\, 12527\, Deutschland
CATEGORIES:Ausstellung
END:VEVENT
BEGIN:VEVENT
DTSTART;TZID=Europe/Berlin:20261117T160000
DTEND;TZID=Europe/Berlin:20261117T170000
DTSTAMP:20260425T013649
CREATED:20260303T151253Z
LAST-MODIFIED:20260303T151253Z
UID:10091879-1794931200-1794934800@maulbeerblatt.com
SUMMARY:Ingrid Weng: Natur wie ich sie sehe (Teil 2)
DESCRIPTION:Ingrid Weng ( geb. 1937) ist Hobbyfotografin\, eine Grünauerin in ihrem Kiez unterwegs. Ihre Eindrücke und Beobachtungen zeigt diese Ausstellung.\nDie Ausstellung ist bis zum 28.05.2026 zu sehen. \nEintritt frei
URL:https://maulbeerblatt.com/termin/ingrid-weng-natur-wie-ich-sie-sehe-teil-2/2026-11-17/
LOCATION:KulturTribüne vom Ortsverein Grünau e.V.\, KulturTribüne Grünau\, Regattastraße 191\, 12527 Berlin\, Berlin\, Berlin\, 12527\, Deutschland
CATEGORIES:Ausstellung
END:VEVENT
BEGIN:VEVENT
DTSTART;TZID=Europe/Berlin:20261118T160000
DTEND;TZID=Europe/Berlin:20261118T170000
DTSTAMP:20260425T013649
CREATED:20260303T151253Z
LAST-MODIFIED:20260303T151253Z
UID:10091880-1795017600-1795021200@maulbeerblatt.com
SUMMARY:Ingrid Weng: Natur wie ich sie sehe (Teil 2)
DESCRIPTION:Ingrid Weng ( geb. 1937) ist Hobbyfotografin\, eine Grünauerin in ihrem Kiez unterwegs. Ihre Eindrücke und Beobachtungen zeigt diese Ausstellung.\nDie Ausstellung ist bis zum 28.05.2026 zu sehen. \nEintritt frei
URL:https://maulbeerblatt.com/termin/ingrid-weng-natur-wie-ich-sie-sehe-teil-2/2026-11-18/
LOCATION:KulturTribüne vom Ortsverein Grünau e.V.\, KulturTribüne Grünau\, Regattastraße 191\, 12527 Berlin\, Berlin\, Berlin\, 12527\, Deutschland
CATEGORIES:Ausstellung
END:VEVENT
BEGIN:VEVENT
DTSTART;TZID=Europe/Berlin:20261119T160000
DTEND;TZID=Europe/Berlin:20261119T170000
DTSTAMP:20260425T013649
CREATED:20260303T151253Z
LAST-MODIFIED:20260303T151253Z
UID:10091881-1795104000-1795107600@maulbeerblatt.com
SUMMARY:Ingrid Weng: Natur wie ich sie sehe (Teil 2)
DESCRIPTION:Ingrid Weng ( geb. 1937) ist Hobbyfotografin\, eine Grünauerin in ihrem Kiez unterwegs. Ihre Eindrücke und Beobachtungen zeigt diese Ausstellung.\nDie Ausstellung ist bis zum 28.05.2026 zu sehen. \nEintritt frei
URL:https://maulbeerblatt.com/termin/ingrid-weng-natur-wie-ich-sie-sehe-teil-2/2026-11-19/
LOCATION:KulturTribüne vom Ortsverein Grünau e.V.\, KulturTribüne Grünau\, Regattastraße 191\, 12527 Berlin\, Berlin\, Berlin\, 12527\, Deutschland
CATEGORIES:Ausstellung
END:VEVENT
BEGIN:VEVENT
DTSTART;TZID=Europe/Berlin:20261120T160000
DTEND;TZID=Europe/Berlin:20261120T170000
DTSTAMP:20260425T013649
CREATED:20260303T151253Z
LAST-MODIFIED:20260303T151253Z
UID:10091882-1795190400-1795194000@maulbeerblatt.com
SUMMARY:Ingrid Weng: Natur wie ich sie sehe (Teil 2)
DESCRIPTION:Ingrid Weng ( geb. 1937) ist Hobbyfotografin\, eine Grünauerin in ihrem Kiez unterwegs. Ihre Eindrücke und Beobachtungen zeigt diese Ausstellung.\nDie Ausstellung ist bis zum 28.05.2026 zu sehen. \nEintritt frei
URL:https://maulbeerblatt.com/termin/ingrid-weng-natur-wie-ich-sie-sehe-teil-2/2026-11-20/
LOCATION:KulturTribüne vom Ortsverein Grünau e.V.\, KulturTribüne Grünau\, Regattastraße 191\, 12527 Berlin\, Berlin\, Berlin\, 12527\, Deutschland
CATEGORIES:Ausstellung
END:VEVENT
BEGIN:VEVENT
DTSTART;TZID=Europe/Berlin:20261121T160000
DTEND;TZID=Europe/Berlin:20261121T170000
DTSTAMP:20260425T013649
CREATED:20260303T151253Z
LAST-MODIFIED:20260303T151253Z
UID:10091883-1795276800-1795280400@maulbeerblatt.com
SUMMARY:Ingrid Weng: Natur wie ich sie sehe (Teil 2)
DESCRIPTION:Ingrid Weng ( geb. 1937) ist Hobbyfotografin\, eine Grünauerin in ihrem Kiez unterwegs. Ihre Eindrücke und Beobachtungen zeigt diese Ausstellung.\nDie Ausstellung ist bis zum 28.05.2026 zu sehen. \nEintritt frei
URL:https://maulbeerblatt.com/termin/ingrid-weng-natur-wie-ich-sie-sehe-teil-2/2026-11-21/
LOCATION:KulturTribüne vom Ortsverein Grünau e.V.\, KulturTribüne Grünau\, Regattastraße 191\, 12527 Berlin\, Berlin\, Berlin\, 12527\, Deutschland
CATEGORIES:Ausstellung
END:VEVENT
END:VCALENDAR