BEGIN:VCALENDAR
VERSION:2.0
PRODID:-//Der Maulbär - ECPv6.15.17.1//NONSGML v1.0//EN
CALSCALE:GREGORIAN
METHOD:PUBLISH
X-ORIGINAL-URL:https://maulbeerblatt.com
X-WR-CALDESC:Veranstaltungen für Der Maulbär
REFRESH-INTERVAL;VALUE=DURATION:PT1H
X-Robots-Tag:noindex
X-PUBLISHED-TTL:PT1H
BEGIN:VTIMEZONE
TZID:Europe/Berlin
BEGIN:DAYLIGHT
TZOFFSETFROM:+0100
TZOFFSETTO:+0200
TZNAME:CEST
DTSTART:20250330T010000
END:DAYLIGHT
BEGIN:STANDARD
TZOFFSETFROM:+0200
TZOFFSETTO:+0100
TZNAME:CET
DTSTART:20251026T010000
END:STANDARD
BEGIN:DAYLIGHT
TZOFFSETFROM:+0100
TZOFFSETTO:+0200
TZNAME:CEST
DTSTART:20260329T010000
END:DAYLIGHT
BEGIN:STANDARD
TZOFFSETFROM:+0200
TZOFFSETTO:+0100
TZNAME:CET
DTSTART:20261025T010000
END:STANDARD
BEGIN:DAYLIGHT
TZOFFSETFROM:+0100
TZOFFSETTO:+0200
TZNAME:CEST
DTSTART:20270328T010000
END:DAYLIGHT
BEGIN:STANDARD
TZOFFSETFROM:+0200
TZOFFSETTO:+0100
TZNAME:CET
DTSTART:20271031T010000
END:STANDARD
END:VTIMEZONE
BEGIN:VEVENT
DTSTART;TZID=Europe/Berlin:20261116T160000
DTEND;TZID=Europe/Berlin:20261116T170000
DTSTAMP:20260425T045131
CREATED:20260303T151253Z
LAST-MODIFIED:20260303T151253Z
UID:10091878-1794844800-1794848400@maulbeerblatt.com
SUMMARY:Ingrid Weng: Natur wie ich sie sehe (Teil 2)
DESCRIPTION:Ingrid Weng ( geb. 1937) ist Hobbyfotografin\, eine Grünauerin in ihrem Kiez unterwegs. Ihre Eindrücke und Beobachtungen zeigt diese Ausstellung.\nDie Ausstellung ist bis zum 28.05.2026 zu sehen. \nEintritt frei
URL:https://maulbeerblatt.com/termin/ingrid-weng-natur-wie-ich-sie-sehe-teil-2/2026-11-16/
LOCATION:KulturTribüne vom Ortsverein Grünau e.V.\, KulturTribüne Grünau\, Regattastraße 191\, 12527 Berlin\, Berlin\, Berlin\, 12527\, Deutschland
CATEGORIES:Ausstellung
END:VEVENT
BEGIN:VEVENT
DTSTART;TZID=Europe/Berlin:20261117T160000
DTEND;TZID=Europe/Berlin:20261117T170000
DTSTAMP:20260425T045131
CREATED:20260303T151253Z
LAST-MODIFIED:20260303T151253Z
UID:10091879-1794931200-1794934800@maulbeerblatt.com
SUMMARY:Ingrid Weng: Natur wie ich sie sehe (Teil 2)
DESCRIPTION:Ingrid Weng ( geb. 1937) ist Hobbyfotografin\, eine Grünauerin in ihrem Kiez unterwegs. Ihre Eindrücke und Beobachtungen zeigt diese Ausstellung.\nDie Ausstellung ist bis zum 28.05.2026 zu sehen. \nEintritt frei
URL:https://maulbeerblatt.com/termin/ingrid-weng-natur-wie-ich-sie-sehe-teil-2/2026-11-17/
LOCATION:KulturTribüne vom Ortsverein Grünau e.V.\, KulturTribüne Grünau\, Regattastraße 191\, 12527 Berlin\, Berlin\, Berlin\, 12527\, Deutschland
CATEGORIES:Ausstellung
END:VEVENT
BEGIN:VEVENT
DTSTART;TZID=Europe/Berlin:20261118T160000
DTEND;TZID=Europe/Berlin:20261118T170000
DTSTAMP:20260425T045131
CREATED:20260303T151253Z
LAST-MODIFIED:20260303T151253Z
UID:10091880-1795017600-1795021200@maulbeerblatt.com
SUMMARY:Ingrid Weng: Natur wie ich sie sehe (Teil 2)
DESCRIPTION:Ingrid Weng ( geb. 1937) ist Hobbyfotografin\, eine Grünauerin in ihrem Kiez unterwegs. Ihre Eindrücke und Beobachtungen zeigt diese Ausstellung.\nDie Ausstellung ist bis zum 28.05.2026 zu sehen. \nEintritt frei
URL:https://maulbeerblatt.com/termin/ingrid-weng-natur-wie-ich-sie-sehe-teil-2/2026-11-18/
LOCATION:KulturTribüne vom Ortsverein Grünau e.V.\, KulturTribüne Grünau\, Regattastraße 191\, 12527 Berlin\, Berlin\, Berlin\, 12527\, Deutschland
CATEGORIES:Ausstellung
END:VEVENT
BEGIN:VEVENT
DTSTART;TZID=Europe/Berlin:20261119T160000
DTEND;TZID=Europe/Berlin:20261119T170000
DTSTAMP:20260425T045131
CREATED:20260303T151253Z
LAST-MODIFIED:20260303T151253Z
UID:10091881-1795104000-1795107600@maulbeerblatt.com
SUMMARY:Ingrid Weng: Natur wie ich sie sehe (Teil 2)
DESCRIPTION:Ingrid Weng ( geb. 1937) ist Hobbyfotografin\, eine Grünauerin in ihrem Kiez unterwegs. Ihre Eindrücke und Beobachtungen zeigt diese Ausstellung.\nDie Ausstellung ist bis zum 28.05.2026 zu sehen. \nEintritt frei
URL:https://maulbeerblatt.com/termin/ingrid-weng-natur-wie-ich-sie-sehe-teil-2/2026-11-19/
LOCATION:KulturTribüne vom Ortsverein Grünau e.V.\, KulturTribüne Grünau\, Regattastraße 191\, 12527 Berlin\, Berlin\, Berlin\, 12527\, Deutschland
CATEGORIES:Ausstellung
END:VEVENT
BEGIN:VEVENT
DTSTART;TZID=Europe/Berlin:20261120T160000
DTEND;TZID=Europe/Berlin:20261120T170000
DTSTAMP:20260425T045131
CREATED:20260303T151253Z
LAST-MODIFIED:20260303T151253Z
UID:10091882-1795190400-1795194000@maulbeerblatt.com
SUMMARY:Ingrid Weng: Natur wie ich sie sehe (Teil 2)
DESCRIPTION:Ingrid Weng ( geb. 1937) ist Hobbyfotografin\, eine Grünauerin in ihrem Kiez unterwegs. Ihre Eindrücke und Beobachtungen zeigt diese Ausstellung.\nDie Ausstellung ist bis zum 28.05.2026 zu sehen. \nEintritt frei
URL:https://maulbeerblatt.com/termin/ingrid-weng-natur-wie-ich-sie-sehe-teil-2/2026-11-20/
LOCATION:KulturTribüne vom Ortsverein Grünau e.V.\, KulturTribüne Grünau\, Regattastraße 191\, 12527 Berlin\, Berlin\, Berlin\, 12527\, Deutschland
CATEGORIES:Ausstellung
END:VEVENT
BEGIN:VEVENT
DTSTART;TZID=Europe/Berlin:20261121T160000
DTEND;TZID=Europe/Berlin:20261121T170000
DTSTAMP:20260425T045131
CREATED:20260303T151253Z
LAST-MODIFIED:20260303T151253Z
UID:10091883-1795276800-1795280400@maulbeerblatt.com
SUMMARY:Ingrid Weng: Natur wie ich sie sehe (Teil 2)
DESCRIPTION:Ingrid Weng ( geb. 1937) ist Hobbyfotografin\, eine Grünauerin in ihrem Kiez unterwegs. Ihre Eindrücke und Beobachtungen zeigt diese Ausstellung.\nDie Ausstellung ist bis zum 28.05.2026 zu sehen. \nEintritt frei
URL:https://maulbeerblatt.com/termin/ingrid-weng-natur-wie-ich-sie-sehe-teil-2/2026-11-21/
LOCATION:KulturTribüne vom Ortsverein Grünau e.V.\, KulturTribüne Grünau\, Regattastraße 191\, 12527 Berlin\, Berlin\, Berlin\, 12527\, Deutschland
CATEGORIES:Ausstellung
END:VEVENT
BEGIN:VEVENT
DTSTART;TZID=Europe/Berlin:20261122T160000
DTEND;TZID=Europe/Berlin:20261122T170000
DTSTAMP:20260425T045131
CREATED:20260303T151253Z
LAST-MODIFIED:20260303T151253Z
UID:10091884-1795363200-1795366800@maulbeerblatt.com
SUMMARY:Ingrid Weng: Natur wie ich sie sehe (Teil 2)
DESCRIPTION:Ingrid Weng ( geb. 1937) ist Hobbyfotografin\, eine Grünauerin in ihrem Kiez unterwegs. Ihre Eindrücke und Beobachtungen zeigt diese Ausstellung.\nDie Ausstellung ist bis zum 28.05.2026 zu sehen. \nEintritt frei
URL:https://maulbeerblatt.com/termin/ingrid-weng-natur-wie-ich-sie-sehe-teil-2/2026-11-22/
LOCATION:KulturTribüne vom Ortsverein Grünau e.V.\, KulturTribüne Grünau\, Regattastraße 191\, 12527 Berlin\, Berlin\, Berlin\, 12527\, Deutschland
CATEGORIES:Ausstellung
END:VEVENT
BEGIN:VEVENT
DTSTART;TZID=Europe/Berlin:20261123T160000
DTEND;TZID=Europe/Berlin:20261123T170000
DTSTAMP:20260425T045131
CREATED:20260303T151253Z
LAST-MODIFIED:20260303T151253Z
UID:10091885-1795449600-1795453200@maulbeerblatt.com
SUMMARY:Ingrid Weng: Natur wie ich sie sehe (Teil 2)
DESCRIPTION:Ingrid Weng ( geb. 1937) ist Hobbyfotografin\, eine Grünauerin in ihrem Kiez unterwegs. Ihre Eindrücke und Beobachtungen zeigt diese Ausstellung.\nDie Ausstellung ist bis zum 28.05.2026 zu sehen. \nEintritt frei
URL:https://maulbeerblatt.com/termin/ingrid-weng-natur-wie-ich-sie-sehe-teil-2/2026-11-23/
LOCATION:KulturTribüne vom Ortsverein Grünau e.V.\, KulturTribüne Grünau\, Regattastraße 191\, 12527 Berlin\, Berlin\, Berlin\, 12527\, Deutschland
CATEGORIES:Ausstellung
END:VEVENT
BEGIN:VEVENT
DTSTART;TZID=Europe/Berlin:20261124T160000
DTEND;TZID=Europe/Berlin:20261124T170000
DTSTAMP:20260425T045131
CREATED:20260303T151253Z
LAST-MODIFIED:20260303T151253Z
UID:10091886-1795536000-1795539600@maulbeerblatt.com
SUMMARY:Ingrid Weng: Natur wie ich sie sehe (Teil 2)
DESCRIPTION:Ingrid Weng ( geb. 1937) ist Hobbyfotografin\, eine Grünauerin in ihrem Kiez unterwegs. Ihre Eindrücke und Beobachtungen zeigt diese Ausstellung.\nDie Ausstellung ist bis zum 28.05.2026 zu sehen. \nEintritt frei
URL:https://maulbeerblatt.com/termin/ingrid-weng-natur-wie-ich-sie-sehe-teil-2/2026-11-24/
LOCATION:KulturTribüne vom Ortsverein Grünau e.V.\, KulturTribüne Grünau\, Regattastraße 191\, 12527 Berlin\, Berlin\, Berlin\, 12527\, Deutschland
CATEGORIES:Ausstellung
END:VEVENT
BEGIN:VEVENT
DTSTART;TZID=Europe/Berlin:20261125T160000
DTEND;TZID=Europe/Berlin:20261125T170000
DTSTAMP:20260425T045131
CREATED:20260303T151253Z
LAST-MODIFIED:20260303T151253Z
UID:10091887-1795622400-1795626000@maulbeerblatt.com
SUMMARY:Ingrid Weng: Natur wie ich sie sehe (Teil 2)
DESCRIPTION:Ingrid Weng ( geb. 1937) ist Hobbyfotografin\, eine Grünauerin in ihrem Kiez unterwegs. Ihre Eindrücke und Beobachtungen zeigt diese Ausstellung.\nDie Ausstellung ist bis zum 28.05.2026 zu sehen. \nEintritt frei
URL:https://maulbeerblatt.com/termin/ingrid-weng-natur-wie-ich-sie-sehe-teil-2/2026-11-25/
LOCATION:KulturTribüne vom Ortsverein Grünau e.V.\, KulturTribüne Grünau\, Regattastraße 191\, 12527 Berlin\, Berlin\, Berlin\, 12527\, Deutschland
CATEGORIES:Ausstellung
END:VEVENT
BEGIN:VEVENT
DTSTART;TZID=Europe/Berlin:20261126T160000
DTEND;TZID=Europe/Berlin:20261126T170000
DTSTAMP:20260425T045131
CREATED:20260303T151253Z
LAST-MODIFIED:20260303T151253Z
UID:10091888-1795708800-1795712400@maulbeerblatt.com
SUMMARY:Ingrid Weng: Natur wie ich sie sehe (Teil 2)
DESCRIPTION:Ingrid Weng ( geb. 1937) ist Hobbyfotografin\, eine Grünauerin in ihrem Kiez unterwegs. Ihre Eindrücke und Beobachtungen zeigt diese Ausstellung.\nDie Ausstellung ist bis zum 28.05.2026 zu sehen. \nEintritt frei
URL:https://maulbeerblatt.com/termin/ingrid-weng-natur-wie-ich-sie-sehe-teil-2/2026-11-26/
LOCATION:KulturTribüne vom Ortsverein Grünau e.V.\, KulturTribüne Grünau\, Regattastraße 191\, 12527 Berlin\, Berlin\, Berlin\, 12527\, Deutschland
CATEGORIES:Ausstellung
END:VEVENT
BEGIN:VEVENT
DTSTART;TZID=Europe/Berlin:20261127T160000
DTEND;TZID=Europe/Berlin:20261127T170000
DTSTAMP:20260425T045131
CREATED:20260303T151253Z
LAST-MODIFIED:20260303T151253Z
UID:10091889-1795795200-1795798800@maulbeerblatt.com
SUMMARY:Ingrid Weng: Natur wie ich sie sehe (Teil 2)
DESCRIPTION:Ingrid Weng ( geb. 1937) ist Hobbyfotografin\, eine Grünauerin in ihrem Kiez unterwegs. Ihre Eindrücke und Beobachtungen zeigt diese Ausstellung.\nDie Ausstellung ist bis zum 28.05.2026 zu sehen. \nEintritt frei
URL:https://maulbeerblatt.com/termin/ingrid-weng-natur-wie-ich-sie-sehe-teil-2/2026-11-27/
LOCATION:KulturTribüne vom Ortsverein Grünau e.V.\, KulturTribüne Grünau\, Regattastraße 191\, 12527 Berlin\, Berlin\, Berlin\, 12527\, Deutschland
CATEGORIES:Ausstellung
END:VEVENT
BEGIN:VEVENT
DTSTART;TZID=Europe/Berlin:20261128T160000
DTEND;TZID=Europe/Berlin:20261128T170000
DTSTAMP:20260425T045131
CREATED:20260303T151253Z
LAST-MODIFIED:20260303T151253Z
UID:10091890-1795881600-1795885200@maulbeerblatt.com
SUMMARY:Ingrid Weng: Natur wie ich sie sehe (Teil 2)
DESCRIPTION:Ingrid Weng ( geb. 1937) ist Hobbyfotografin\, eine Grünauerin in ihrem Kiez unterwegs. Ihre Eindrücke und Beobachtungen zeigt diese Ausstellung.\nDie Ausstellung ist bis zum 28.05.2026 zu sehen. \nEintritt frei
URL:https://maulbeerblatt.com/termin/ingrid-weng-natur-wie-ich-sie-sehe-teil-2/2026-11-28/
LOCATION:KulturTribüne vom Ortsverein Grünau e.V.\, KulturTribüne Grünau\, Regattastraße 191\, 12527 Berlin\, Berlin\, Berlin\, 12527\, Deutschland
CATEGORIES:Ausstellung
END:VEVENT
BEGIN:VEVENT
DTSTART;TZID=Europe/Berlin:20261129T160000
DTEND;TZID=Europe/Berlin:20261129T170000
DTSTAMP:20260425T045131
CREATED:20260303T151253Z
LAST-MODIFIED:20260303T151253Z
UID:10091891-1795968000-1795971600@maulbeerblatt.com
SUMMARY:Ingrid Weng: Natur wie ich sie sehe (Teil 2)
DESCRIPTION:Ingrid Weng ( geb. 1937) ist Hobbyfotografin\, eine Grünauerin in ihrem Kiez unterwegs. Ihre Eindrücke und Beobachtungen zeigt diese Ausstellung.\nDie Ausstellung ist bis zum 28.05.2026 zu sehen. \nEintritt frei
URL:https://maulbeerblatt.com/termin/ingrid-weng-natur-wie-ich-sie-sehe-teil-2/2026-11-29/
LOCATION:KulturTribüne vom Ortsverein Grünau e.V.\, KulturTribüne Grünau\, Regattastraße 191\, 12527 Berlin\, Berlin\, Berlin\, 12527\, Deutschland
CATEGORIES:Ausstellung
END:VEVENT
BEGIN:VEVENT
DTSTART;TZID=Europe/Berlin:20261130T160000
DTEND;TZID=Europe/Berlin:20261130T170000
DTSTAMP:20260425T045131
CREATED:20260303T151253Z
LAST-MODIFIED:20260303T151253Z
UID:10091892-1796054400-1796058000@maulbeerblatt.com
SUMMARY:Ingrid Weng: Natur wie ich sie sehe (Teil 2)
DESCRIPTION:Ingrid Weng ( geb. 1937) ist Hobbyfotografin\, eine Grünauerin in ihrem Kiez unterwegs. Ihre Eindrücke und Beobachtungen zeigt diese Ausstellung.\nDie Ausstellung ist bis zum 28.05.2026 zu sehen. \nEintritt frei
URL:https://maulbeerblatt.com/termin/ingrid-weng-natur-wie-ich-sie-sehe-teil-2/2026-11-30/
LOCATION:KulturTribüne vom Ortsverein Grünau e.V.\, KulturTribüne Grünau\, Regattastraße 191\, 12527 Berlin\, Berlin\, Berlin\, 12527\, Deutschland
CATEGORIES:Ausstellung
END:VEVENT
BEGIN:VEVENT
DTSTART;TZID=Europe/Berlin:20261201T160000
DTEND;TZID=Europe/Berlin:20261201T170000
DTSTAMP:20260425T045131
CREATED:20260303T151253Z
LAST-MODIFIED:20260303T151253Z
UID:10091893-1796140800-1796144400@maulbeerblatt.com
SUMMARY:Ingrid Weng: Natur wie ich sie sehe (Teil 2)
DESCRIPTION:Ingrid Weng ( geb. 1937) ist Hobbyfotografin\, eine Grünauerin in ihrem Kiez unterwegs. Ihre Eindrücke und Beobachtungen zeigt diese Ausstellung.\nDie Ausstellung ist bis zum 28.05.2026 zu sehen. \nEintritt frei
URL:https://maulbeerblatt.com/termin/ingrid-weng-natur-wie-ich-sie-sehe-teil-2/2026-12-01/
LOCATION:KulturTribüne vom Ortsverein Grünau e.V.\, KulturTribüne Grünau\, Regattastraße 191\, 12527 Berlin\, Berlin\, Berlin\, 12527\, Deutschland
CATEGORIES:Ausstellung
END:VEVENT
BEGIN:VEVENT
DTSTART;TZID=Europe/Berlin:20261202T160000
DTEND;TZID=Europe/Berlin:20261202T170000
DTSTAMP:20260425T045131
CREATED:20260303T151253Z
LAST-MODIFIED:20260303T151253Z
UID:10091894-1796227200-1796230800@maulbeerblatt.com
SUMMARY:Ingrid Weng: Natur wie ich sie sehe (Teil 2)
DESCRIPTION:Ingrid Weng ( geb. 1937) ist Hobbyfotografin\, eine Grünauerin in ihrem Kiez unterwegs. Ihre Eindrücke und Beobachtungen zeigt diese Ausstellung.\nDie Ausstellung ist bis zum 28.05.2026 zu sehen. \nEintritt frei
URL:https://maulbeerblatt.com/termin/ingrid-weng-natur-wie-ich-sie-sehe-teil-2/2026-12-02/
LOCATION:KulturTribüne vom Ortsverein Grünau e.V.\, KulturTribüne Grünau\, Regattastraße 191\, 12527 Berlin\, Berlin\, Berlin\, 12527\, Deutschland
CATEGORIES:Ausstellung
END:VEVENT
BEGIN:VEVENT
DTSTART;TZID=Europe/Berlin:20261203T160000
DTEND;TZID=Europe/Berlin:20261203T170000
DTSTAMP:20260425T045131
CREATED:20260303T151253Z
LAST-MODIFIED:20260303T151253Z
UID:10091895-1796313600-1796317200@maulbeerblatt.com
SUMMARY:Ingrid Weng: Natur wie ich sie sehe (Teil 2)
DESCRIPTION:Ingrid Weng ( geb. 1937) ist Hobbyfotografin\, eine Grünauerin in ihrem Kiez unterwegs. Ihre Eindrücke und Beobachtungen zeigt diese Ausstellung.\nDie Ausstellung ist bis zum 28.05.2026 zu sehen. \nEintritt frei
URL:https://maulbeerblatt.com/termin/ingrid-weng-natur-wie-ich-sie-sehe-teil-2/2026-12-03/
LOCATION:KulturTribüne vom Ortsverein Grünau e.V.\, KulturTribüne Grünau\, Regattastraße 191\, 12527 Berlin\, Berlin\, Berlin\, 12527\, Deutschland
CATEGORIES:Ausstellung
END:VEVENT
BEGIN:VEVENT
DTSTART;TZID=Europe/Berlin:20261204T160000
DTEND;TZID=Europe/Berlin:20261204T170000
DTSTAMP:20260425T045131
CREATED:20260303T151253Z
LAST-MODIFIED:20260303T151253Z
UID:10091896-1796400000-1796403600@maulbeerblatt.com
SUMMARY:Ingrid Weng: Natur wie ich sie sehe (Teil 2)
DESCRIPTION:Ingrid Weng ( geb. 1937) ist Hobbyfotografin\, eine Grünauerin in ihrem Kiez unterwegs. Ihre Eindrücke und Beobachtungen zeigt diese Ausstellung.\nDie Ausstellung ist bis zum 28.05.2026 zu sehen. \nEintritt frei
URL:https://maulbeerblatt.com/termin/ingrid-weng-natur-wie-ich-sie-sehe-teil-2/2026-12-04/
LOCATION:KulturTribüne vom Ortsverein Grünau e.V.\, KulturTribüne Grünau\, Regattastraße 191\, 12527 Berlin\, Berlin\, Berlin\, 12527\, Deutschland
CATEGORIES:Ausstellung
END:VEVENT
BEGIN:VEVENT
DTSTART;TZID=Europe/Berlin:20261205T160000
DTEND;TZID=Europe/Berlin:20261205T170000
DTSTAMP:20260425T045131
CREATED:20260303T151253Z
LAST-MODIFIED:20260303T151253Z
UID:10091897-1796486400-1796490000@maulbeerblatt.com
SUMMARY:Ingrid Weng: Natur wie ich sie sehe (Teil 2)
DESCRIPTION:Ingrid Weng ( geb. 1937) ist Hobbyfotografin\, eine Grünauerin in ihrem Kiez unterwegs. Ihre Eindrücke und Beobachtungen zeigt diese Ausstellung.\nDie Ausstellung ist bis zum 28.05.2026 zu sehen. \nEintritt frei
URL:https://maulbeerblatt.com/termin/ingrid-weng-natur-wie-ich-sie-sehe-teil-2/2026-12-05/
LOCATION:KulturTribüne vom Ortsverein Grünau e.V.\, KulturTribüne Grünau\, Regattastraße 191\, 12527 Berlin\, Berlin\, Berlin\, 12527\, Deutschland
CATEGORIES:Ausstellung
END:VEVENT
BEGIN:VEVENT
DTSTART;TZID=Europe/Berlin:20261206T160000
DTEND;TZID=Europe/Berlin:20261206T170000
DTSTAMP:20260425T045131
CREATED:20260303T151253Z
LAST-MODIFIED:20260303T151253Z
UID:10091898-1796572800-1796576400@maulbeerblatt.com
SUMMARY:Ingrid Weng: Natur wie ich sie sehe (Teil 2)
DESCRIPTION:Ingrid Weng ( geb. 1937) ist Hobbyfotografin\, eine Grünauerin in ihrem Kiez unterwegs. Ihre Eindrücke und Beobachtungen zeigt diese Ausstellung.\nDie Ausstellung ist bis zum 28.05.2026 zu sehen. \nEintritt frei
URL:https://maulbeerblatt.com/termin/ingrid-weng-natur-wie-ich-sie-sehe-teil-2/2026-12-06/
LOCATION:KulturTribüne vom Ortsverein Grünau e.V.\, KulturTribüne Grünau\, Regattastraße 191\, 12527 Berlin\, Berlin\, Berlin\, 12527\, Deutschland
CATEGORIES:Ausstellung
END:VEVENT
BEGIN:VEVENT
DTSTART;TZID=Europe/Berlin:20261207T160000
DTEND;TZID=Europe/Berlin:20261207T170000
DTSTAMP:20260425T045131
CREATED:20260303T151253Z
LAST-MODIFIED:20260303T151253Z
UID:10091899-1796659200-1796662800@maulbeerblatt.com
SUMMARY:Ingrid Weng: Natur wie ich sie sehe (Teil 2)
DESCRIPTION:Ingrid Weng ( geb. 1937) ist Hobbyfotografin\, eine Grünauerin in ihrem Kiez unterwegs. Ihre Eindrücke und Beobachtungen zeigt diese Ausstellung.\nDie Ausstellung ist bis zum 28.05.2026 zu sehen. \nEintritt frei
URL:https://maulbeerblatt.com/termin/ingrid-weng-natur-wie-ich-sie-sehe-teil-2/2026-12-07/
LOCATION:KulturTribüne vom Ortsverein Grünau e.V.\, KulturTribüne Grünau\, Regattastraße 191\, 12527 Berlin\, Berlin\, Berlin\, 12527\, Deutschland
CATEGORIES:Ausstellung
END:VEVENT
BEGIN:VEVENT
DTSTART;TZID=Europe/Berlin:20261208T160000
DTEND;TZID=Europe/Berlin:20261208T170000
DTSTAMP:20260425T045131
CREATED:20260303T151253Z
LAST-MODIFIED:20260303T151253Z
UID:10091900-1796745600-1796749200@maulbeerblatt.com
SUMMARY:Ingrid Weng: Natur wie ich sie sehe (Teil 2)
DESCRIPTION:Ingrid Weng ( geb. 1937) ist Hobbyfotografin\, eine Grünauerin in ihrem Kiez unterwegs. Ihre Eindrücke und Beobachtungen zeigt diese Ausstellung.\nDie Ausstellung ist bis zum 28.05.2026 zu sehen. \nEintritt frei
URL:https://maulbeerblatt.com/termin/ingrid-weng-natur-wie-ich-sie-sehe-teil-2/2026-12-08/
LOCATION:KulturTribüne vom Ortsverein Grünau e.V.\, KulturTribüne Grünau\, Regattastraße 191\, 12527 Berlin\, Berlin\, Berlin\, 12527\, Deutschland
CATEGORIES:Ausstellung
END:VEVENT
BEGIN:VEVENT
DTSTART;TZID=Europe/Berlin:20261209T160000
DTEND;TZID=Europe/Berlin:20261209T170000
DTSTAMP:20260425T045131
CREATED:20260303T151253Z
LAST-MODIFIED:20260303T151253Z
UID:10091901-1796832000-1796835600@maulbeerblatt.com
SUMMARY:Ingrid Weng: Natur wie ich sie sehe (Teil 2)
DESCRIPTION:Ingrid Weng ( geb. 1937) ist Hobbyfotografin\, eine Grünauerin in ihrem Kiez unterwegs. Ihre Eindrücke und Beobachtungen zeigt diese Ausstellung.\nDie Ausstellung ist bis zum 28.05.2026 zu sehen. \nEintritt frei
URL:https://maulbeerblatt.com/termin/ingrid-weng-natur-wie-ich-sie-sehe-teil-2/2026-12-09/
LOCATION:KulturTribüne vom Ortsverein Grünau e.V.\, KulturTribüne Grünau\, Regattastraße 191\, 12527 Berlin\, Berlin\, Berlin\, 12527\, Deutschland
CATEGORIES:Ausstellung
END:VEVENT
BEGIN:VEVENT
DTSTART;TZID=Europe/Berlin:20261210T160000
DTEND;TZID=Europe/Berlin:20261210T170000
DTSTAMP:20260425T045131
CREATED:20260303T151253Z
LAST-MODIFIED:20260303T151253Z
UID:10091902-1796918400-1796922000@maulbeerblatt.com
SUMMARY:Ingrid Weng: Natur wie ich sie sehe (Teil 2)
DESCRIPTION:Ingrid Weng ( geb. 1937) ist Hobbyfotografin\, eine Grünauerin in ihrem Kiez unterwegs. Ihre Eindrücke und Beobachtungen zeigt diese Ausstellung.\nDie Ausstellung ist bis zum 28.05.2026 zu sehen. \nEintritt frei
URL:https://maulbeerblatt.com/termin/ingrid-weng-natur-wie-ich-sie-sehe-teil-2/2026-12-10/
LOCATION:KulturTribüne vom Ortsverein Grünau e.V.\, KulturTribüne Grünau\, Regattastraße 191\, 12527 Berlin\, Berlin\, Berlin\, 12527\, Deutschland
CATEGORIES:Ausstellung
END:VEVENT
BEGIN:VEVENT
DTSTART;TZID=Europe/Berlin:20261211T160000
DTEND;TZID=Europe/Berlin:20261211T170000
DTSTAMP:20260425T045131
CREATED:20260303T151253Z
LAST-MODIFIED:20260303T151253Z
UID:10091903-1797004800-1797008400@maulbeerblatt.com
SUMMARY:Ingrid Weng: Natur wie ich sie sehe (Teil 2)
DESCRIPTION:Ingrid Weng ( geb. 1937) ist Hobbyfotografin\, eine Grünauerin in ihrem Kiez unterwegs. Ihre Eindrücke und Beobachtungen zeigt diese Ausstellung.\nDie Ausstellung ist bis zum 28.05.2026 zu sehen. \nEintritt frei
URL:https://maulbeerblatt.com/termin/ingrid-weng-natur-wie-ich-sie-sehe-teil-2/2026-12-11/
LOCATION:KulturTribüne vom Ortsverein Grünau e.V.\, KulturTribüne Grünau\, Regattastraße 191\, 12527 Berlin\, Berlin\, Berlin\, 12527\, Deutschland
CATEGORIES:Ausstellung
END:VEVENT
BEGIN:VEVENT
DTSTART;TZID=Europe/Berlin:20261212T160000
DTEND;TZID=Europe/Berlin:20261212T170000
DTSTAMP:20260425T045131
CREATED:20260303T151253Z
LAST-MODIFIED:20260303T151253Z
UID:10091904-1797091200-1797094800@maulbeerblatt.com
SUMMARY:Ingrid Weng: Natur wie ich sie sehe (Teil 2)
DESCRIPTION:Ingrid Weng ( geb. 1937) ist Hobbyfotografin\, eine Grünauerin in ihrem Kiez unterwegs. Ihre Eindrücke und Beobachtungen zeigt diese Ausstellung.\nDie Ausstellung ist bis zum 28.05.2026 zu sehen. \nEintritt frei
URL:https://maulbeerblatt.com/termin/ingrid-weng-natur-wie-ich-sie-sehe-teil-2/2026-12-12/
LOCATION:KulturTribüne vom Ortsverein Grünau e.V.\, KulturTribüne Grünau\, Regattastraße 191\, 12527 Berlin\, Berlin\, Berlin\, 12527\, Deutschland
CATEGORIES:Ausstellung
END:VEVENT
BEGIN:VEVENT
DTSTART;TZID=Europe/Berlin:20261213T160000
DTEND;TZID=Europe/Berlin:20261213T170000
DTSTAMP:20260425T045131
CREATED:20260303T151253Z
LAST-MODIFIED:20260303T151253Z
UID:10091905-1797177600-1797181200@maulbeerblatt.com
SUMMARY:Ingrid Weng: Natur wie ich sie sehe (Teil 2)
DESCRIPTION:Ingrid Weng ( geb. 1937) ist Hobbyfotografin\, eine Grünauerin in ihrem Kiez unterwegs. Ihre Eindrücke und Beobachtungen zeigt diese Ausstellung.\nDie Ausstellung ist bis zum 28.05.2026 zu sehen. \nEintritt frei
URL:https://maulbeerblatt.com/termin/ingrid-weng-natur-wie-ich-sie-sehe-teil-2/2026-12-13/
LOCATION:KulturTribüne vom Ortsverein Grünau e.V.\, KulturTribüne Grünau\, Regattastraße 191\, 12527 Berlin\, Berlin\, Berlin\, 12527\, Deutschland
CATEGORIES:Ausstellung
END:VEVENT
BEGIN:VEVENT
DTSTART;TZID=Europe/Berlin:20261214T160000
DTEND;TZID=Europe/Berlin:20261214T170000
DTSTAMP:20260425T045131
CREATED:20260303T151253Z
LAST-MODIFIED:20260303T151253Z
UID:10091906-1797264000-1797267600@maulbeerblatt.com
SUMMARY:Ingrid Weng: Natur wie ich sie sehe (Teil 2)
DESCRIPTION:Ingrid Weng ( geb. 1937) ist Hobbyfotografin\, eine Grünauerin in ihrem Kiez unterwegs. Ihre Eindrücke und Beobachtungen zeigt diese Ausstellung.\nDie Ausstellung ist bis zum 28.05.2026 zu sehen. \nEintritt frei
URL:https://maulbeerblatt.com/termin/ingrid-weng-natur-wie-ich-sie-sehe-teil-2/2026-12-14/
LOCATION:KulturTribüne vom Ortsverein Grünau e.V.\, KulturTribüne Grünau\, Regattastraße 191\, 12527 Berlin\, Berlin\, Berlin\, 12527\, Deutschland
CATEGORIES:Ausstellung
END:VEVENT
BEGIN:VEVENT
DTSTART;TZID=Europe/Berlin:20261215T160000
DTEND;TZID=Europe/Berlin:20261215T170000
DTSTAMP:20260425T045131
CREATED:20260303T151253Z
LAST-MODIFIED:20260303T151253Z
UID:10091907-1797350400-1797354000@maulbeerblatt.com
SUMMARY:Ingrid Weng: Natur wie ich sie sehe (Teil 2)
DESCRIPTION:Ingrid Weng ( geb. 1937) ist Hobbyfotografin\, eine Grünauerin in ihrem Kiez unterwegs. Ihre Eindrücke und Beobachtungen zeigt diese Ausstellung.\nDie Ausstellung ist bis zum 28.05.2026 zu sehen. \nEintritt frei
URL:https://maulbeerblatt.com/termin/ingrid-weng-natur-wie-ich-sie-sehe-teil-2/2026-12-15/
LOCATION:KulturTribüne vom Ortsverein Grünau e.V.\, KulturTribüne Grünau\, Regattastraße 191\, 12527 Berlin\, Berlin\, Berlin\, 12527\, Deutschland
CATEGORIES:Ausstellung
END:VEVENT
END:VCALENDAR