BEGIN:VCALENDAR
VERSION:2.0
PRODID:-//Der Maulbär - ECPv6.15.17.1//NONSGML v1.0//EN
CALSCALE:GREGORIAN
METHOD:PUBLISH
X-WR-CALNAME:Der Maulbär
X-ORIGINAL-URL:https://maulbeerblatt.com
X-WR-CALDESC:Veranstaltungen für Der Maulbär
REFRESH-INTERVAL;VALUE=DURATION:PT1H
X-Robots-Tag:noindex
X-PUBLISHED-TTL:PT1H
BEGIN:VTIMEZONE
TZID:Europe/Berlin
BEGIN:DAYLIGHT
TZOFFSETFROM:+0100
TZOFFSETTO:+0200
TZNAME:CEST
DTSTART:20260329T010000
END:DAYLIGHT
BEGIN:STANDARD
TZOFFSETFROM:+0200
TZOFFSETTO:+0100
TZNAME:CET
DTSTART:20261025T010000
END:STANDARD
BEGIN:DAYLIGHT
TZOFFSETFROM:+0100
TZOFFSETTO:+0200
TZNAME:CEST
DTSTART:20270328T010000
END:DAYLIGHT
BEGIN:STANDARD
TZOFFSETFROM:+0200
TZOFFSETTO:+0100
TZNAME:CET
DTSTART:20271031T010000
END:STANDARD
BEGIN:DAYLIGHT
TZOFFSETFROM:+0100
TZOFFSETTO:+0200
TZNAME:CEST
DTSTART:20280326T010000
END:DAYLIGHT
BEGIN:STANDARD
TZOFFSETFROM:+0200
TZOFFSETTO:+0100
TZNAME:CET
DTSTART:20281029T010000
END:STANDARD
END:VTIMEZONE
BEGIN:VEVENT
DTSTART;TZID=Europe/Berlin:20270115T160000
DTEND;TZID=Europe/Berlin:20270115T170000
DTSTAMP:20260425T123859
CREATED:20260303T151253Z
LAST-MODIFIED:20260303T151253Z
UID:10091938-1800028800-1800032400@maulbeerblatt.com
SUMMARY:Ingrid Weng: Natur wie ich sie sehe (Teil 2)
DESCRIPTION:Ingrid Weng ( geb. 1937) ist Hobbyfotografin\, eine Grünauerin in ihrem Kiez unterwegs. Ihre Eindrücke und Beobachtungen zeigt diese Ausstellung.\nDie Ausstellung ist bis zum 28.05.2026 zu sehen. \nEintritt frei
URL:https://maulbeerblatt.com/termin/ingrid-weng-natur-wie-ich-sie-sehe-teil-2/2027-01-15/
LOCATION:KulturTribüne vom Ortsverein Grünau e.V.\, KulturTribüne Grünau\, Regattastraße 191\, 12527 Berlin\, Berlin\, Berlin\, 12527\, Deutschland
CATEGORIES:Ausstellung
END:VEVENT
BEGIN:VEVENT
DTSTART;TZID=Europe/Berlin:20270116T160000
DTEND;TZID=Europe/Berlin:20270116T170000
DTSTAMP:20260425T123859
CREATED:20260303T151253Z
LAST-MODIFIED:20260303T151253Z
UID:10091939-1800115200-1800118800@maulbeerblatt.com
SUMMARY:Ingrid Weng: Natur wie ich sie sehe (Teil 2)
DESCRIPTION:Ingrid Weng ( geb. 1937) ist Hobbyfotografin\, eine Grünauerin in ihrem Kiez unterwegs. Ihre Eindrücke und Beobachtungen zeigt diese Ausstellung.\nDie Ausstellung ist bis zum 28.05.2026 zu sehen. \nEintritt frei
URL:https://maulbeerblatt.com/termin/ingrid-weng-natur-wie-ich-sie-sehe-teil-2/2027-01-16/
LOCATION:KulturTribüne vom Ortsverein Grünau e.V.\, KulturTribüne Grünau\, Regattastraße 191\, 12527 Berlin\, Berlin\, Berlin\, 12527\, Deutschland
CATEGORIES:Ausstellung
END:VEVENT
BEGIN:VEVENT
DTSTART;TZID=Europe/Berlin:20270117T160000
DTEND;TZID=Europe/Berlin:20270117T170000
DTSTAMP:20260425T123859
CREATED:20260303T151253Z
LAST-MODIFIED:20260303T151253Z
UID:10091940-1800201600-1800205200@maulbeerblatt.com
SUMMARY:Ingrid Weng: Natur wie ich sie sehe (Teil 2)
DESCRIPTION:Ingrid Weng ( geb. 1937) ist Hobbyfotografin\, eine Grünauerin in ihrem Kiez unterwegs. Ihre Eindrücke und Beobachtungen zeigt diese Ausstellung.\nDie Ausstellung ist bis zum 28.05.2026 zu sehen. \nEintritt frei
URL:https://maulbeerblatt.com/termin/ingrid-weng-natur-wie-ich-sie-sehe-teil-2/2027-01-17/
LOCATION:KulturTribüne vom Ortsverein Grünau e.V.\, KulturTribüne Grünau\, Regattastraße 191\, 12527 Berlin\, Berlin\, Berlin\, 12527\, Deutschland
CATEGORIES:Ausstellung
END:VEVENT
BEGIN:VEVENT
DTSTART;TZID=Europe/Berlin:20270118T160000
DTEND;TZID=Europe/Berlin:20270118T170000
DTSTAMP:20260425T123859
CREATED:20260303T151253Z
LAST-MODIFIED:20260303T151253Z
UID:10091941-1800288000-1800291600@maulbeerblatt.com
SUMMARY:Ingrid Weng: Natur wie ich sie sehe (Teil 2)
DESCRIPTION:Ingrid Weng ( geb. 1937) ist Hobbyfotografin\, eine Grünauerin in ihrem Kiez unterwegs. Ihre Eindrücke und Beobachtungen zeigt diese Ausstellung.\nDie Ausstellung ist bis zum 28.05.2026 zu sehen. \nEintritt frei
URL:https://maulbeerblatt.com/termin/ingrid-weng-natur-wie-ich-sie-sehe-teil-2/2027-01-18/
LOCATION:KulturTribüne vom Ortsverein Grünau e.V.\, KulturTribüne Grünau\, Regattastraße 191\, 12527 Berlin\, Berlin\, Berlin\, 12527\, Deutschland
CATEGORIES:Ausstellung
END:VEVENT
BEGIN:VEVENT
DTSTART;TZID=Europe/Berlin:20270119T160000
DTEND;TZID=Europe/Berlin:20270119T170000
DTSTAMP:20260425T123859
CREATED:20260303T151253Z
LAST-MODIFIED:20260303T151253Z
UID:10091942-1800374400-1800378000@maulbeerblatt.com
SUMMARY:Ingrid Weng: Natur wie ich sie sehe (Teil 2)
DESCRIPTION:Ingrid Weng ( geb. 1937) ist Hobbyfotografin\, eine Grünauerin in ihrem Kiez unterwegs. Ihre Eindrücke und Beobachtungen zeigt diese Ausstellung.\nDie Ausstellung ist bis zum 28.05.2026 zu sehen. \nEintritt frei
URL:https://maulbeerblatt.com/termin/ingrid-weng-natur-wie-ich-sie-sehe-teil-2/2027-01-19/
LOCATION:KulturTribüne vom Ortsverein Grünau e.V.\, KulturTribüne Grünau\, Regattastraße 191\, 12527 Berlin\, Berlin\, Berlin\, 12527\, Deutschland
CATEGORIES:Ausstellung
END:VEVENT
BEGIN:VEVENT
DTSTART;TZID=Europe/Berlin:20270120T160000
DTEND;TZID=Europe/Berlin:20270120T170000
DTSTAMP:20260425T123859
CREATED:20260303T151253Z
LAST-MODIFIED:20260303T151253Z
UID:10091943-1800460800-1800464400@maulbeerblatt.com
SUMMARY:Ingrid Weng: Natur wie ich sie sehe (Teil 2)
DESCRIPTION:Ingrid Weng ( geb. 1937) ist Hobbyfotografin\, eine Grünauerin in ihrem Kiez unterwegs. Ihre Eindrücke und Beobachtungen zeigt diese Ausstellung.\nDie Ausstellung ist bis zum 28.05.2026 zu sehen. \nEintritt frei
URL:https://maulbeerblatt.com/termin/ingrid-weng-natur-wie-ich-sie-sehe-teil-2/2027-01-20/
LOCATION:KulturTribüne vom Ortsverein Grünau e.V.\, KulturTribüne Grünau\, Regattastraße 191\, 12527 Berlin\, Berlin\, Berlin\, 12527\, Deutschland
CATEGORIES:Ausstellung
END:VEVENT
BEGIN:VEVENT
DTSTART;TZID=Europe/Berlin:20270121T160000
DTEND;TZID=Europe/Berlin:20270121T170000
DTSTAMP:20260425T123859
CREATED:20260303T151253Z
LAST-MODIFIED:20260303T151253Z
UID:10091944-1800547200-1800550800@maulbeerblatt.com
SUMMARY:Ingrid Weng: Natur wie ich sie sehe (Teil 2)
DESCRIPTION:Ingrid Weng ( geb. 1937) ist Hobbyfotografin\, eine Grünauerin in ihrem Kiez unterwegs. Ihre Eindrücke und Beobachtungen zeigt diese Ausstellung.\nDie Ausstellung ist bis zum 28.05.2026 zu sehen. \nEintritt frei
URL:https://maulbeerblatt.com/termin/ingrid-weng-natur-wie-ich-sie-sehe-teil-2/2027-01-21/
LOCATION:KulturTribüne vom Ortsverein Grünau e.V.\, KulturTribüne Grünau\, Regattastraße 191\, 12527 Berlin\, Berlin\, Berlin\, 12527\, Deutschland
CATEGORIES:Ausstellung
END:VEVENT
BEGIN:VEVENT
DTSTART;TZID=Europe/Berlin:20270122T160000
DTEND;TZID=Europe/Berlin:20270122T170000
DTSTAMP:20260425T123859
CREATED:20260303T151253Z
LAST-MODIFIED:20260303T151253Z
UID:10091945-1800633600-1800637200@maulbeerblatt.com
SUMMARY:Ingrid Weng: Natur wie ich sie sehe (Teil 2)
DESCRIPTION:Ingrid Weng ( geb. 1937) ist Hobbyfotografin\, eine Grünauerin in ihrem Kiez unterwegs. Ihre Eindrücke und Beobachtungen zeigt diese Ausstellung.\nDie Ausstellung ist bis zum 28.05.2026 zu sehen. \nEintritt frei
URL:https://maulbeerblatt.com/termin/ingrid-weng-natur-wie-ich-sie-sehe-teil-2/2027-01-22/
LOCATION:KulturTribüne vom Ortsverein Grünau e.V.\, KulturTribüne Grünau\, Regattastraße 191\, 12527 Berlin\, Berlin\, Berlin\, 12527\, Deutschland
CATEGORIES:Ausstellung
END:VEVENT
BEGIN:VEVENT
DTSTART;TZID=Europe/Berlin:20270123T160000
DTEND;TZID=Europe/Berlin:20270123T170000
DTSTAMP:20260425T123859
CREATED:20260303T151253Z
LAST-MODIFIED:20260303T151253Z
UID:10091946-1800720000-1800723600@maulbeerblatt.com
SUMMARY:Ingrid Weng: Natur wie ich sie sehe (Teil 2)
DESCRIPTION:Ingrid Weng ( geb. 1937) ist Hobbyfotografin\, eine Grünauerin in ihrem Kiez unterwegs. Ihre Eindrücke und Beobachtungen zeigt diese Ausstellung.\nDie Ausstellung ist bis zum 28.05.2026 zu sehen. \nEintritt frei
URL:https://maulbeerblatt.com/termin/ingrid-weng-natur-wie-ich-sie-sehe-teil-2/2027-01-23/
LOCATION:KulturTribüne vom Ortsverein Grünau e.V.\, KulturTribüne Grünau\, Regattastraße 191\, 12527 Berlin\, Berlin\, Berlin\, 12527\, Deutschland
CATEGORIES:Ausstellung
END:VEVENT
BEGIN:VEVENT
DTSTART;TZID=Europe/Berlin:20270124T160000
DTEND;TZID=Europe/Berlin:20270124T170000
DTSTAMP:20260425T123859
CREATED:20260303T151253Z
LAST-MODIFIED:20260303T151253Z
UID:10091947-1800806400-1800810000@maulbeerblatt.com
SUMMARY:Ingrid Weng: Natur wie ich sie sehe (Teil 2)
DESCRIPTION:Ingrid Weng ( geb. 1937) ist Hobbyfotografin\, eine Grünauerin in ihrem Kiez unterwegs. Ihre Eindrücke und Beobachtungen zeigt diese Ausstellung.\nDie Ausstellung ist bis zum 28.05.2026 zu sehen. \nEintritt frei
URL:https://maulbeerblatt.com/termin/ingrid-weng-natur-wie-ich-sie-sehe-teil-2/2027-01-24/
LOCATION:KulturTribüne vom Ortsverein Grünau e.V.\, KulturTribüne Grünau\, Regattastraße 191\, 12527 Berlin\, Berlin\, Berlin\, 12527\, Deutschland
CATEGORIES:Ausstellung
END:VEVENT
BEGIN:VEVENT
DTSTART;TZID=Europe/Berlin:20270125T160000
DTEND;TZID=Europe/Berlin:20270125T170000
DTSTAMP:20260425T123859
CREATED:20260303T151253Z
LAST-MODIFIED:20260303T151253Z
UID:10091948-1800892800-1800896400@maulbeerblatt.com
SUMMARY:Ingrid Weng: Natur wie ich sie sehe (Teil 2)
DESCRIPTION:Ingrid Weng ( geb. 1937) ist Hobbyfotografin\, eine Grünauerin in ihrem Kiez unterwegs. Ihre Eindrücke und Beobachtungen zeigt diese Ausstellung.\nDie Ausstellung ist bis zum 28.05.2026 zu sehen. \nEintritt frei
URL:https://maulbeerblatt.com/termin/ingrid-weng-natur-wie-ich-sie-sehe-teil-2/2027-01-25/
LOCATION:KulturTribüne vom Ortsverein Grünau e.V.\, KulturTribüne Grünau\, Regattastraße 191\, 12527 Berlin\, Berlin\, Berlin\, 12527\, Deutschland
CATEGORIES:Ausstellung
END:VEVENT
BEGIN:VEVENT
DTSTART;TZID=Europe/Berlin:20270126T160000
DTEND;TZID=Europe/Berlin:20270126T170000
DTSTAMP:20260425T123859
CREATED:20260303T151253Z
LAST-MODIFIED:20260303T151253Z
UID:10091949-1800979200-1800982800@maulbeerblatt.com
SUMMARY:Ingrid Weng: Natur wie ich sie sehe (Teil 2)
DESCRIPTION:Ingrid Weng ( geb. 1937) ist Hobbyfotografin\, eine Grünauerin in ihrem Kiez unterwegs. Ihre Eindrücke und Beobachtungen zeigt diese Ausstellung.\nDie Ausstellung ist bis zum 28.05.2026 zu sehen. \nEintritt frei
URL:https://maulbeerblatt.com/termin/ingrid-weng-natur-wie-ich-sie-sehe-teil-2/2027-01-26/
LOCATION:KulturTribüne vom Ortsverein Grünau e.V.\, KulturTribüne Grünau\, Regattastraße 191\, 12527 Berlin\, Berlin\, Berlin\, 12527\, Deutschland
CATEGORIES:Ausstellung
END:VEVENT
BEGIN:VEVENT
DTSTART;TZID=Europe/Berlin:20270127T160000
DTEND;TZID=Europe/Berlin:20270127T170000
DTSTAMP:20260425T123859
CREATED:20260303T151253Z
LAST-MODIFIED:20260303T151253Z
UID:10091950-1801065600-1801069200@maulbeerblatt.com
SUMMARY:Ingrid Weng: Natur wie ich sie sehe (Teil 2)
DESCRIPTION:Ingrid Weng ( geb. 1937) ist Hobbyfotografin\, eine Grünauerin in ihrem Kiez unterwegs. Ihre Eindrücke und Beobachtungen zeigt diese Ausstellung.\nDie Ausstellung ist bis zum 28.05.2026 zu sehen. \nEintritt frei
URL:https://maulbeerblatt.com/termin/ingrid-weng-natur-wie-ich-sie-sehe-teil-2/2027-01-27/
LOCATION:KulturTribüne vom Ortsverein Grünau e.V.\, KulturTribüne Grünau\, Regattastraße 191\, 12527 Berlin\, Berlin\, Berlin\, 12527\, Deutschland
CATEGORIES:Ausstellung
END:VEVENT
BEGIN:VEVENT
DTSTART;TZID=Europe/Berlin:20270128T160000
DTEND;TZID=Europe/Berlin:20270128T170000
DTSTAMP:20260425T123859
CREATED:20260303T151253Z
LAST-MODIFIED:20260303T151253Z
UID:10091951-1801152000-1801155600@maulbeerblatt.com
SUMMARY:Ingrid Weng: Natur wie ich sie sehe (Teil 2)
DESCRIPTION:Ingrid Weng ( geb. 1937) ist Hobbyfotografin\, eine Grünauerin in ihrem Kiez unterwegs. Ihre Eindrücke und Beobachtungen zeigt diese Ausstellung.\nDie Ausstellung ist bis zum 28.05.2026 zu sehen. \nEintritt frei
URL:https://maulbeerblatt.com/termin/ingrid-weng-natur-wie-ich-sie-sehe-teil-2/2027-01-28/
LOCATION:KulturTribüne vom Ortsverein Grünau e.V.\, KulturTribüne Grünau\, Regattastraße 191\, 12527 Berlin\, Berlin\, Berlin\, 12527\, Deutschland
CATEGORIES:Ausstellung
END:VEVENT
BEGIN:VEVENT
DTSTART;TZID=Europe/Berlin:20270129T160000
DTEND;TZID=Europe/Berlin:20270129T170000
DTSTAMP:20260425T123859
CREATED:20260303T151253Z
LAST-MODIFIED:20260303T151253Z
UID:10091952-1801238400-1801242000@maulbeerblatt.com
SUMMARY:Ingrid Weng: Natur wie ich sie sehe (Teil 2)
DESCRIPTION:Ingrid Weng ( geb. 1937) ist Hobbyfotografin\, eine Grünauerin in ihrem Kiez unterwegs. Ihre Eindrücke und Beobachtungen zeigt diese Ausstellung.\nDie Ausstellung ist bis zum 28.05.2026 zu sehen. \nEintritt frei
URL:https://maulbeerblatt.com/termin/ingrid-weng-natur-wie-ich-sie-sehe-teil-2/2027-01-29/
LOCATION:KulturTribüne vom Ortsverein Grünau e.V.\, KulturTribüne Grünau\, Regattastraße 191\, 12527 Berlin\, Berlin\, Berlin\, 12527\, Deutschland
CATEGORIES:Ausstellung
END:VEVENT
BEGIN:VEVENT
DTSTART;TZID=Europe/Berlin:20270130T160000
DTEND;TZID=Europe/Berlin:20270130T170000
DTSTAMP:20260425T123859
CREATED:20260303T151253Z
LAST-MODIFIED:20260303T151253Z
UID:10091953-1801324800-1801328400@maulbeerblatt.com
SUMMARY:Ingrid Weng: Natur wie ich sie sehe (Teil 2)
DESCRIPTION:Ingrid Weng ( geb. 1937) ist Hobbyfotografin\, eine Grünauerin in ihrem Kiez unterwegs. Ihre Eindrücke und Beobachtungen zeigt diese Ausstellung.\nDie Ausstellung ist bis zum 28.05.2026 zu sehen. \nEintritt frei
URL:https://maulbeerblatt.com/termin/ingrid-weng-natur-wie-ich-sie-sehe-teil-2/2027-01-30/
LOCATION:KulturTribüne vom Ortsverein Grünau e.V.\, KulturTribüne Grünau\, Regattastraße 191\, 12527 Berlin\, Berlin\, Berlin\, 12527\, Deutschland
CATEGORIES:Ausstellung
END:VEVENT
BEGIN:VEVENT
DTSTART;TZID=Europe/Berlin:20270131T160000
DTEND;TZID=Europe/Berlin:20270131T170000
DTSTAMP:20260425T123859
CREATED:20260303T151253Z
LAST-MODIFIED:20260303T151253Z
UID:10091954-1801411200-1801414800@maulbeerblatt.com
SUMMARY:Ingrid Weng: Natur wie ich sie sehe (Teil 2)
DESCRIPTION:Ingrid Weng ( geb. 1937) ist Hobbyfotografin\, eine Grünauerin in ihrem Kiez unterwegs. Ihre Eindrücke und Beobachtungen zeigt diese Ausstellung.\nDie Ausstellung ist bis zum 28.05.2026 zu sehen. \nEintritt frei
URL:https://maulbeerblatt.com/termin/ingrid-weng-natur-wie-ich-sie-sehe-teil-2/2027-01-31/
LOCATION:KulturTribüne vom Ortsverein Grünau e.V.\, KulturTribüne Grünau\, Regattastraße 191\, 12527 Berlin\, Berlin\, Berlin\, 12527\, Deutschland
CATEGORIES:Ausstellung
END:VEVENT
BEGIN:VEVENT
DTSTART;TZID=Europe/Berlin:20270201T160000
DTEND;TZID=Europe/Berlin:20270201T170000
DTSTAMP:20260425T123859
CREATED:20260303T151253Z
LAST-MODIFIED:20260303T151253Z
UID:10091955-1801497600-1801501200@maulbeerblatt.com
SUMMARY:Ingrid Weng: Natur wie ich sie sehe (Teil 2)
DESCRIPTION:Ingrid Weng ( geb. 1937) ist Hobbyfotografin\, eine Grünauerin in ihrem Kiez unterwegs. Ihre Eindrücke und Beobachtungen zeigt diese Ausstellung.\nDie Ausstellung ist bis zum 28.05.2026 zu sehen. \nEintritt frei
URL:https://maulbeerblatt.com/termin/ingrid-weng-natur-wie-ich-sie-sehe-teil-2/2027-02-01/
LOCATION:KulturTribüne vom Ortsverein Grünau e.V.\, KulturTribüne Grünau\, Regattastraße 191\, 12527 Berlin\, Berlin\, Berlin\, 12527\, Deutschland
CATEGORIES:Ausstellung
END:VEVENT
BEGIN:VEVENT
DTSTART;TZID=Europe/Berlin:20270202T160000
DTEND;TZID=Europe/Berlin:20270202T170000
DTSTAMP:20260425T123859
CREATED:20260303T151253Z
LAST-MODIFIED:20260303T151253Z
UID:10091956-1801584000-1801587600@maulbeerblatt.com
SUMMARY:Ingrid Weng: Natur wie ich sie sehe (Teil 2)
DESCRIPTION:Ingrid Weng ( geb. 1937) ist Hobbyfotografin\, eine Grünauerin in ihrem Kiez unterwegs. Ihre Eindrücke und Beobachtungen zeigt diese Ausstellung.\nDie Ausstellung ist bis zum 28.05.2026 zu sehen. \nEintritt frei
URL:https://maulbeerblatt.com/termin/ingrid-weng-natur-wie-ich-sie-sehe-teil-2/2027-02-02/
LOCATION:KulturTribüne vom Ortsverein Grünau e.V.\, KulturTribüne Grünau\, Regattastraße 191\, 12527 Berlin\, Berlin\, Berlin\, 12527\, Deutschland
CATEGORIES:Ausstellung
END:VEVENT
BEGIN:VEVENT
DTSTART;TZID=Europe/Berlin:20270203T160000
DTEND;TZID=Europe/Berlin:20270203T170000
DTSTAMP:20260425T123859
CREATED:20260303T151253Z
LAST-MODIFIED:20260303T151253Z
UID:10091957-1801670400-1801674000@maulbeerblatt.com
SUMMARY:Ingrid Weng: Natur wie ich sie sehe (Teil 2)
DESCRIPTION:Ingrid Weng ( geb. 1937) ist Hobbyfotografin\, eine Grünauerin in ihrem Kiez unterwegs. Ihre Eindrücke und Beobachtungen zeigt diese Ausstellung.\nDie Ausstellung ist bis zum 28.05.2026 zu sehen. \nEintritt frei
URL:https://maulbeerblatt.com/termin/ingrid-weng-natur-wie-ich-sie-sehe-teil-2/2027-02-03/
LOCATION:KulturTribüne vom Ortsverein Grünau e.V.\, KulturTribüne Grünau\, Regattastraße 191\, 12527 Berlin\, Berlin\, Berlin\, 12527\, Deutschland
CATEGORIES:Ausstellung
END:VEVENT
BEGIN:VEVENT
DTSTART;TZID=Europe/Berlin:20270204T160000
DTEND;TZID=Europe/Berlin:20270204T170000
DTSTAMP:20260425T123859
CREATED:20260303T151253Z
LAST-MODIFIED:20260303T151253Z
UID:10091958-1801756800-1801760400@maulbeerblatt.com
SUMMARY:Ingrid Weng: Natur wie ich sie sehe (Teil 2)
DESCRIPTION:Ingrid Weng ( geb. 1937) ist Hobbyfotografin\, eine Grünauerin in ihrem Kiez unterwegs. Ihre Eindrücke und Beobachtungen zeigt diese Ausstellung.\nDie Ausstellung ist bis zum 28.05.2026 zu sehen. \nEintritt frei
URL:https://maulbeerblatt.com/termin/ingrid-weng-natur-wie-ich-sie-sehe-teil-2/2027-02-04/
LOCATION:KulturTribüne vom Ortsverein Grünau e.V.\, KulturTribüne Grünau\, Regattastraße 191\, 12527 Berlin\, Berlin\, Berlin\, 12527\, Deutschland
CATEGORIES:Ausstellung
END:VEVENT
BEGIN:VEVENT
DTSTART;TZID=Europe/Berlin:20270205T160000
DTEND;TZID=Europe/Berlin:20270205T170000
DTSTAMP:20260425T123859
CREATED:20260303T151253Z
LAST-MODIFIED:20260303T151253Z
UID:10091959-1801843200-1801846800@maulbeerblatt.com
SUMMARY:Ingrid Weng: Natur wie ich sie sehe (Teil 2)
DESCRIPTION:Ingrid Weng ( geb. 1937) ist Hobbyfotografin\, eine Grünauerin in ihrem Kiez unterwegs. Ihre Eindrücke und Beobachtungen zeigt diese Ausstellung.\nDie Ausstellung ist bis zum 28.05.2026 zu sehen. \nEintritt frei
URL:https://maulbeerblatt.com/termin/ingrid-weng-natur-wie-ich-sie-sehe-teil-2/2027-02-05/
LOCATION:KulturTribüne vom Ortsverein Grünau e.V.\, KulturTribüne Grünau\, Regattastraße 191\, 12527 Berlin\, Berlin\, Berlin\, 12527\, Deutschland
CATEGORIES:Ausstellung
END:VEVENT
BEGIN:VEVENT
DTSTART;TZID=Europe/Berlin:20270206T160000
DTEND;TZID=Europe/Berlin:20270206T170000
DTSTAMP:20260425T123859
CREATED:20260303T151253Z
LAST-MODIFIED:20260303T151253Z
UID:10091960-1801929600-1801933200@maulbeerblatt.com
SUMMARY:Ingrid Weng: Natur wie ich sie sehe (Teil 2)
DESCRIPTION:Ingrid Weng ( geb. 1937) ist Hobbyfotografin\, eine Grünauerin in ihrem Kiez unterwegs. Ihre Eindrücke und Beobachtungen zeigt diese Ausstellung.\nDie Ausstellung ist bis zum 28.05.2026 zu sehen. \nEintritt frei
URL:https://maulbeerblatt.com/termin/ingrid-weng-natur-wie-ich-sie-sehe-teil-2/2027-02-06/
LOCATION:KulturTribüne vom Ortsverein Grünau e.V.\, KulturTribüne Grünau\, Regattastraße 191\, 12527 Berlin\, Berlin\, Berlin\, 12527\, Deutschland
CATEGORIES:Ausstellung
END:VEVENT
BEGIN:VEVENT
DTSTART;TZID=Europe/Berlin:20270207T160000
DTEND;TZID=Europe/Berlin:20270207T170000
DTSTAMP:20260425T123859
CREATED:20260303T151253Z
LAST-MODIFIED:20260303T151253Z
UID:10091961-1802016000-1802019600@maulbeerblatt.com
SUMMARY:Ingrid Weng: Natur wie ich sie sehe (Teil 2)
DESCRIPTION:Ingrid Weng ( geb. 1937) ist Hobbyfotografin\, eine Grünauerin in ihrem Kiez unterwegs. Ihre Eindrücke und Beobachtungen zeigt diese Ausstellung.\nDie Ausstellung ist bis zum 28.05.2026 zu sehen. \nEintritt frei
URL:https://maulbeerblatt.com/termin/ingrid-weng-natur-wie-ich-sie-sehe-teil-2/2027-02-07/
LOCATION:KulturTribüne vom Ortsverein Grünau e.V.\, KulturTribüne Grünau\, Regattastraße 191\, 12527 Berlin\, Berlin\, Berlin\, 12527\, Deutschland
CATEGORIES:Ausstellung
END:VEVENT
BEGIN:VEVENT
DTSTART;TZID=Europe/Berlin:20270208T160000
DTEND;TZID=Europe/Berlin:20270208T170000
DTSTAMP:20260425T123859
CREATED:20260303T151253Z
LAST-MODIFIED:20260303T151253Z
UID:10091962-1802102400-1802106000@maulbeerblatt.com
SUMMARY:Ingrid Weng: Natur wie ich sie sehe (Teil 2)
DESCRIPTION:Ingrid Weng ( geb. 1937) ist Hobbyfotografin\, eine Grünauerin in ihrem Kiez unterwegs. Ihre Eindrücke und Beobachtungen zeigt diese Ausstellung.\nDie Ausstellung ist bis zum 28.05.2026 zu sehen. \nEintritt frei
URL:https://maulbeerblatt.com/termin/ingrid-weng-natur-wie-ich-sie-sehe-teil-2/2027-02-08/
LOCATION:KulturTribüne vom Ortsverein Grünau e.V.\, KulturTribüne Grünau\, Regattastraße 191\, 12527 Berlin\, Berlin\, Berlin\, 12527\, Deutschland
CATEGORIES:Ausstellung
END:VEVENT
BEGIN:VEVENT
DTSTART;TZID=Europe/Berlin:20270209T160000
DTEND;TZID=Europe/Berlin:20270209T170000
DTSTAMP:20260425T123859
CREATED:20260303T151253Z
LAST-MODIFIED:20260303T151253Z
UID:10091963-1802188800-1802192400@maulbeerblatt.com
SUMMARY:Ingrid Weng: Natur wie ich sie sehe (Teil 2)
DESCRIPTION:Ingrid Weng ( geb. 1937) ist Hobbyfotografin\, eine Grünauerin in ihrem Kiez unterwegs. Ihre Eindrücke und Beobachtungen zeigt diese Ausstellung.\nDie Ausstellung ist bis zum 28.05.2026 zu sehen. \nEintritt frei
URL:https://maulbeerblatt.com/termin/ingrid-weng-natur-wie-ich-sie-sehe-teil-2/2027-02-09/
LOCATION:KulturTribüne vom Ortsverein Grünau e.V.\, KulturTribüne Grünau\, Regattastraße 191\, 12527 Berlin\, Berlin\, Berlin\, 12527\, Deutschland
CATEGORIES:Ausstellung
END:VEVENT
BEGIN:VEVENT
DTSTART;TZID=Europe/Berlin:20270210T160000
DTEND;TZID=Europe/Berlin:20270210T170000
DTSTAMP:20260425T123859
CREATED:20260303T151253Z
LAST-MODIFIED:20260303T151253Z
UID:10091964-1802275200-1802278800@maulbeerblatt.com
SUMMARY:Ingrid Weng: Natur wie ich sie sehe (Teil 2)
DESCRIPTION:Ingrid Weng ( geb. 1937) ist Hobbyfotografin\, eine Grünauerin in ihrem Kiez unterwegs. Ihre Eindrücke und Beobachtungen zeigt diese Ausstellung.\nDie Ausstellung ist bis zum 28.05.2026 zu sehen. \nEintritt frei
URL:https://maulbeerblatt.com/termin/ingrid-weng-natur-wie-ich-sie-sehe-teil-2/2027-02-10/
LOCATION:KulturTribüne vom Ortsverein Grünau e.V.\, KulturTribüne Grünau\, Regattastraße 191\, 12527 Berlin\, Berlin\, Berlin\, 12527\, Deutschland
CATEGORIES:Ausstellung
END:VEVENT
BEGIN:VEVENT
DTSTART;TZID=Europe/Berlin:20270211T160000
DTEND;TZID=Europe/Berlin:20270211T170000
DTSTAMP:20260425T123859
CREATED:20260303T151253Z
LAST-MODIFIED:20260303T151253Z
UID:10091965-1802361600-1802365200@maulbeerblatt.com
SUMMARY:Ingrid Weng: Natur wie ich sie sehe (Teil 2)
DESCRIPTION:Ingrid Weng ( geb. 1937) ist Hobbyfotografin\, eine Grünauerin in ihrem Kiez unterwegs. Ihre Eindrücke und Beobachtungen zeigt diese Ausstellung.\nDie Ausstellung ist bis zum 28.05.2026 zu sehen. \nEintritt frei
URL:https://maulbeerblatt.com/termin/ingrid-weng-natur-wie-ich-sie-sehe-teil-2/2027-02-11/
LOCATION:KulturTribüne vom Ortsverein Grünau e.V.\, KulturTribüne Grünau\, Regattastraße 191\, 12527 Berlin\, Berlin\, Berlin\, 12527\, Deutschland
CATEGORIES:Ausstellung
END:VEVENT
BEGIN:VEVENT
DTSTART;TZID=Europe/Berlin:20270212T160000
DTEND;TZID=Europe/Berlin:20270212T170000
DTSTAMP:20260425T123859
CREATED:20260303T151253Z
LAST-MODIFIED:20260303T151253Z
UID:10091966-1802448000-1802451600@maulbeerblatt.com
SUMMARY:Ingrid Weng: Natur wie ich sie sehe (Teil 2)
DESCRIPTION:Ingrid Weng ( geb. 1937) ist Hobbyfotografin\, eine Grünauerin in ihrem Kiez unterwegs. Ihre Eindrücke und Beobachtungen zeigt diese Ausstellung.\nDie Ausstellung ist bis zum 28.05.2026 zu sehen. \nEintritt frei
URL:https://maulbeerblatt.com/termin/ingrid-weng-natur-wie-ich-sie-sehe-teil-2/2027-02-12/
LOCATION:KulturTribüne vom Ortsverein Grünau e.V.\, KulturTribüne Grünau\, Regattastraße 191\, 12527 Berlin\, Berlin\, Berlin\, 12527\, Deutschland
CATEGORIES:Ausstellung
END:VEVENT
BEGIN:VEVENT
DTSTART;TZID=Europe/Berlin:20270213T160000
DTEND;TZID=Europe/Berlin:20270213T170000
DTSTAMP:20260425T123859
CREATED:20260303T151253Z
LAST-MODIFIED:20260303T151253Z
UID:10091967-1802534400-1802538000@maulbeerblatt.com
SUMMARY:Ingrid Weng: Natur wie ich sie sehe (Teil 2)
DESCRIPTION:Ingrid Weng ( geb. 1937) ist Hobbyfotografin\, eine Grünauerin in ihrem Kiez unterwegs. Ihre Eindrücke und Beobachtungen zeigt diese Ausstellung.\nDie Ausstellung ist bis zum 28.05.2026 zu sehen. \nEintritt frei
URL:https://maulbeerblatt.com/termin/ingrid-weng-natur-wie-ich-sie-sehe-teil-2/2027-02-13/
LOCATION:KulturTribüne vom Ortsverein Grünau e.V.\, KulturTribüne Grünau\, Regattastraße 191\, 12527 Berlin\, Berlin\, Berlin\, 12527\, Deutschland
CATEGORIES:Ausstellung
END:VEVENT
END:VCALENDAR