BEGIN:VCALENDAR
VERSION:2.0
PRODID:-//Der Maulbär - ECPv6.15.17.1//NONSGML v1.0//EN
CALSCALE:GREGORIAN
METHOD:PUBLISH
X-WR-CALNAME:Der Maulbär
X-ORIGINAL-URL:https://maulbeerblatt.com
X-WR-CALDESC:Veranstaltungen für Der Maulbär
REFRESH-INTERVAL;VALUE=DURATION:PT1H
X-Robots-Tag:noindex
X-PUBLISHED-TTL:PT1H
BEGIN:VTIMEZONE
TZID:Europe/Berlin
BEGIN:DAYLIGHT
TZOFFSETFROM:+0100
TZOFFSETTO:+0200
TZNAME:CEST
DTSTART:20250330T010000
END:DAYLIGHT
BEGIN:STANDARD
TZOFFSETFROM:+0200
TZOFFSETTO:+0100
TZNAME:CET
DTSTART:20251026T010000
END:STANDARD
BEGIN:DAYLIGHT
TZOFFSETFROM:+0100
TZOFFSETTO:+0200
TZNAME:CEST
DTSTART:20260329T010000
END:DAYLIGHT
BEGIN:STANDARD
TZOFFSETFROM:+0200
TZOFFSETTO:+0100
TZNAME:CET
DTSTART:20261025T010000
END:STANDARD
BEGIN:DAYLIGHT
TZOFFSETFROM:+0100
TZOFFSETTO:+0200
TZNAME:CEST
DTSTART:20270328T010000
END:DAYLIGHT
BEGIN:STANDARD
TZOFFSETFROM:+0200
TZOFFSETTO:+0100
TZNAME:CET
DTSTART:20271031T010000
END:STANDARD
END:VTIMEZONE
BEGIN:VEVENT
DTSTART;TZID=Europe/Berlin:20260506T160000
DTEND;TZID=Europe/Berlin:20260506T183000
DTSTAMP:20260424T021437
CREATED:20260115T113915Z
LAST-MODIFIED:20260203T111508Z
UID:10089416-1778083200-1778092200@maulbeerblatt.com
SUMMARY:Nähen lernen in der KunstWerkstatt der KulturTribüne
DESCRIPTION:Wegwerfen war gestern.\nReparieren\, Nähen ist heute. \nUnter der Anleitung von Damenmaßschneiderin Bianca könnt ihr das Nähen lernen\, auch mit der Nähmaschine.\nBianca bietet ihren Nähkurs am Mittwoch 16:00 – 18:30 Uhr an.\nAnfänger sind herzlich willkommen\, eine Anmeldung ist erforderlich. Ihr könnt euch auch für einzelne Termine anmelden.\nAnmeldung bitte per E-Mail oder direkt im Kurs.\nNaeh-ich-mir@gmx.de\n(Kosten: 7 €)
URL:https://maulbeerblatt.com/termin/naehen-lernen-in-der-kunstwerkstatt-der-kulturtribuene/2026-05-06/
LOCATION:KulturTribüne vom Ortsverein Grünau e.V.\, KulturTribüne Grünau\, Regattastraße 191\, 12527 Berlin\, Berlin\, Berlin\, 12527\, Deutschland
CATEGORIES:Workshop
END:VEVENT
BEGIN:VEVENT
DTSTART;TZID=Europe/Berlin:20260506T180000
DTEND;TZID=Europe/Berlin:20260506T220000
DTSTAMP:20260424T021437
CREATED:20260115T113952Z
LAST-MODIFIED:20260115T113952Z
UID:10089394-1778090400-1778104800@maulbeerblatt.com
SUMMARY:GRANDiose Grünauer Skatfreunde
DESCRIPTION:Wettkampfskat in angenehmer Atmosphäre \nAlle sind herzlich willkommen!
URL:https://maulbeerblatt.com/termin/grandiose-gruenauer-skatfreunde/2026-05-06/
LOCATION:KulturTribüne vom Ortsverein Grünau e.V.\, KulturTribüne Grünau\, Regattastraße 191\, 12527 Berlin\, Berlin\, Berlin\, 12527\, Deutschland
CATEGORIES:Spiel & Spaß
END:VEVENT
BEGIN:VEVENT
DTSTART;TZID=Europe/Berlin:20260507T150000
DTEND;TZID=Europe/Berlin:20260507T180000
DTSTAMP:20260424T021437
CREATED:20260115T113811Z
LAST-MODIFIED:20260115T113811Z
UID:10089438-1778166000-1778176800@maulbeerblatt.com
SUMMARY:Kunstgespür
DESCRIPTION:Wöchentlicher Kunstkurs für Kinder und Jugendliche. \nInfos & Anmeldung: https://kunstgespür.de
URL:https://maulbeerblatt.com/termin/kunstgespuer/2026-05-07/
LOCATION:KulturTribüne vom Ortsverein Grünau e.V.\, KulturTribüne Grünau\, Regattastraße 191\, 12527 Berlin\, Berlin\, Berlin\, 12527\, Deutschland
CATEGORIES:Workshop
END:VEVENT
BEGIN:VEVENT
DTSTART;TZID=Europe/Berlin:20260507T160000
DTEND;TZID=Europe/Berlin:20260507T170000
DTSTAMP:20260424T021437
CREATED:20260303T151253Z
LAST-MODIFIED:20260303T151253Z
UID:10091685-1778169600-1778173200@maulbeerblatt.com
SUMMARY:Ingrid Weng: Natur wie ich sie sehe (Teil 2)
DESCRIPTION:Ingrid Weng ( geb. 1937) ist Hobbyfotografin\, eine Grünauerin in ihrem Kiez unterwegs. Ihre Eindrücke und Beobachtungen zeigt diese Ausstellung.\nDie Ausstellung ist bis zum 28.05.2026 zu sehen. \nEintritt frei
URL:https://maulbeerblatt.com/termin/ingrid-weng-natur-wie-ich-sie-sehe-teil-2/2026-05-07/
LOCATION:KulturTribüne vom Ortsverein Grünau e.V.\, KulturTribüne Grünau\, Regattastraße 191\, 12527 Berlin\, Berlin\, Berlin\, 12527\, Deutschland
CATEGORIES:Ausstellung
END:VEVENT
BEGIN:VEVENT
DTSTART;TZID=Europe/Berlin:20260507T190000
DTEND;TZID=Europe/Berlin:20260507T210000
DTSTAMP:20260424T021437
CREATED:20260401T091535Z
LAST-MODIFIED:20260401T091535Z
UID:10092981-1778180400-1778187600@maulbeerblatt.com
SUMMARY:Grünauer Jazz-Bar #18
DESCRIPTION:Im Mai wird das Café der KulturTribüne ausnahmsweise am 3. Donnerstag des Monats zur Grünauer Jazz-Bar mit speziellen Drinks\, Gesprächen und Musik auf Vinyl.\nSie möchten sich nach Feierabend mit Freunden auf ein Glas Wein oder einen Longdrink treffen? Dann sind Sie in der Grünauer Jazz-Bar genau richtig!\nHeute ohne Live-Musik!\nBringen Sie doch mal eine für Sie ganz besondere Schallplatte aus Ihrer Privat-Sammlung mit.\nWir hören sie gemeinsam und tauschen vielleicht Erinnerungen aus\, die wir mit der Musik verbinden.\nEintritt frei
URL:https://maulbeerblatt.com/termin/gruenauer-jazz-bar-18/
LOCATION:KulturTribüne vom Ortsverein Grünau e.V.\, KulturTribüne Grünau\, Regattastraße 191\, 12527 Berlin\, Berlin\, Berlin\, 12527\, Deutschland
CATEGORIES:Jazz
END:VEVENT
BEGIN:VEVENT
DTSTART;TZID=Europe/Berlin:20260508T160000
DTEND;TZID=Europe/Berlin:20260508T170000
DTSTAMP:20260424T021437
CREATED:20260303T151253Z
LAST-MODIFIED:20260303T151253Z
UID:10091686-1778256000-1778259600@maulbeerblatt.com
SUMMARY:Ingrid Weng: Natur wie ich sie sehe (Teil 2)
DESCRIPTION:Ingrid Weng ( geb. 1937) ist Hobbyfotografin\, eine Grünauerin in ihrem Kiez unterwegs. Ihre Eindrücke und Beobachtungen zeigt diese Ausstellung.\nDie Ausstellung ist bis zum 28.05.2026 zu sehen. \nEintritt frei
URL:https://maulbeerblatt.com/termin/ingrid-weng-natur-wie-ich-sie-sehe-teil-2/2026-05-08/
LOCATION:KulturTribüne vom Ortsverein Grünau e.V.\, KulturTribüne Grünau\, Regattastraße 191\, 12527 Berlin\, Berlin\, Berlin\, 12527\, Deutschland
CATEGORIES:Ausstellung
END:VEVENT
BEGIN:VEVENT
DTSTART;TZID=Europe/Berlin:20260509T160000
DTEND;TZID=Europe/Berlin:20260509T170000
DTSTAMP:20260424T021437
CREATED:20260303T151253Z
LAST-MODIFIED:20260303T151253Z
UID:10091687-1778342400-1778346000@maulbeerblatt.com
SUMMARY:Ingrid Weng: Natur wie ich sie sehe (Teil 2)
DESCRIPTION:Ingrid Weng ( geb. 1937) ist Hobbyfotografin\, eine Grünauerin in ihrem Kiez unterwegs. Ihre Eindrücke und Beobachtungen zeigt diese Ausstellung.\nDie Ausstellung ist bis zum 28.05.2026 zu sehen. \nEintritt frei
URL:https://maulbeerblatt.com/termin/ingrid-weng-natur-wie-ich-sie-sehe-teil-2/2026-05-09/
LOCATION:KulturTribüne vom Ortsverein Grünau e.V.\, KulturTribüne Grünau\, Regattastraße 191\, 12527 Berlin\, Berlin\, Berlin\, 12527\, Deutschland
CATEGORIES:Ausstellung
END:VEVENT
BEGIN:VEVENT
DTSTART;TZID=Europe/Berlin:20260509T160000
DTEND;TZID=Europe/Berlin:20260509T180000
DTSTAMP:20260424T021437
CREATED:20260325T101433Z
LAST-MODIFIED:20260325T101433Z
UID:10092970-1778342400-1778349600@maulbeerblatt.com
SUMMARY:Eun Che Kim und Kiana Reid
DESCRIPTION:Werke von Brahms\, Poulenc und Franck\nMit ihrer Kombination aus technischer Präzision\, emotionalem Spiel und reichhaltiger musikalischer Erfahrung wird Eun Che als fesselnde Geigerin und aufstrebendes Talent auf der internationalen klassischen Musikbühne anerkannt.\nAls Solistin trat Eun Che mit renommierten Orchestern weltweit auf\, darunter das Sinfonieorchester der Stadt Lemberg\, Baden-Baden Philharmonie\, Odense Symphony Orchestra\, Gangneung Symphony Orchestra\, Copenhagen Philharmonic und das Hungarian State Opera Orchestra.\nAuch als leidenschaftliche Kammermusikerin hat Eun Che mit herausragenden Musikern bei Festivals und Akademien zusammengearbeitet\, darunter das Krzyżowa Music Festival\, Gstaad Menuhin Festival & Akademie\, Kammermusik Akademie Hohenstaufen\, die Konzertreihe „Classy Sundays“\, die Kammermusik Akademie Nitzow und das Szent Gellért Festival. Sie ist außerdem Mitglied des Confringo Piano Quartet\, Gewinner des Deutschen Musikwettbewerbs und des Hans-Gál-Preises.\nIhre künstlerische Entwicklung wurde durch Meisterkurse bei renommierten Pädagogen und Künstlern wie Boris Kuschnir\, Gábor Takács-Nagy\, Michaela Martin u.a. geprägt.\nEun Che studiert derzeit an der Hochschule für Musik „Hanns Eisler“ in Berlin\, wo sie ihr Master Studium unter der Leitung von Prof. Ulf Wallin absolviert.\nEun Che spielt auf einer Enrico Rocca Geige von 1885. \nKiana Reid schloss ihr Studium an der Tokyo University of Arts als Jahrgangsbeste ab und trat im Kaiserpalast in Tokio vor der Kaiserlichen Familie auf. Anschließend setzte sie ihr Studium am Konservatorium in Bari (Italien) fort und studierte später Klavier bei Prof. Eldar Nebolsin sowie Kammermusik bei Jonathan Aner an der Hochschule für Musik Hanns Eisler Berlin.\nIm Jahr 2020 wurde sie als Stipendiatin für die Saison 2021–2022 des Projekts „Building Bridges for the Next Generation of Pianists“ ausgewählt\, das von András Schiff geleitet wird\, und unternahm in diesem Rahmen eine Europatournee. Sie erhielt Stipendien von der Yamaha Music Foundation\, der Rohm Music Foundation\, der Clavarte Foundation sowie von der Deutschen Orchesterstiftung.\nKiana Reid ist Preisträgerin zahlreicher internationaler Wettbewerbe\, darunter der 46. Palma d’Oro International Piano Competition\, der 2. Sergio Fiorentino International Piano Competition\, der International Colafemmina Piano Competition in Italien sowie der 3. Takamatsu International Piano Competition in Japan.\nZahlreiche Auftritte führten sie u. a. in renommierte Konzertsäle wie die Suntory Hall und die Tokyo Opera City Concert Hall in Japan\, den Musikverein in Österreich sowie den Pierre Boulez Saal und das Konzerthaus in Berlin oder die Zentrale Musikschule des Moskauer Tschaikowski Konservatoriums in Russland. Sie trat mit zahlreichen professionellen Orchestern auf\, darunter Orchestra Filarmonica Pugliese\, Orchestra Sinfonica Metropolitana di Bari\, Tochigi Philharmonic Orchestra\, Geidai Philharmonia Orchestra\, Takamatsu Symphony Orchestra\, Kansai Philharmonic Orchestra und Seto Philharmonic Orchestra.\nAls leidenschaftliche Kammermusikerin verfügt sie über umfangreiche Erfahrung in diesem Bereich. Im Jahr 2022 gründete sie ihr Klaviertrio Trio Ex\, das beim Internationalen Kammermusikwettbewerb in Lyon mit dem 3. Preis sowie dem Preis für das Auftragswerk ausgezeichnet wurde und zudem den 2. Preis beim Alice Samter-Kammermusikwettbewerb in Berlin gewann.\nDerzeit studiert sie an der Barenboim-Said Akademie unter der Leitung von András Schiff. \nEintritt: 15\,-€ (Karten nur an der Abendkasse)
URL:https://maulbeerblatt.com/termin/eun-che-kim-und-kiana-reid/
LOCATION:KulturTribüne vom Ortsverein Grünau e.V.\, KulturTribüne Grünau\, Regattastraße 191\, 12527 Berlin\, Berlin\, Berlin\, 12527\, Deutschland
CATEGORIES:Konzert
END:VEVENT
BEGIN:VEVENT
DTSTART;TZID=Europe/Berlin:20260510T160000
DTEND;TZID=Europe/Berlin:20260510T170000
DTSTAMP:20260424T021437
CREATED:20260303T151253Z
LAST-MODIFIED:20260303T151253Z
UID:10091688-1778428800-1778432400@maulbeerblatt.com
SUMMARY:Ingrid Weng: Natur wie ich sie sehe (Teil 2)
DESCRIPTION:Ingrid Weng ( geb. 1937) ist Hobbyfotografin\, eine Grünauerin in ihrem Kiez unterwegs. Ihre Eindrücke und Beobachtungen zeigt diese Ausstellung.\nDie Ausstellung ist bis zum 28.05.2026 zu sehen. \nEintritt frei
URL:https://maulbeerblatt.com/termin/ingrid-weng-natur-wie-ich-sie-sehe-teil-2/2026-05-10/
LOCATION:KulturTribüne vom Ortsverein Grünau e.V.\, KulturTribüne Grünau\, Regattastraße 191\, 12527 Berlin\, Berlin\, Berlin\, 12527\, Deutschland
CATEGORIES:Ausstellung
END:VEVENT
BEGIN:VEVENT
DTSTART;TZID=Europe/Berlin:20260511T160000
DTEND;TZID=Europe/Berlin:20260511T170000
DTSTAMP:20260424T021437
CREATED:20260303T151253Z
LAST-MODIFIED:20260303T151253Z
UID:10091689-1778515200-1778518800@maulbeerblatt.com
SUMMARY:Ingrid Weng: Natur wie ich sie sehe (Teil 2)
DESCRIPTION:Ingrid Weng ( geb. 1937) ist Hobbyfotografin\, eine Grünauerin in ihrem Kiez unterwegs. Ihre Eindrücke und Beobachtungen zeigt diese Ausstellung.\nDie Ausstellung ist bis zum 28.05.2026 zu sehen. \nEintritt frei
URL:https://maulbeerblatt.com/termin/ingrid-weng-natur-wie-ich-sie-sehe-teil-2/2026-05-11/
LOCATION:KulturTribüne vom Ortsverein Grünau e.V.\, KulturTribüne Grünau\, Regattastraße 191\, 12527 Berlin\, Berlin\, Berlin\, 12527\, Deutschland
CATEGORIES:Ausstellung
END:VEVENT
BEGIN:VEVENT
DTSTART;TZID=Europe/Berlin:20260511T190000
DTEND;TZID=Europe/Berlin:20260511T210000
DTSTAMP:20260424T021437
CREATED:20260115T101635Z
LAST-MODIFIED:20260115T114044Z
UID:10089351-1778526000-1778533200@maulbeerblatt.com
SUMMARY:Alles ist Rhythmus
DESCRIPTION:Spaß und Gemeinschaft beim Spielen von Rhythmen aus Afrika\, Kuba\, Brasilien und eigenen Grooves.\nMit Cajon + Boomwhacker + Djembe + Shaker + Bodypercussion\nAnmeldung unter: info@ortsverein-gruenau.de\nBeitrag: 8€
URL:https://maulbeerblatt.com/termin/alles-ist-rhythmus/2026-05-11/
LOCATION:KulturTribüne vom Ortsverein Grünau e.V.\, KulturTribüne Grünau\, Regattastraße 191\, 12527 Berlin\, Berlin\, Berlin\, 12527\, Deutschland
CATEGORIES:Musik -Theater
END:VEVENT
BEGIN:VEVENT
DTSTART;TZID=Europe/Berlin:20260512T160000
DTEND;TZID=Europe/Berlin:20260512T170000
DTSTAMP:20260424T021437
CREATED:20260303T151253Z
LAST-MODIFIED:20260303T151253Z
UID:10091690-1778601600-1778605200@maulbeerblatt.com
SUMMARY:Ingrid Weng: Natur wie ich sie sehe (Teil 2)
DESCRIPTION:Ingrid Weng ( geb. 1937) ist Hobbyfotografin\, eine Grünauerin in ihrem Kiez unterwegs. Ihre Eindrücke und Beobachtungen zeigt diese Ausstellung.\nDie Ausstellung ist bis zum 28.05.2026 zu sehen. \nEintritt frei
URL:https://maulbeerblatt.com/termin/ingrid-weng-natur-wie-ich-sie-sehe-teil-2/2026-05-12/
LOCATION:KulturTribüne vom Ortsverein Grünau e.V.\, KulturTribüne Grünau\, Regattastraße 191\, 12527 Berlin\, Berlin\, Berlin\, 12527\, Deutschland
CATEGORIES:Ausstellung
END:VEVENT
BEGIN:VEVENT
DTSTART;TZID=Europe/Berlin:20260513T140000
DTEND;TZID=Europe/Berlin:20260513T160000
DTSTAMP:20260424T021437
CREATED:20260115T101559Z
LAST-MODIFIED:20260115T101559Z
UID:10089373-1778680800-1778688000@maulbeerblatt.com
SUMMARY:SpieleNachmittag: Skat-\, Brett-\, Kartenspiele
DESCRIPTION:Spielbegeisterte Erwachsene sind herzlich eingeladen\, Spiele sind vorhanden.
URL:https://maulbeerblatt.com/termin/spielenachmittag-skat-brett-kartenspiele/2026-05-13/
LOCATION:KulturTribüne vom Ortsverein Grünau e.V.\, KulturTribüne Grünau\, Regattastraße 191\, 12527 Berlin\, Berlin\, Berlin\, 12527\, Deutschland
CATEGORIES:Spiel & Spaß
END:VEVENT
BEGIN:VEVENT
DTSTART;TZID=Europe/Berlin:20260513T160000
DTEND;TZID=Europe/Berlin:20260513T170000
DTSTAMP:20260424T021437
CREATED:20260303T151253Z
LAST-MODIFIED:20260303T151253Z
UID:10091691-1778688000-1778691600@maulbeerblatt.com
SUMMARY:Ingrid Weng: Natur wie ich sie sehe (Teil 2)
DESCRIPTION:Ingrid Weng ( geb. 1937) ist Hobbyfotografin\, eine Grünauerin in ihrem Kiez unterwegs. Ihre Eindrücke und Beobachtungen zeigt diese Ausstellung.\nDie Ausstellung ist bis zum 28.05.2026 zu sehen. \nEintritt frei
URL:https://maulbeerblatt.com/termin/ingrid-weng-natur-wie-ich-sie-sehe-teil-2/2026-05-13/
LOCATION:KulturTribüne vom Ortsverein Grünau e.V.\, KulturTribüne Grünau\, Regattastraße 191\, 12527 Berlin\, Berlin\, Berlin\, 12527\, Deutschland
CATEGORIES:Ausstellung
END:VEVENT
BEGIN:VEVENT
DTSTART;TZID=Europe/Berlin:20260513T160000
DTEND;TZID=Europe/Berlin:20260513T183000
DTSTAMP:20260424T021437
CREATED:20260115T113915Z
LAST-MODIFIED:20260203T111508Z
UID:10089417-1778688000-1778697000@maulbeerblatt.com
SUMMARY:Nähen lernen in der KunstWerkstatt der KulturTribüne
DESCRIPTION:Wegwerfen war gestern.\nReparieren\, Nähen ist heute. \nUnter der Anleitung von Damenmaßschneiderin Bianca könnt ihr das Nähen lernen\, auch mit der Nähmaschine.\nBianca bietet ihren Nähkurs am Mittwoch 16:00 – 18:30 Uhr an.\nAnfänger sind herzlich willkommen\, eine Anmeldung ist erforderlich. Ihr könnt euch auch für einzelne Termine anmelden.\nAnmeldung bitte per E-Mail oder direkt im Kurs.\nNaeh-ich-mir@gmx.de\n(Kosten: 7 €)
URL:https://maulbeerblatt.com/termin/naehen-lernen-in-der-kunstwerkstatt-der-kulturtribuene/2026-05-13/
LOCATION:KulturTribüne vom Ortsverein Grünau e.V.\, KulturTribüne Grünau\, Regattastraße 191\, 12527 Berlin\, Berlin\, Berlin\, 12527\, Deutschland
CATEGORIES:Workshop
END:VEVENT
BEGIN:VEVENT
DTSTART;TZID=Europe/Berlin:20260513T180000
DTEND;TZID=Europe/Berlin:20260513T220000
DTSTAMP:20260424T021437
CREATED:20260115T113952Z
LAST-MODIFIED:20260115T113952Z
UID:10089395-1778695200-1778709600@maulbeerblatt.com
SUMMARY:GRANDiose Grünauer Skatfreunde
DESCRIPTION:Wettkampfskat in angenehmer Atmosphäre \nAlle sind herzlich willkommen!
URL:https://maulbeerblatt.com/termin/grandiose-gruenauer-skatfreunde/2026-05-13/
LOCATION:KulturTribüne vom Ortsverein Grünau e.V.\, KulturTribüne Grünau\, Regattastraße 191\, 12527 Berlin\, Berlin\, Berlin\, 12527\, Deutschland
CATEGORIES:Spiel & Spaß
END:VEVENT
BEGIN:VEVENT
DTSTART;TZID=Europe/Berlin:20260514T150000
DTEND;TZID=Europe/Berlin:20260514T180000
DTSTAMP:20260424T021437
CREATED:20260115T113811Z
LAST-MODIFIED:20260115T113811Z
UID:10089439-1778770800-1778781600@maulbeerblatt.com
SUMMARY:Kunstgespür
DESCRIPTION:Wöchentlicher Kunstkurs für Kinder und Jugendliche. \nInfos & Anmeldung: https://kunstgespür.de
URL:https://maulbeerblatt.com/termin/kunstgespuer/2026-05-14/
LOCATION:KulturTribüne vom Ortsverein Grünau e.V.\, KulturTribüne Grünau\, Regattastraße 191\, 12527 Berlin\, Berlin\, Berlin\, 12527\, Deutschland
CATEGORIES:Workshop
END:VEVENT
BEGIN:VEVENT
DTSTART;TZID=Europe/Berlin:20260514T160000
DTEND;TZID=Europe/Berlin:20260514T170000
DTSTAMP:20260424T021437
CREATED:20260303T151253Z
LAST-MODIFIED:20260303T151253Z
UID:10091692-1778774400-1778778000@maulbeerblatt.com
SUMMARY:Ingrid Weng: Natur wie ich sie sehe (Teil 2)
DESCRIPTION:Ingrid Weng ( geb. 1937) ist Hobbyfotografin\, eine Grünauerin in ihrem Kiez unterwegs. Ihre Eindrücke und Beobachtungen zeigt diese Ausstellung.\nDie Ausstellung ist bis zum 28.05.2026 zu sehen. \nEintritt frei
URL:https://maulbeerblatt.com/termin/ingrid-weng-natur-wie-ich-sie-sehe-teil-2/2026-05-14/
LOCATION:KulturTribüne vom Ortsverein Grünau e.V.\, KulturTribüne Grünau\, Regattastraße 191\, 12527 Berlin\, Berlin\, Berlin\, 12527\, Deutschland
CATEGORIES:Ausstellung
END:VEVENT
BEGIN:VEVENT
DTSTART;TZID=Europe/Berlin:20260515T160000
DTEND;TZID=Europe/Berlin:20260515T170000
DTSTAMP:20260424T021437
CREATED:20260303T151253Z
LAST-MODIFIED:20260303T151253Z
UID:10091693-1778860800-1778864400@maulbeerblatt.com
SUMMARY:Ingrid Weng: Natur wie ich sie sehe (Teil 2)
DESCRIPTION:Ingrid Weng ( geb. 1937) ist Hobbyfotografin\, eine Grünauerin in ihrem Kiez unterwegs. Ihre Eindrücke und Beobachtungen zeigt diese Ausstellung.\nDie Ausstellung ist bis zum 28.05.2026 zu sehen. \nEintritt frei
URL:https://maulbeerblatt.com/termin/ingrid-weng-natur-wie-ich-sie-sehe-teil-2/2026-05-15/
LOCATION:KulturTribüne vom Ortsverein Grünau e.V.\, KulturTribüne Grünau\, Regattastraße 191\, 12527 Berlin\, Berlin\, Berlin\, 12527\, Deutschland
CATEGORIES:Ausstellung
END:VEVENT
BEGIN:VEVENT
DTSTART;TZID=Europe/Berlin:20260516T160000
DTEND;TZID=Europe/Berlin:20260516T170000
DTSTAMP:20260424T021437
CREATED:20260303T151253Z
LAST-MODIFIED:20260303T151253Z
UID:10091694-1778947200-1778950800@maulbeerblatt.com
SUMMARY:Ingrid Weng: Natur wie ich sie sehe (Teil 2)
DESCRIPTION:Ingrid Weng ( geb. 1937) ist Hobbyfotografin\, eine Grünauerin in ihrem Kiez unterwegs. Ihre Eindrücke und Beobachtungen zeigt diese Ausstellung.\nDie Ausstellung ist bis zum 28.05.2026 zu sehen. \nEintritt frei
URL:https://maulbeerblatt.com/termin/ingrid-weng-natur-wie-ich-sie-sehe-teil-2/2026-05-16/
LOCATION:KulturTribüne vom Ortsverein Grünau e.V.\, KulturTribüne Grünau\, Regattastraße 191\, 12527 Berlin\, Berlin\, Berlin\, 12527\, Deutschland
CATEGORIES:Ausstellung
END:VEVENT
BEGIN:VEVENT
DTSTART;TZID=Europe/Berlin:20260517T160000
DTEND;TZID=Europe/Berlin:20260517T170000
DTSTAMP:20260424T021437
CREATED:20260303T151253Z
LAST-MODIFIED:20260303T151253Z
UID:10091695-1779033600-1779037200@maulbeerblatt.com
SUMMARY:Ingrid Weng: Natur wie ich sie sehe (Teil 2)
DESCRIPTION:Ingrid Weng ( geb. 1937) ist Hobbyfotografin\, eine Grünauerin in ihrem Kiez unterwegs. Ihre Eindrücke und Beobachtungen zeigt diese Ausstellung.\nDie Ausstellung ist bis zum 28.05.2026 zu sehen. \nEintritt frei
URL:https://maulbeerblatt.com/termin/ingrid-weng-natur-wie-ich-sie-sehe-teil-2/2026-05-17/
LOCATION:KulturTribüne vom Ortsverein Grünau e.V.\, KulturTribüne Grünau\, Regattastraße 191\, 12527 Berlin\, Berlin\, Berlin\, 12527\, Deutschland
CATEGORIES:Ausstellung
END:VEVENT
BEGIN:VEVENT
DTSTART;TZID=Europe/Berlin:20260518T160000
DTEND;TZID=Europe/Berlin:20260518T170000
DTSTAMP:20260424T021437
CREATED:20260303T151253Z
LAST-MODIFIED:20260303T151253Z
UID:10091696-1779120000-1779123600@maulbeerblatt.com
SUMMARY:Ingrid Weng: Natur wie ich sie sehe (Teil 2)
DESCRIPTION:Ingrid Weng ( geb. 1937) ist Hobbyfotografin\, eine Grünauerin in ihrem Kiez unterwegs. Ihre Eindrücke und Beobachtungen zeigt diese Ausstellung.\nDie Ausstellung ist bis zum 28.05.2026 zu sehen. \nEintritt frei
URL:https://maulbeerblatt.com/termin/ingrid-weng-natur-wie-ich-sie-sehe-teil-2/2026-05-18/
LOCATION:KulturTribüne vom Ortsverein Grünau e.V.\, KulturTribüne Grünau\, Regattastraße 191\, 12527 Berlin\, Berlin\, Berlin\, 12527\, Deutschland
CATEGORIES:Ausstellung
END:VEVENT
BEGIN:VEVENT
DTSTART;TZID=Europe/Berlin:20260518T190000
DTEND;TZID=Europe/Berlin:20260518T210000
DTSTAMP:20260424T021437
CREATED:20260115T101635Z
LAST-MODIFIED:20260115T114044Z
UID:10089352-1779130800-1779138000@maulbeerblatt.com
SUMMARY:Alles ist Rhythmus
DESCRIPTION:Spaß und Gemeinschaft beim Spielen von Rhythmen aus Afrika\, Kuba\, Brasilien und eigenen Grooves.\nMit Cajon + Boomwhacker + Djembe + Shaker + Bodypercussion\nAnmeldung unter: info@ortsverein-gruenau.de\nBeitrag: 8€
URL:https://maulbeerblatt.com/termin/alles-ist-rhythmus/2026-05-18/
LOCATION:KulturTribüne vom Ortsverein Grünau e.V.\, KulturTribüne Grünau\, Regattastraße 191\, 12527 Berlin\, Berlin\, Berlin\, 12527\, Deutschland
CATEGORIES:Musik -Theater
END:VEVENT
BEGIN:VEVENT
DTSTART;TZID=Europe/Berlin:20260519T160000
DTEND;TZID=Europe/Berlin:20260519T170000
DTSTAMP:20260424T021437
CREATED:20260303T151253Z
LAST-MODIFIED:20260303T151253Z
UID:10091697-1779206400-1779210000@maulbeerblatt.com
SUMMARY:Ingrid Weng: Natur wie ich sie sehe (Teil 2)
DESCRIPTION:Ingrid Weng ( geb. 1937) ist Hobbyfotografin\, eine Grünauerin in ihrem Kiez unterwegs. Ihre Eindrücke und Beobachtungen zeigt diese Ausstellung.\nDie Ausstellung ist bis zum 28.05.2026 zu sehen. \nEintritt frei
URL:https://maulbeerblatt.com/termin/ingrid-weng-natur-wie-ich-sie-sehe-teil-2/2026-05-19/
LOCATION:KulturTribüne vom Ortsverein Grünau e.V.\, KulturTribüne Grünau\, Regattastraße 191\, 12527 Berlin\, Berlin\, Berlin\, 12527\, Deutschland
CATEGORIES:Ausstellung
END:VEVENT
BEGIN:VEVENT
DTSTART;TZID=Europe/Berlin:20260520T140000
DTEND;TZID=Europe/Berlin:20260520T160000
DTSTAMP:20260424T021437
CREATED:20260115T101559Z
LAST-MODIFIED:20260115T101559Z
UID:10089374-1779285600-1779292800@maulbeerblatt.com
SUMMARY:SpieleNachmittag: Skat-\, Brett-\, Kartenspiele
DESCRIPTION:Spielbegeisterte Erwachsene sind herzlich eingeladen\, Spiele sind vorhanden.
URL:https://maulbeerblatt.com/termin/spielenachmittag-skat-brett-kartenspiele/2026-05-20/
LOCATION:KulturTribüne vom Ortsverein Grünau e.V.\, KulturTribüne Grünau\, Regattastraße 191\, 12527 Berlin\, Berlin\, Berlin\, 12527\, Deutschland
CATEGORIES:Spiel & Spaß
END:VEVENT
BEGIN:VEVENT
DTSTART;TZID=Europe/Berlin:20260520T160000
DTEND;TZID=Europe/Berlin:20260520T170000
DTSTAMP:20260424T021437
CREATED:20260303T151253Z
LAST-MODIFIED:20260303T151253Z
UID:10091698-1779292800-1779296400@maulbeerblatt.com
SUMMARY:Ingrid Weng: Natur wie ich sie sehe (Teil 2)
DESCRIPTION:Ingrid Weng ( geb. 1937) ist Hobbyfotografin\, eine Grünauerin in ihrem Kiez unterwegs. Ihre Eindrücke und Beobachtungen zeigt diese Ausstellung.\nDie Ausstellung ist bis zum 28.05.2026 zu sehen. \nEintritt frei
URL:https://maulbeerblatt.com/termin/ingrid-weng-natur-wie-ich-sie-sehe-teil-2/2026-05-20/
LOCATION:KulturTribüne vom Ortsverein Grünau e.V.\, KulturTribüne Grünau\, Regattastraße 191\, 12527 Berlin\, Berlin\, Berlin\, 12527\, Deutschland
CATEGORIES:Ausstellung
END:VEVENT
BEGIN:VEVENT
DTSTART;TZID=Europe/Berlin:20260520T160000
DTEND;TZID=Europe/Berlin:20260520T183000
DTSTAMP:20260424T021437
CREATED:20260115T113915Z
LAST-MODIFIED:20260203T111508Z
UID:10089418-1779292800-1779301800@maulbeerblatt.com
SUMMARY:Nähen lernen in der KunstWerkstatt der KulturTribüne
DESCRIPTION:Wegwerfen war gestern.\nReparieren\, Nähen ist heute. \nUnter der Anleitung von Damenmaßschneiderin Bianca könnt ihr das Nähen lernen\, auch mit der Nähmaschine.\nBianca bietet ihren Nähkurs am Mittwoch 16:00 – 18:30 Uhr an.\nAnfänger sind herzlich willkommen\, eine Anmeldung ist erforderlich. Ihr könnt euch auch für einzelne Termine anmelden.\nAnmeldung bitte per E-Mail oder direkt im Kurs.\nNaeh-ich-mir@gmx.de\n(Kosten: 7 €)
URL:https://maulbeerblatt.com/termin/naehen-lernen-in-der-kunstwerkstatt-der-kulturtribuene/2026-05-20/
LOCATION:KulturTribüne vom Ortsverein Grünau e.V.\, KulturTribüne Grünau\, Regattastraße 191\, 12527 Berlin\, Berlin\, Berlin\, 12527\, Deutschland
CATEGORIES:Workshop
END:VEVENT
BEGIN:VEVENT
DTSTART;TZID=Europe/Berlin:20260520T180000
DTEND;TZID=Europe/Berlin:20260520T220000
DTSTAMP:20260424T021437
CREATED:20260115T113952Z
LAST-MODIFIED:20260115T113952Z
UID:10089396-1779300000-1779314400@maulbeerblatt.com
SUMMARY:GRANDiose Grünauer Skatfreunde
DESCRIPTION:Wettkampfskat in angenehmer Atmosphäre \nAlle sind herzlich willkommen!
URL:https://maulbeerblatt.com/termin/grandiose-gruenauer-skatfreunde/2026-05-20/
LOCATION:KulturTribüne vom Ortsverein Grünau e.V.\, KulturTribüne Grünau\, Regattastraße 191\, 12527 Berlin\, Berlin\, Berlin\, 12527\, Deutschland
CATEGORIES:Spiel & Spaß
END:VEVENT
BEGIN:VEVENT
DTSTART;TZID=Europe/Berlin:20260521T150000
DTEND;TZID=Europe/Berlin:20260521T180000
DTSTAMP:20260424T021437
CREATED:20260115T113811Z
LAST-MODIFIED:20260115T113811Z
UID:10089440-1779375600-1779386400@maulbeerblatt.com
SUMMARY:Kunstgespür
DESCRIPTION:Wöchentlicher Kunstkurs für Kinder und Jugendliche. \nInfos & Anmeldung: https://kunstgespür.de
URL:https://maulbeerblatt.com/termin/kunstgespuer/2026-05-21/
LOCATION:KulturTribüne vom Ortsverein Grünau e.V.\, KulturTribüne Grünau\, Regattastraße 191\, 12527 Berlin\, Berlin\, Berlin\, 12527\, Deutschland
CATEGORIES:Workshop
END:VEVENT
BEGIN:VEVENT
DTSTART;TZID=Europe/Berlin:20260521T160000
DTEND;TZID=Europe/Berlin:20260521T170000
DTSTAMP:20260424T021437
CREATED:20260303T151253Z
LAST-MODIFIED:20260303T151253Z
UID:10091699-1779379200-1779382800@maulbeerblatt.com
SUMMARY:Ingrid Weng: Natur wie ich sie sehe (Teil 2)
DESCRIPTION:Ingrid Weng ( geb. 1937) ist Hobbyfotografin\, eine Grünauerin in ihrem Kiez unterwegs. Ihre Eindrücke und Beobachtungen zeigt diese Ausstellung.\nDie Ausstellung ist bis zum 28.05.2026 zu sehen. \nEintritt frei
URL:https://maulbeerblatt.com/termin/ingrid-weng-natur-wie-ich-sie-sehe-teil-2/2026-05-21/
LOCATION:KulturTribüne vom Ortsverein Grünau e.V.\, KulturTribüne Grünau\, Regattastraße 191\, 12527 Berlin\, Berlin\, Berlin\, 12527\, Deutschland
CATEGORIES:Ausstellung
END:VEVENT
END:VCALENDAR